BEGIN:VCALENDAR
VERSION:2.0
PRODID:-//Milstead With Frinsted WI - ECPv6.12.0//NONSGML v1.0//EN
CALSCALE:GREGORIAN
METHOD:PUBLISH
X-ORIGINAL-URL:http://www.milsteadwithfrinstedwi.co.uk
X-WR-CALDESC:Events for Milstead With Frinsted WI
REFRESH-INTERVAL;VALUE=DURATION:PT1H
X-Robots-Tag:noindex
X-PUBLISHED-TTL:PT1H
BEGIN:VTIMEZONE
TZID:UTC
BEGIN:STANDARD
TZOFFSETFROM:+0000
TZOFFSETTO:+0000
TZNAME:UTC
DTSTART:20240101T000000
END:STANDARD
END:VTIMEZONE
BEGIN:VEVENT
DTSTART;TZID=UTC:20240323T130000
DTEND;TZID=UTC:20240323T170000
DTSTAMP:20260425T104212
CREATED:20240312T094037Z
LAST-MODIFIED:20240312T094037Z
UID:2078-1711198800-1711213200@www.milsteadwithfrinstedwi.co.uk
SUMMARY:Saturday lunch club
DESCRIPTION:Red lion Milstead – 1pm \nLet Angela know if you are going
URL:http://www.milsteadwithfrinstedwi.co.uk/event/saturday-lunch-club-2/
LOCATION:Red Lion Milsted\, Rawling Stree\, Sittingbourne\, ME9 0RT
END:VEVENT
END:VCALENDAR