BEGIN:VCALENDAR
VERSION:2.0
PRODID:-//Milstead With Frinsted WI - ECPv6.12.0//NONSGML v1.0//EN
CALSCALE:GREGORIAN
METHOD:PUBLISH
X-WR-CALNAME:Milstead With Frinsted WI
X-ORIGINAL-URL:http://www.milsteadwithfrinstedwi.co.uk
X-WR-CALDESC:Events for Milstead With Frinsted WI
REFRESH-INTERVAL;VALUE=DURATION:PT1H
X-Robots-Tag:noindex
X-PUBLISHED-TTL:PT1H
BEGIN:VTIMEZONE
TZID:UTC
BEGIN:STANDARD
TZOFFSETFROM:+0000
TZOFFSETTO:+0000
TZNAME:UTC
DTSTART:20240101T000000
END:STANDARD
END:VTIMEZONE
BEGIN:VEVENT
DTSTART;TZID=UTC:20240715T100000
DTEND;TZID=UTC:20240715T170000
DTSTAMP:20260425T035618
CREATED:20240528T081450Z
LAST-MODIFIED:20240528T081450Z
UID:2153-1721037600-1721062800@www.milsteadwithfrinstedwi.co.uk
SUMMARY:New age Kurling
DESCRIPTION:New Age Kurling – at Chartham. An introduction to Kurling – NOT ON ICE! £14. Please sign the list on the board.
URL:http://www.milsteadwithfrinstedwi.co.uk/event/new-age-kurling/
END:VEVENT
END:VCALENDAR