BEGIN:VCALENDAR
VERSION:2.0
PRODID:-//Milstead With Frinsted WI - ECPv6.12.0//NONSGML v1.0//EN
CALSCALE:GREGORIAN
METHOD:PUBLISH
X-ORIGINAL-URL:http://www.milsteadwithfrinstedwi.co.uk
X-WR-CALDESC:Events for Milstead With Frinsted WI
REFRESH-INTERVAL;VALUE=DURATION:PT1H
X-Robots-Tag:noindex
X-PUBLISHED-TTL:PT1H
BEGIN:VTIMEZONE
TZID:UTC
BEGIN:STANDARD
TZOFFSETFROM:+0000
TZOFFSETTO:+0000
TZNAME:UTC
DTSTART:20240101T000000
END:STANDARD
END:VTIMEZONE
BEGIN:VEVENT
DTSTART;TZID=UTC:20241205T080000
DTEND;TZID=UTC:20241208T170000
DTSTAMP:20260422T153633
CREATED:20241111T081419Z
LAST-MODIFIED:20241111T081419Z
UID:2226-1733385600-1733677200@www.milsteadwithfrinstedwi.co.uk
SUMMARY:Christmas Tree Festival at Tunstall Church
DESCRIPTION:Christmas Tree Festival at Tunstall Church – please pop in to\nsupport the event and to admire the WI Christmas tree on\nshow. Thank you to Sophia for organising this.
URL:http://www.milsteadwithfrinstedwi.co.uk/event/christmas-tree-festival-at-tunstall-church/
END:VEVENT
END:VCALENDAR