BEGIN:VCALENDAR
VERSION:2.0
PRODID:-//Milstead With Frinsted WI - ECPv6.12.0//NONSGML v1.0//EN
CALSCALE:GREGORIAN
METHOD:PUBLISH
X-ORIGINAL-URL:http://www.milsteadwithfrinstedwi.co.uk
X-WR-CALDESC:Events for Milstead With Frinsted WI
REFRESH-INTERVAL;VALUE=DURATION:PT1H
X-Robots-Tag:noindex
X-PUBLISHED-TTL:PT1H
BEGIN:VTIMEZONE
TZID:UTC
BEGIN:STANDARD
TZOFFSETFROM:+0000
TZOFFSETTO:+0000
TZNAME:UTC
DTSTART:20240101T000000
END:STANDARD
END:VTIMEZONE
BEGIN:VEVENT
DTSTART;TZID=UTC:20241214T130000
DTEND;TZID=UTC:20241214T170000
DTSTAMP:20260422T153718
CREATED:20241008T072324Z
LAST-MODIFIED:20241008T072324Z
UID:2196-1734181200-1734195600@www.milsteadwithfrinstedwi.co.uk
SUMMARY:Christmas lunch - Plough Lewson Street
DESCRIPTION:WI Christmas Lunch at The Plough\, Lewson Street – 1:00 pm. Please sign the list if you would like to come along and pay the £10 deposit to Angela
URL:http://www.milsteadwithfrinstedwi.co.uk/event/christmas-lunch-plough-lewson-street/
END:VEVENT
END:VCALENDAR