BEGIN:VCALENDAR
VERSION:2.0
PRODID:-//Milstead With Frinsted WI - ECPv6.12.0//NONSGML v1.0//EN
CALSCALE:GREGORIAN
METHOD:PUBLISH
X-WR-CALNAME:Milstead With Frinsted WI
X-ORIGINAL-URL:http://www.milsteadwithfrinstedwi.co.uk
X-WR-CALDESC:Events for Milstead With Frinsted WI
REFRESH-INTERVAL;VALUE=DURATION:PT1H
X-Robots-Tag:noindex
X-PUBLISHED-TTL:PT1H
BEGIN:VTIMEZONE
TZID:UTC
BEGIN:STANDARD
TZOFFSETFROM:+0000
TZOFFSETTO:+0000
TZNAME:UTC
DTSTART:20240101T000000
END:STANDARD
END:VTIMEZONE
BEGIN:VEVENT
DTSTART;TZID=UTC:20241217T190000
DTEND;TZID=UTC:20241217T190000
DTSTAMP:20260422T153440
CREATED:20241008T072421Z
LAST-MODIFIED:20241111T081743Z
UID:2198-1734462000-1734462000@www.milsteadwithfrinstedwi.co.uk
SUMMARY:Film night - The Light Cinema - The Nutcracker
DESCRIPTION:  \nThe WI Film Club will be going to see The Nutcracker a\nstreaming by The Royal Ballet\nMore info is available on the notice board\nPlease let Claire know if you would like to attend\nBellamedlar53@gmail.com\n07502 370550
URL:http://www.milsteadwithfrinstedwi.co.uk/event/film-night-the-light-cinema-3/
END:VEVENT
END:VCALENDAR