BEGIN:VCALENDAR
VERSION:2.0
PRODID:-//Milstead With Frinsted WI - ECPv6.12.0//NONSGML v1.0//EN
CALSCALE:GREGORIAN
METHOD:PUBLISH
X-ORIGINAL-URL:http://www.milsteadwithfrinstedwi.co.uk
X-WR-CALDESC:Events for Milstead With Frinsted WI
REFRESH-INTERVAL;VALUE=DURATION:PT1H
X-Robots-Tag:noindex
X-PUBLISHED-TTL:PT1H
BEGIN:VTIMEZONE
TZID:UTC
BEGIN:STANDARD
TZOFFSETFROM:+0000
TZOFFSETTO:+0000
TZNAME:UTC
DTSTART:20250101T000000
END:STANDARD
END:VTIMEZONE
BEGIN:VEVENT
DTSTART;TZID=UTC:20250121T103000
DTEND;TZID=UTC:20250121T170000
DTSTAMP:20260420T225531
CREATED:20241209T142155Z
LAST-MODIFIED:20241209T142155Z
UID:2249-1737455400-1737478800@www.milsteadwithfrinstedwi.co.uk
SUMMARY:Coffee morning - Red Lion Milstead
DESCRIPTION:Coffee morning at The Red Lion – Milstead @ 10.30am \nPlease give names to Claire on Bellamedlar53@gmail.com \n07502 370550
URL:http://www.milsteadwithfrinstedwi.co.uk/event/coffee-morning-red-lion-milstead/
LOCATION:Red Lion Milsted\, Rawling Stree\, Sittingbourne\, ME9 0RT
END:VEVENT
END:VCALENDAR