BEGIN:VCALENDAR
VERSION:2.0
PRODID:-//Milstead With Frinsted WI - ECPv6.12.0//NONSGML v1.0//EN
CALSCALE:GREGORIAN
METHOD:PUBLISH
X-WR-CALNAME:Milstead With Frinsted WI
X-ORIGINAL-URL:http://www.milsteadwithfrinstedwi.co.uk
X-WR-CALDESC:Events for Milstead With Frinsted WI
REFRESH-INTERVAL;VALUE=DURATION:PT1H
X-Robots-Tag:noindex
X-PUBLISHED-TTL:PT1H
BEGIN:VTIMEZONE
TZID:UTC
BEGIN:STANDARD
TZOFFSETFROM:+0000
TZOFFSETTO:+0000
TZNAME:UTC
DTSTART:20250101T000000
END:STANDARD
END:VTIMEZONE
BEGIN:VEVENT
DTSTART;TZID=UTC:20250302T140000
DTEND;TZID=UTC:20250302T160000
DTSTAMP:20260420T015802
CREATED:20241209T142431Z
LAST-MODIFIED:20250227T101107Z
UID:2253-1740924000-1740931200@www.milsteadwithfrinstedwi.co.uk
SUMMARY:Lets Dance
DESCRIPTION:Let’s Dance – an invitation to join other members at Milstead Village Hall from 2 – 4 pm to enjoy ‘keeping dancing’! \nThis is free and members may bring a friend. Please sign the list or let\nAngela know if you would like to come along
URL:http://www.milsteadwithfrinstedwi.co.uk/event/lets-dance/
LOCATION:Milstead Village Hall\, Rawling Street\, Sittingbourne\, Kent\, ME9 0RU\, United Kingdom
END:VEVENT
END:VCALENDAR