BEGIN:VCALENDAR
VERSION:2.0
PRODID:-//Milstead With Frinsted WI - ECPv6.12.0//NONSGML v1.0//EN
CALSCALE:GREGORIAN
METHOD:PUBLISH
X-WR-CALNAME:Milstead With Frinsted WI
X-ORIGINAL-URL:http://www.milsteadwithfrinstedwi.co.uk
X-WR-CALDESC:Events for Milstead With Frinsted WI
REFRESH-INTERVAL;VALUE=DURATION:PT1H
X-Robots-Tag:noindex
X-PUBLISHED-TTL:PT1H
BEGIN:VTIMEZONE
TZID:UTC
BEGIN:STANDARD
TZOFFSETFROM:+0000
TZOFFSETTO:+0000
TZNAME:UTC
DTSTART:20250101T000000
END:STANDARD
END:VTIMEZONE
BEGIN:VEVENT
DTSTART;TZID=UTC:20250308T080000
DTEND;TZID=UTC:20250308T170000
DTSTAMP:20260420T015903
CREATED:20250227T101210Z
LAST-MODIFIED:20250227T101250Z
UID:2267-1741420800-1741453200@www.milsteadwithfrinstedwi.co.uk
SUMMARY:International Womens day
DESCRIPTION:Information on this is on page 27\nof your WI magazine ‘WI Life’. If you get the chance listen on\ncatch up on BBC Radio 4 to the lawyer\, Nemone Lethbridge’s\nDesert Island Discs. It will show how far we have come in 50\nyears but make us aware of how far we still have to go.
URL:http://www.milsteadwithfrinstedwi.co.uk/event/international-womens-day/
END:VEVENT
END:VCALENDAR