BEGIN:VCALENDAR
VERSION:2.0
PRODID:-//Milstead With Frinsted WI - ECPv6.12.0//NONSGML v1.0//EN
CALSCALE:GREGORIAN
METHOD:PUBLISH
X-ORIGINAL-URL:http://www.milsteadwithfrinstedwi.co.uk
X-WR-CALDESC:Events for Milstead With Frinsted WI
REFRESH-INTERVAL;VALUE=DURATION:PT1H
X-Robots-Tag:noindex
X-PUBLISHED-TTL:PT1H
BEGIN:VTIMEZONE
TZID:UTC
BEGIN:STANDARD
TZOFFSETFROM:+0000
TZOFFSETTO:+0000
TZNAME:UTC
DTSTART:20250101T000000
END:STANDARD
END:VTIMEZONE
BEGIN:VEVENT
DTSTART;TZID=UTC:20250517T100000
DTEND;TZID=UTC:20250517T130000
DTSTAMP:20260419T224514
CREATED:20250408T140836Z
LAST-MODIFIED:20250408T140836Z
UID:2307-1747476000-1747486800@www.milsteadwithfrinstedwi.co.uk
SUMMARY:CPR training
DESCRIPTION:Always beneficial whether new to this or being\nupdated. training  will be delivered by Simon James White from Heart
URL:http://www.milsteadwithfrinstedwi.co.uk/event/cpr-training/
LOCATION:Milstead Village Hall\, Rawling Street\, Sittingbourne\, Kent\, ME9 0RU\, United Kingdom
END:VEVENT
END:VCALENDAR