BEGIN:VCALENDAR
VERSION:2.0
PRODID:-//Milstead With Frinsted WI - ECPv6.12.0//NONSGML v1.0//EN
CALSCALE:GREGORIAN
METHOD:PUBLISH
X-WR-CALNAME:Milstead With Frinsted WI
X-ORIGINAL-URL:http://www.milsteadwithfrinstedwi.co.uk
X-WR-CALDESC:Events for Milstead With Frinsted WI
REFRESH-INTERVAL;VALUE=DURATION:PT1H
X-Robots-Tag:noindex
X-PUBLISHED-TTL:PT1H
BEGIN:VTIMEZONE
TZID:UTC
BEGIN:STANDARD
TZOFFSETFROM:+0000
TZOFFSETTO:+0000
TZNAME:UTC
DTSTART:20250101T000000
END:STANDARD
END:VTIMEZONE
BEGIN:VEVENT
DTSTART;TZID=UTC:20250519T183000
DTEND;TZID=UTC:20250519T220000
DTSTAMP:20260419T224508
CREATED:20250227T102304Z
LAST-MODIFIED:20250227T102304Z
UID:2280-1747679400-1747692000@www.milsteadwithfrinstedwi.co.uk
SUMMARY:pop up show and Fashion show
DESCRIPTION:A Ladies Pop Up Shop and Fun Fashion Show\, being run by\nSeasalter WI at the children’s center (CT5 4AX) and selling\ngarments at up to 70% off. £8. Tickets are available on 07769\n735336 or 07976 273762 or let Angela know if you are\ninterested.
URL:http://www.milsteadwithfrinstedwi.co.uk/event/pop-up-show-and-fashion-show/
END:VEVENT
END:VCALENDAR