BEGIN:VCALENDAR
VERSION:2.0
PRODID:-//Milstead With Frinsted WI - ECPv6.12.0//NONSGML v1.0//EN
CALSCALE:GREGORIAN
METHOD:PUBLISH
X-WR-CALNAME:Milstead With Frinsted WI
X-ORIGINAL-URL:http://www.milsteadwithfrinstedwi.co.uk
X-WR-CALDESC:Events for Milstead With Frinsted WI
REFRESH-INTERVAL;VALUE=DURATION:PT1H
X-Robots-Tag:noindex
X-PUBLISHED-TTL:PT1H
BEGIN:VTIMEZONE
TZID:UTC
BEGIN:STANDARD
TZOFFSETFROM:+0000
TZOFFSETTO:+0000
TZNAME:UTC
DTSTART:20250101T000000
END:STANDARD
END:VTIMEZONE
BEGIN:VEVENT
DTSTART;TZID=UTC:20250528T093000
DTEND;TZID=UTC:20250528T170000
DTSTAMP:20260419T205226
CREATED:20250227T102540Z
LAST-MODIFIED:20250227T102540Z
UID:2284-1748424600-1748451600@www.milsteadwithfrinstedwi.co.uk
SUMMARY:Summer Garden Day at Canterbury Academy
DESCRIPTION:Summer Garden Day at Canterbury Academy CT2 8QA – am\nspeakers on Food Additives and on The Enchanted garden and\nin the afternoon a floral demonstration ‘Nature’s Pharmacy’.\nTickets available from Federation Office or talk to Angela
URL:http://www.milsteadwithfrinstedwi.co.uk/event/summer-garden-day-at-canterbury-academy/
END:VEVENT
END:VCALENDAR