BEGIN:VCALENDAR
VERSION:2.0
PRODID:-//Milstead With Frinsted WI - ECPv6.12.0//NONSGML v1.0//EN
CALSCALE:GREGORIAN
METHOD:PUBLISH
X-ORIGINAL-URL:http://www.milsteadwithfrinstedwi.co.uk
X-WR-CALDESC:Events for Milstead With Frinsted WI
REFRESH-INTERVAL;VALUE=DURATION:PT1H
X-Robots-Tag:noindex
X-PUBLISHED-TTL:PT1H
BEGIN:VTIMEZONE
TZID:UTC
BEGIN:STANDARD
TZOFFSETFROM:+0000
TZOFFSETTO:+0000
TZNAME:UTC
DTSTART:20250101T000000
END:STANDARD
END:VTIMEZONE
BEGIN:VEVENT
DTSTART;TZID=UTC:20250607T113000
DTEND;TZID=UTC:20250607T170000
DTSTAMP:20260419T205336
CREATED:20250227T102731Z
LAST-MODIFIED:20250227T102731Z
UID:2288-1749295800-1749315600@www.milsteadwithfrinstedwi.co.uk
SUMMARY:Litter pick - Milstead
DESCRIPTION:Litter Pick. 7 – 15 June is the WI’s Big Green Week when WIs\nare encouraged to do something ‘green’. We will be meeting at\nMilstead Village Hall at 11:30 to litter pick in Milstead. Picking-\nup equipment will be provided but please bring your own gloves
URL:http://www.milsteadwithfrinstedwi.co.uk/event/litter-pick-milstead/
END:VEVENT
END:VCALENDAR