BEGIN:VCALENDAR
VERSION:2.0
PRODID:-//Milstead With Frinsted WI - ECPv6.12.0//NONSGML v1.0//EN
CALSCALE:GREGORIAN
METHOD:PUBLISH
X-WR-CALNAME:Milstead With Frinsted WI
X-ORIGINAL-URL:http://www.milsteadwithfrinstedwi.co.uk
X-WR-CALDESC:Events for Milstead With Frinsted WI
REFRESH-INTERVAL;VALUE=DURATION:PT1H
X-Robots-Tag:noindex
X-PUBLISHED-TTL:PT1H
BEGIN:VTIMEZONE
TZID:UTC
BEGIN:STANDARD
TZOFFSETFROM:+0000
TZOFFSETTO:+0000
TZNAME:UTC
DTSTART:20250101T000000
END:STANDARD
END:VTIMEZONE
BEGIN:VEVENT
DTSTART;TZID=UTC:20250703T190000
DTEND;TZID=UTC:20250703T190000
DTSTAMP:20260419T190800
CREATED:20250227T103102Z
LAST-MODIFIED:20250227T103102Z
UID:2292-1751569200-1751569200@www.milsteadwithfrinstedwi.co.uk
SUMMARY:Garden Party
DESCRIPTION:Garden Party – at Wormshill Village Hall. Entertainment will be\nprovided by a 3 piece swing band\, Blitz and Pieces\, celebrating \nthe music of the 40s – this being 80 years since the Second\nWorld War ended. \nDetails to follow re the buffet provision and\ncar sharing .
URL:http://www.milsteadwithfrinstedwi.co.uk/event/garden-party/
END:VEVENT
END:VCALENDAR