BEGIN:VCALENDAR
VERSION:2.0
PRODID:-//Milstead With Frinsted WI - ECPv6.12.0//NONSGML v1.0//EN
CALSCALE:GREGORIAN
METHOD:PUBLISH
X-ORIGINAL-URL:http://www.milsteadwithfrinstedwi.co.uk
X-WR-CALDESC:Events for Milstead With Frinsted WI
REFRESH-INTERVAL;VALUE=DURATION:PT1H
X-Robots-Tag:noindex
X-PUBLISHED-TTL:PT1H
BEGIN:VTIMEZONE
TZID:UTC
BEGIN:STANDARD
TZOFFSETFROM:+0000
TZOFFSETTO:+0000
TZNAME:UTC
DTSTART:20250101T000000
END:STANDARD
END:VTIMEZONE
BEGIN:VEVENT
DTSTART;TZID=UTC:20250704T193000
DTEND;TZID=UTC:20250704T220000
DTSTAMP:20260419T190835
CREATED:20250626T102353Z
LAST-MODIFIED:20250626T102353Z
UID:2339-1751657400-1751666400@www.milsteadwithfrinstedwi.co.uk
SUMMARY:Avenue theatre trip - Film
DESCRIPTION:Avenue Theatre a film about Richard Burton called Mr Burton. Please let Denise know if you are interested in attending
URL:http://www.milsteadwithfrinstedwi.co.uk/event/avenue-theatre-trip-film/
END:VEVENT
END:VCALENDAR