BEGIN:VCALENDAR
VERSION:2.0
PRODID:-//Milstead With Frinsted WI - ECPv6.12.0//NONSGML v1.0//EN
CALSCALE:GREGORIAN
METHOD:PUBLISH
X-ORIGINAL-URL:http://www.milsteadwithfrinstedwi.co.uk
X-WR-CALDESC:Events for Milstead With Frinsted WI
REFRESH-INTERVAL;VALUE=DURATION:PT1H
X-Robots-Tag:noindex
X-PUBLISHED-TTL:PT1H
BEGIN:VTIMEZONE
TZID:UTC
BEGIN:STANDARD
TZOFFSETFROM:+0000
TZOFFSETTO:+0000
TZNAME:UTC
DTSTART:20230101T000000
END:STANDARD
END:VTIMEZONE
BEGIN:VEVENT
DTSTART;TZID=UTC:20230928T133000
DTEND;TZID=UTC:20230928T170000
DTSTAMP:20260419T213258
CREATED:20230908T064352Z
LAST-MODIFIED:20230908T064352Z
UID:2007-1695907800-1695920400@www.milsteadwithfrinstedwi.co.uk
SUMMARY:Top Team Quiz
DESCRIPTION:
URL:http://www.milsteadwithfrinstedwi.co.uk/event/top-team-quiz-2/
END:VEVENT
BEGIN:VEVENT
DTSTART;TZID=UTC:20230926T110000
DTEND;TZID=UTC:20230926T120000
DTSTAMP:20260419T213258
CREATED:20230908T064027Z
LAST-MODIFIED:20230908T064027Z
UID:2003-1695726000-1695729600@www.milsteadwithfrinstedwi.co.uk
SUMMARY:Coffee Morning
DESCRIPTION:Rodmersham Coffe shop – 11am
URL:http://www.milsteadwithfrinstedwi.co.uk/event/coffee-morning-7/
LOCATION:Rodmersham coffee shop\, Rodmersham Green\, Sittingbourne\, ME9 0PL\, United Kingdom
END:VEVENT
BEGIN:VEVENT
DTSTART;TZID=UTC:20230919T100000
DTEND;TZID=UTC:20230919T170000
DTSTAMP:20260419T213258
CREATED:20230803T071304Z
LAST-MODIFIED:20230803T071304Z
UID:1992-1695117600-1695142800@www.milsteadwithfrinstedwi.co.uk
SUMMARY:Bordon WI coach trip to Eltham Palace
DESCRIPTION:It is £24.50 or £22.50 for concessions. The coach will pick up opposite the Maypole Inn\, Borden or The Consiton Hotel\, Sittingbourne. \nFor more details please contact Eileen Harrison or Angela.
URL:http://www.milsteadwithfrinstedwi.co.uk/event/bordon-wi-coach-trip-to-eltham-palace/
END:VEVENT
BEGIN:VEVENT
DTSTART;TZID=UTC:20230915T190000
DTEND;TZID=UTC:20230915T220000
DTSTAMP:20260419T213258
CREATED:20230803T065319Z
LAST-MODIFIED:20230908T063907Z
UID:1988-1694804400-1694815200@www.milsteadwithfrinstedwi.co.uk
SUMMARY:Bingo evening - CANCELLED
DESCRIPTION:Milstead Village Hall – ploughmans £10 – bring friends
URL:http://www.milsteadwithfrinstedwi.co.uk/event/bingo-evening/
LOCATION:Milstead Village Hall\, Rawling Street\, Sittingbourne\, Kent\, ME9 0RU\, United Kingdom
END:VEVENT
BEGIN:VEVENT
DTSTART;TZID=UTC:20230831T180000
DTEND;TZID=UTC:20230831T203000
DTSTAMP:20260419T213258
CREATED:20230803T064808Z
LAST-MODIFIED:20230803T064808Z
UID:1983-1693504800-1693513800@www.milsteadwithfrinstedwi.co.uk
SUMMARY:Tootsie trot - Faversham
DESCRIPTION:6.15 – 6.30. Follow clues around Faversham – Bring friends. \n  \nMore information to follow
URL:http://www.milsteadwithfrinstedwi.co.uk/event/tootsie-trot-faversham/
LOCATION:Faversham
END:VEVENT
BEGIN:VEVENT
DTSTART;TZID=UTC:20230815T110000
DTEND;TZID=UTC:20230815T170000
DTSTAMP:20260419T213258
CREATED:20230803T071644Z
LAST-MODIFIED:20230803T071644Z
UID:1996-1692097200-1692118800@www.milsteadwithfrinstedwi.co.uk
SUMMARY:Coffee morning
DESCRIPTION:at Creek Creative in Faversham. PLease let Angela know if you are attending.
URL:http://www.milsteadwithfrinstedwi.co.uk/event/coffee-morning-6/
LOCATION:Creek Creative\, 1 Abbey Street\, Faversham\, Kent\, ME13 7BE\, United Kingdom
END:VEVENT
BEGIN:VEVENT
DTSTART;TZID=UTC:20230727T080000
DTEND;TZID=UTC:20230727T170000
DTSTAMP:20260419T213258
CREATED:20230320T135108Z
LAST-MODIFIED:20230320T135108Z
UID:1925-1690444800-1690477200@www.milsteadwithfrinstedwi.co.uk
SUMMARY:Belmont House visit
DESCRIPTION:Details to be announced
URL:http://www.milsteadwithfrinstedwi.co.uk/event/belmont-house-visit/
END:VEVENT
BEGIN:VEVENT
DTSTART;TZID=UTC:20230706T190000
DTEND;TZID=UTC:20230706T193000
DTSTAMP:20260419T213258
CREATED:20230320T135532Z
LAST-MODIFIED:20230606T085639Z
UID:1929-1688670000-1688671800@www.milsteadwithfrinstedwi.co.uk
SUMMARY:Annual Garden Party - bring a hat 7pm
DESCRIPTION:At Frinsted Village Hall. A food list is going around. \nPlease bring a hat
URL:http://www.milsteadwithfrinstedwi.co.uk/event/annual-garden-party/
LOCATION:Frinsted Village Hall\, United Kingdom
END:VEVENT
BEGIN:VEVENT
DTSTART;TZID=UTC:20230622T110000
DTEND;TZID=UTC:20230622T130000
DTSTAMP:20260419T213258
CREATED:20230320T135014Z
LAST-MODIFIED:20230606T085519Z
UID:1923-1687431600-1687438800@www.milsteadwithfrinstedwi.co.uk
SUMMARY:Murston Heart  Church & Art Gallery11am
DESCRIPTION:Let Angela know if you would like to go
URL:http://www.milsteadwithfrinstedwi.co.uk/event/marston-heart/
END:VEVENT
BEGIN:VEVENT
DTSTART;TZID=UTC:20230613T100000
DTEND;TZID=UTC:20230613T120000
DTSTAMP:20260419T213258
CREATED:20230606T085147Z
LAST-MODIFIED:20230606T085147Z
UID:1967-1686650400-1686657600@www.milsteadwithfrinstedwi.co.uk
SUMMARY:Coffee morning Wormshill
DESCRIPTION:Wormshill village hall 10am – 12pm
URL:http://www.milsteadwithfrinstedwi.co.uk/event/coffee-morning-wormshill/
END:VEVENT
BEGIN:VEVENT
DTSTART;TZID=UTC:20230611T110000
DTEND;TZID=UTC:20230611T140000
DTSTAMP:20260419T213258
CREATED:20230512T125924Z
LAST-MODIFIED:20230606T085246Z
UID:1961-1686481200-1686492000@www.milsteadwithfrinstedwi.co.uk
SUMMARY:Walk from Milstead village Hall 11am
DESCRIPTION:Please let Angela or Marcelle know if you would like to go on the walk
URL:http://www.milsteadwithfrinstedwi.co.uk/event/walk-from-milstead-village-hall/
END:VEVENT
BEGIN:VEVENT
DTSTART;TZID=UTC:20230531T120000
DTEND;TZID=UTC:20230531T140000
DTSTAMP:20260419T213258
CREATED:20230105T125847Z
LAST-MODIFIED:20230105T125847Z
UID:1884-1685534400-1685541600@www.milsteadwithfrinstedwi.co.uk
SUMMARY:Chocolate making workshop - Jane Napper
DESCRIPTION:We are having Jane Napper back to give 6 members a chance to make their own filled chocolates and maybe some shards. She can only tutor 6 at a time . This will be on Wednesday 31st May in the daytime. Please put your name down asap. It will be subsidized but we ask that you pay £10 to reserve your place. This is obviously a limited number so is first come first served\, but if popular we will organize another workshop.
URL:http://www.milsteadwithfrinstedwi.co.uk/event/chocolate-making-workshop-jane-napper/
LOCATION:Milstead Village Hall\, Rawling Street\, Sittingbourne\, Kent\, ME9 0RU\, United Kingdom
END:VEVENT
BEGIN:VEVENT
DTSTART;TZID=UTC:20230527T130000
DTEND;TZID=UTC:20230527T170000
DTSTAMP:20260419T213258
CREATED:20230405T093630Z
LAST-MODIFIED:20230405T093630Z
UID:1953-1685192400-1685206800@www.milsteadwithfrinstedwi.co.uk
SUMMARY:Saturday lunch Club
DESCRIPTION:Saturday lunc club at the Red Lion\, Milstead
URL:http://www.milsteadwithfrinstedwi.co.uk/event/saturday-lunch-club/
END:VEVENT
BEGIN:VEVENT
DTSTART;TZID=UTC:20230518T110000
DTEND;TZID=UTC:20230518T170000
DTSTAMP:20260419T213258
CREATED:20230512T124813Z
LAST-MODIFIED:20230512T124813Z
UID:1959-1684407600-1684429200@www.milsteadwithfrinstedwi.co.uk
SUMMARY:Coffee morning
DESCRIPTION:Rodmersham Coffee shop 11am
URL:http://www.milsteadwithfrinstedwi.co.uk/event/coffee-morning-5/
LOCATION:Rodmersham coffee shop\, Rodmersham Green\, Sittingbourne\, ME9 0PL\, United Kingdom
END:VEVENT
BEGIN:VEVENT
DTSTART;TZID=UTC:20230511T193000
DTEND;TZID=UTC:20230511T213000
DTSTAMP:20260419T213258
CREATED:20230106T094625Z
LAST-MODIFIED:20230320T135402Z
UID:1893-1683833400-1683840600@www.milsteadwithfrinstedwi.co.uk
SUMMARY:May meeting Kings Coronation
DESCRIPTION:Our May meeting this year\, Thursday 11th will be a quick discussion on the resolution then a Royal Coronation Tea to celebrate The King’s Coronation. We will need names on a list for catering numbers. Of course you may wish to wear crowns\, red\, white and blue or whatever you think is suitable for King Charles’ coronation . \n 
URL:http://www.milsteadwithfrinstedwi.co.uk/event/may-meeting/
LOCATION:Milstead Village Hall\, Rawling Street\, Sittingbourne\, Kent\, ME9 0RU\, United Kingdom
END:VEVENT
BEGIN:VEVENT
DTSTART;TZID=UTC:20230428T110000
DTEND;TZID=UTC:20230428T170000
DTSTAMP:20260419T213258
CREATED:20230320T134442Z
LAST-MODIFIED:20230320T134442Z
UID:1917-1682679600-1682701200@www.milsteadwithfrinstedwi.co.uk
SUMMARY:visit to Faversham Physic Garden
DESCRIPTION:Tickets from Angela
URL:http://www.milsteadwithfrinstedwi.co.uk/event/visit-to-faversham-physic-garden/
END:VEVENT
BEGIN:VEVENT
DTSTART;TZID=UTC:20230420T110000
DTEND;TZID=UTC:20230420T130000
DTSTAMP:20260419T213258
CREATED:20230405T092926Z
LAST-MODIFIED:20230405T092926Z
UID:1950-1681988400-1681995600@www.milsteadwithfrinstedwi.co.uk
SUMMARY:Coffee morning
DESCRIPTION:Bredgar Light Railway 11am
URL:http://www.milsteadwithfrinstedwi.co.uk/event/coffee-morning-4/
END:VEVENT
BEGIN:VEVENT
DTSTART;TZID=UTC:20230419T103000
DTEND;TZID=UTC:20230419T170000
DTSTAMP:20260419T213258
CREATED:20230320T140321Z
LAST-MODIFIED:20230320T140321Z
UID:1938-1681900200-1681923600@www.milsteadwithfrinstedwi.co.uk
SUMMARY:Resolution meeting
DESCRIPTION:There is a meeting in Canterbury on 19 th April to discuss the resolution. There is\na cost\, but lifts are available.
URL:http://www.milsteadwithfrinstedwi.co.uk/event/resolution-meeting-2/
END:VEVENT
BEGIN:VEVENT
DTSTART;TZID=UTC:20230412T093000
DTEND;TZID=UTC:20230412T170000
DTSTAMP:20260419T213258
CREATED:20230320T134643Z
LAST-MODIFIED:20230320T134643Z
UID:1919-1681291800-1681318800@www.milsteadwithfrinstedwi.co.uk
SUMMARY:Spring Day - Canterbury
DESCRIPTION:Spring Day at Canterbury will be on 12 th April 9.30 £12. This is a fabulous day in\nCanterbury with several top notch speakers\, such as gardeners\, florists etc.This\nsells out very quickly. If you want to go you can either book online yourself\,\nwhich guarantees your place\, or ask us to book for you. Please let me know if\nyou are attending .
URL:http://www.milsteadwithfrinstedwi.co.uk/event/spring-day-canterbury/
END:VEVENT
BEGIN:VEVENT
DTSTART;TZID=UTC:20230406T193000
DTEND;TZID=UTC:20230406T213000
DTSTAMP:20260419T213258
CREATED:20230320T135905Z
LAST-MODIFIED:20230320T135929Z
UID:1935-1680809400-1680816600@www.milsteadwithfrinstedwi.co.uk
SUMMARY:Meeting - Kent reptile and amphibian conservation group.
DESCRIPTION:They do brilliant work throughout Kent trying to conserve our dwindling wildlife.
URL:http://www.milsteadwithfrinstedwi.co.uk/event/meeting-kent-reptile-and-amphibian-conservation-group/
LOCATION:Milstead Village Hall\, Rawling Street\, Sittingbourne\, Kent\, ME9 0RU\, United Kingdom
END:VEVENT
BEGIN:VEVENT
DTSTART;TZID=UTC:20230331T190000
DTEND;TZID=UTC:20230331T223000
DTSTAMP:20260419T213258
CREATED:20230105T125259Z
LAST-MODIFIED:20230106T093827Z
UID:1882-1680289200-1680301800@www.milsteadwithfrinstedwi.co.uk
SUMMARY:Quiz night
DESCRIPTION:Steve & Sue Quiz night in Milstead village Hall 7pm – tickets £10 – names and money to Angela or Marcelle. \n 
URL:http://www.milsteadwithfrinstedwi.co.uk/event/quiz-night-3/
LOCATION:Milstead Village Hall\, Rawling Street\, Sittingbourne\, Kent\, ME9 0RU\, United Kingdom
END:VEVENT
BEGIN:VEVENT
DTSTART;TZID=UTC:20230322T100000
DTEND;TZID=UTC:20230322T170000
DTSTAMP:20260419T213258
CREATED:20221206T104312Z
LAST-MODIFIED:20221206T104312Z
UID:1864-1679479200-1679504400@www.milsteadwithfrinstedwi.co.uk
SUMMARY:ACM Folkstone
DESCRIPTION:If you would like to join us in Folkstone for the ACM please let us know as we need to book this very quickly. It is on 22nd March . We are very happy to car share. This is a very entertaining event\, the Federation always book very interesting speakers.
URL:http://www.milsteadwithfrinstedwi.co.uk/event/acm-folkstone-4/
LOCATION:Leas Cliff Hall\, Folkestone\, Kent\, CT20 2DZ\, United Kingdom
END:VEVENT
BEGIN:VEVENT
DTSTART;TZID=UTC:20230321T103000
DTEND;TZID=UTC:20230321T120000
DTSTAMP:20260419T213258
CREATED:20230320T134802Z
LAST-MODIFIED:20230320T134802Z
UID:1921-1679394600-1679400000@www.milsteadwithfrinstedwi.co.uk
SUMMARY:Coffee Morning
DESCRIPTION:This month’s coffee morning will be at Yvonne’s house 34 Gore Court Road at\n10.30 on Tuesday 21 st March. Please let Angela know if you are coming for numbers.
URL:http://www.milsteadwithfrinstedwi.co.uk/event/coffee-morning-3/
END:VEVENT
BEGIN:VEVENT
DTSTART;TZID=UTC:20230310T140000
DTEND;TZID=UTC:20230310T160000
DTSTAMP:20260419T213258
CREATED:20230105T125116Z
LAST-MODIFIED:20230320T134232Z
UID:1880-1678456800-1678464000@www.milsteadwithfrinstedwi.co.uk
SUMMARY:Elvis & Kresse Tour of workshops
DESCRIPTION:A tour of Elvis & Kresse workshops in Painters Forstal £10 Please let Angela or Marcelle know asap.
URL:http://www.milsteadwithfrinstedwi.co.uk/event/elvis-kresse-tour-of-workshops/
LOCATION:Faversham
END:VEVENT
BEGIN:VEVENT
DTSTART;TZID=UTC:20230308T100000
DTEND;TZID=UTC:20230308T120000
DTSTAMP:20260419T213258
CREATED:20221206T104801Z
LAST-MODIFIED:20221206T104801Z
UID:1872-1678269600-1678276800@www.milsteadwithfrinstedwi.co.uk
SUMMARY:International Womans Day - Canterbury
DESCRIPTION:
URL:http://www.milsteadwithfrinstedwi.co.uk/event/international-womans-day-canterbury/
END:VEVENT
BEGIN:VEVENT
DTSTART;TZID=UTC:20230304T080000
DTEND;TZID=UTC:20230304T170000
DTSTAMP:20260419T213258
CREATED:20221206T104451Z
LAST-MODIFIED:20221206T104451Z
UID:1868-1677916800-1677949200@www.milsteadwithfrinstedwi.co.uk
SUMMARY:March for The Million Women
DESCRIPTION:On Saturday 4th March there will be a march in London for the Million Women March. This is a national event and not just WI. It is to say ‘no to abuse against women’! There will be a meeting for WI members attending at 1-3pm. If you feel like going please let Angela know.
URL:http://www.milsteadwithfrinstedwi.co.uk/event/march-for-the-million-women/
END:VEVENT
BEGIN:VEVENT
DTSTART;TZID=UTC:20230225T130000
DTEND;TZID=UTC:20230225T150000
DTSTAMP:20260419T213258
CREATED:20230106T094430Z
LAST-MODIFIED:20230106T094523Z
UID:1889-1677330000-1677337200@www.milsteadwithfrinstedwi.co.uk
SUMMARY:lunch at the Red lion - Milstead
DESCRIPTION:Lunch at the Red lion in Milstead 1pm. Let Marcelle or Angela know asap for numbers
URL:http://www.milsteadwithfrinstedwi.co.uk/event/lunch-at-the-red-lion/
LOCATION:me9 0rt\, Red Lion\, Milstead\, ME9 0RT\, United Kingdom
END:VEVENT
BEGIN:VEVENT
DTSTART;TZID=UTC:20230224T100000
DTEND;TZID=UTC:20230224T120000
DTSTAMP:20260419T213258
CREATED:20221206T104134Z
LAST-MODIFIED:20221206T104134Z
UID:1862-1677232800-1677240000@www.milsteadwithfrinstedwi.co.uk
SUMMARY:East Kent open Coffee morning
DESCRIPTION:East Kent are having an open day coffee morning on 24th February at 10\, 11 or 12. This is free but needs to be booked.  Angela is going at 12.00 if you want to go with her\, let he know. 
URL:http://www.milsteadwithfrinstedwi.co.uk/event/east-kent-open-coffee-morning/
END:VEVENT
BEGIN:VEVENT
DTSTART;TZID=UTC:20230209T103000
DTEND;TZID=UTC:20230209T123000
DTSTAMP:20260419T213258
CREATED:20221206T103954Z
LAST-MODIFIED:20221206T103954Z
UID:1860-1675938600-1675945800@www.milsteadwithfrinstedwi.co.uk
SUMMARY:Witch Hazel Walk
DESCRIPTION:10.30 £10 organised by East Kent Federation \nTickets available via www.ticketsource.
URL:http://www.milsteadwithfrinstedwi.co.uk/event/witch-hazel-walk-2/
END:VEVENT
BEGIN:VEVENT
DTSTART;TZID=UTC:20230207T103000
DTEND;TZID=UTC:20230207T171200
DTSTAMP:20260419T213258
CREATED:20221206T103919Z
LAST-MODIFIED:20221206T103919Z
UID:1858-1675765800-1675789920@www.milsteadwithfrinstedwi.co.uk
SUMMARY:Witch Hazel Walk
DESCRIPTION:10.30 £10 organised by East Kent Federation \nTickets available via www.ticketsource.
URL:http://www.milsteadwithfrinstedwi.co.uk/event/witch-hazel-walk/
END:VEVENT
END:VCALENDAR