BEGIN:VCALENDAR
VERSION:2.0
PRODID:-//Milstead With Frinsted WI - ECPv6.12.0//NONSGML v1.0//EN
CALSCALE:GREGORIAN
METHOD:PUBLISH
X-ORIGINAL-URL:http://www.milsteadwithfrinstedwi.co.uk
X-WR-CALDESC:Events for Milstead With Frinsted WI
REFRESH-INTERVAL;VALUE=DURATION:PT1H
X-Robots-Tag:noindex
X-PUBLISHED-TTL:PT1H
BEGIN:VTIMEZONE
TZID:UTC
BEGIN:STANDARD
TZOFFSETFROM:+0000
TZOFFSETTO:+0000
TZNAME:UTC
DTSTART:20220101T000000
END:STANDARD
END:VTIMEZONE
BEGIN:VEVENT
DTSTART;TZID=UTC:20230331T190000
DTEND;TZID=UTC:20230331T223000
DTSTAMP:20260420T010113
CREATED:20230105T125259Z
LAST-MODIFIED:20230106T093827Z
UID:1882-1680289200-1680301800@www.milsteadwithfrinstedwi.co.uk
SUMMARY:Quiz night
DESCRIPTION:Steve & Sue Quiz night in Milstead village Hall 7pm – tickets £10 – names and money to Angela or Marcelle. \n 
URL:http://www.milsteadwithfrinstedwi.co.uk/event/quiz-night-3/
LOCATION:Milstead Village Hall\, Rawling Street\, Sittingbourne\, Kent\, ME9 0RU\, United Kingdom
END:VEVENT
BEGIN:VEVENT
DTSTART;TZID=UTC:20230322T100000
DTEND;TZID=UTC:20230322T170000
DTSTAMP:20260420T010113
CREATED:20221206T104312Z
LAST-MODIFIED:20221206T104312Z
UID:1864-1679479200-1679504400@www.milsteadwithfrinstedwi.co.uk
SUMMARY:ACM Folkstone
DESCRIPTION:If you would like to join us in Folkstone for the ACM please let us know as we need to book this very quickly. It is on 22nd March . We are very happy to car share. This is a very entertaining event\, the Federation always book very interesting speakers.
URL:http://www.milsteadwithfrinstedwi.co.uk/event/acm-folkstone-4/
LOCATION:Leas Cliff Hall\, Folkestone\, Kent\, CT20 2DZ\, United Kingdom
END:VEVENT
BEGIN:VEVENT
DTSTART;TZID=UTC:20230321T103000
DTEND;TZID=UTC:20230321T120000
DTSTAMP:20260420T010113
CREATED:20230320T134802Z
LAST-MODIFIED:20230320T134802Z
UID:1921-1679394600-1679400000@www.milsteadwithfrinstedwi.co.uk
SUMMARY:Coffee Morning
DESCRIPTION:This month’s coffee morning will be at Yvonne’s house 34 Gore Court Road at\n10.30 on Tuesday 21 st March. Please let Angela know if you are coming for numbers.
URL:http://www.milsteadwithfrinstedwi.co.uk/event/coffee-morning-3/
END:VEVENT
BEGIN:VEVENT
DTSTART;TZID=UTC:20230310T140000
DTEND;TZID=UTC:20230310T160000
DTSTAMP:20260420T010113
CREATED:20230105T125116Z
LAST-MODIFIED:20230320T134232Z
UID:1880-1678456800-1678464000@www.milsteadwithfrinstedwi.co.uk
SUMMARY:Elvis & Kresse Tour of workshops
DESCRIPTION:A tour of Elvis & Kresse workshops in Painters Forstal £10 Please let Angela or Marcelle know asap.
URL:http://www.milsteadwithfrinstedwi.co.uk/event/elvis-kresse-tour-of-workshops/
LOCATION:Faversham
END:VEVENT
BEGIN:VEVENT
DTSTART;TZID=UTC:20230308T100000
DTEND;TZID=UTC:20230308T120000
DTSTAMP:20260420T010113
CREATED:20221206T104801Z
LAST-MODIFIED:20221206T104801Z
UID:1872-1678269600-1678276800@www.milsteadwithfrinstedwi.co.uk
SUMMARY:International Womans Day - Canterbury
DESCRIPTION:
URL:http://www.milsteadwithfrinstedwi.co.uk/event/international-womans-day-canterbury/
END:VEVENT
BEGIN:VEVENT
DTSTART;TZID=UTC:20230304T080000
DTEND;TZID=UTC:20230304T170000
DTSTAMP:20260420T010113
CREATED:20221206T104451Z
LAST-MODIFIED:20221206T104451Z
UID:1868-1677916800-1677949200@www.milsteadwithfrinstedwi.co.uk
SUMMARY:March for The Million Women
DESCRIPTION:On Saturday 4th March there will be a march in London for the Million Women March. This is a national event and not just WI. It is to say ‘no to abuse against women’! There will be a meeting for WI members attending at 1-3pm. If you feel like going please let Angela know.
URL:http://www.milsteadwithfrinstedwi.co.uk/event/march-for-the-million-women/
END:VEVENT
BEGIN:VEVENT
DTSTART;TZID=UTC:20230225T130000
DTEND;TZID=UTC:20230225T150000
DTSTAMP:20260420T010113
CREATED:20230106T094430Z
LAST-MODIFIED:20230106T094523Z
UID:1889-1677330000-1677337200@www.milsteadwithfrinstedwi.co.uk
SUMMARY:lunch at the Red lion - Milstead
DESCRIPTION:Lunch at the Red lion in Milstead 1pm. Let Marcelle or Angela know asap for numbers
URL:http://www.milsteadwithfrinstedwi.co.uk/event/lunch-at-the-red-lion/
LOCATION:me9 0rt\, Red Lion\, Milstead\, ME9 0RT\, United Kingdom
END:VEVENT
BEGIN:VEVENT
DTSTART;TZID=UTC:20230224T100000
DTEND;TZID=UTC:20230224T120000
DTSTAMP:20260420T010113
CREATED:20221206T104134Z
LAST-MODIFIED:20221206T104134Z
UID:1862-1677232800-1677240000@www.milsteadwithfrinstedwi.co.uk
SUMMARY:East Kent open Coffee morning
DESCRIPTION:East Kent are having an open day coffee morning on 24th February at 10\, 11 or 12. This is free but needs to be booked.  Angela is going at 12.00 if you want to go with her\, let he know. 
URL:http://www.milsteadwithfrinstedwi.co.uk/event/east-kent-open-coffee-morning/
END:VEVENT
BEGIN:VEVENT
DTSTART;TZID=UTC:20230209T103000
DTEND;TZID=UTC:20230209T123000
DTSTAMP:20260420T010113
CREATED:20221206T103954Z
LAST-MODIFIED:20221206T103954Z
UID:1860-1675938600-1675945800@www.milsteadwithfrinstedwi.co.uk
SUMMARY:Witch Hazel Walk
DESCRIPTION:10.30 £10 organised by East Kent Federation \nTickets available via www.ticketsource.
URL:http://www.milsteadwithfrinstedwi.co.uk/event/witch-hazel-walk-2/
END:VEVENT
BEGIN:VEVENT
DTSTART;TZID=UTC:20230207T103000
DTEND;TZID=UTC:20230207T171200
DTSTAMP:20260420T010113
CREATED:20221206T103919Z
LAST-MODIFIED:20221206T103919Z
UID:1858-1675765800-1675789920@www.milsteadwithfrinstedwi.co.uk
SUMMARY:Witch Hazel Walk
DESCRIPTION:10.30 £10 organised by East Kent Federation \nTickets available via www.ticketsource.
URL:http://www.milsteadwithfrinstedwi.co.uk/event/witch-hazel-walk/
END:VEVENT
BEGIN:VEVENT
DTSTART;TZID=UTC:20230119T110000
DTEND;TZID=UTC:20230119T130000
DTSTAMP:20260420T010113
CREATED:20230106T094118Z
LAST-MODIFIED:20230106T094118Z
UID:1887-1674126000-1674133200@www.milsteadwithfrinstedwi.co.uk
SUMMARY:Coffe at Beverleys house
DESCRIPTION:This month’s coffee morning will be on Thursday 19th at 11.00 . It will be at Beverley’s house in Bapchild. Can you let Angela\, know if you are coming for numbers etc. This is to try and make us more inclusive to our new members. I would like a volunteer to host it next month. This is not supposed to be stressful\, a packet of biscuits and a coffee is all we need.
URL:http://www.milsteadwithfrinstedwi.co.uk/event/coffe-at-beverleys-house/
END:VEVENT
BEGIN:VEVENT
DTSTART;TZID=UTC:20230114T080000
DTEND;TZID=UTC:20230114T170000
DTSTAMP:20260420T010113
CREATED:20220909T095157Z
LAST-MODIFIED:20221206T102114Z
UID:1833-1673683200-1673715600@www.milsteadwithfrinstedwi.co.uk
SUMMARY:Bowling
DESCRIPTION:If you fancy Bowling we are organizing a trip to Sittingbourne on Saturday 14th January 3pm. We will let you know price and times when we have ideas of numbers. Please let me know if you are interested so I can book it.
URL:http://www.milsteadwithfrinstedwi.co.uk/event/bowling/
END:VEVENT
BEGIN:VEVENT
DTSTART;TZID=UTC:20230105T193000
DTEND;TZID=UTC:20230105T220000
DTSTAMP:20260420T010113
CREATED:20221206T104633Z
LAST-MODIFIED:20221206T104633Z
UID:1870-1672947000-1672956000@www.milsteadwithfrinstedwi.co.uk
SUMMARY:W I Meeting - Games night
DESCRIPTION:
URL:http://www.milsteadwithfrinstedwi.co.uk/event/w-i-meeting-games-night/
LOCATION:Milstead Village Hall\, Rawling Street\, Sittingbourne\, Kent\, ME9 0RU\, United Kingdom
END:VEVENT
BEGIN:VEVENT
DTSTART;TZID=UTC:20221201T193000
DTEND;TZID=UTC:20221201T193000
DTSTAMP:20260420T010113
CREATED:20220420T141350Z
LAST-MODIFIED:20220420T141350Z
UID:1798-1669923000-1669923000@www.milsteadwithfrinstedwi.co.uk
SUMMARY:Chocolate Demonstration
DESCRIPTION:
URL:http://www.milsteadwithfrinstedwi.co.uk/event/chocolate-demonstration/
LOCATION:Milstead Village Hall\, Rawling Street\, Sittingbourne\, Kent\, ME9 0RU\, United Kingdom
END:VEVENT
BEGIN:VEVENT
DTSTART;TZID=UTC:20221130T133000
DTEND;TZID=UTC:20221130T143000
DTSTAMP:20260420T010113
CREATED:20221108T082136Z
LAST-MODIFIED:20221108T082136Z
UID:1851-1669815000-1669818600@www.milsteadwithfrinstedwi.co.uk
SUMMARY:Carol Service - Rodmersham church
DESCRIPTION:
URL:http://www.milsteadwithfrinstedwi.co.uk/event/carol-service-rodmersham-church/
END:VEVENT
BEGIN:VEVENT
DTSTART;TZID=UTC:20221126T100000
DTEND;TZID=UTC:20221126T120000
DTSTAMP:20260420T010113
CREATED:20221108T082004Z
LAST-MODIFIED:20221108T082004Z
UID:1849-1669456800-1669464000@www.milsteadwithfrinstedwi.co.uk
SUMMARY:Christmas Bazaar
DESCRIPTION:Milstead Village Hall 10am-12pm
URL:http://www.milsteadwithfrinstedwi.co.uk/event/christmas-bazaar/
LOCATION:Milstead Village Hall\, Rawling Street\, Sittingbourne\, Kent\, ME9 0RU\, United Kingdom
END:VEVENT
BEGIN:VEVENT
DTSTART;TZID=UTC:20221124T183000
DTEND;TZID=UTC:20221124T223000
DTSTAMP:20260420T010113
CREATED:20220208T103154Z
LAST-MODIFIED:20220518T070225Z
UID:1752-1669314600-1669329000@www.milsteadwithfrinstedwi.co.uk
SUMMARY:Centenary dinner - 6.30pm
DESCRIPTION:We are planning to have a lovely dinner in Milstead Village Hall with caterers the cost will be £30 per head. Bring your own drink. \nThe menu is \n  \nPotted Ham Hock\, pineapple chutney and sourdough \nOr Brie\, caramelized onion tartlet \n  \n  \nBreast of chicken\, pressed leek and serrano Boulanger potatoes \nOr Butternut squash\, mushroom and spinach wellington \nLemon Posset and shortbread. \n  \nIf you have any dietary requirements\, allergies etc. please let me know.  We really hope that as many of you as possible can make it. It will be a lovely evening.
URL:http://www.milsteadwithfrinstedwi.co.uk/event/centenary-dinner/
LOCATION:Milstead Village Hall\, Rawling Street\, Sittingbourne\, Kent\, ME9 0RU\, United Kingdom
END:VEVENT
BEGIN:VEVENT
DTSTART;TZID=UTC:20221121T103000
DTEND;TZID=UTC:20221121T120000
DTSTAMP:20260420T010113
CREATED:20221108T081839Z
LAST-MODIFIED:20221108T081839Z
UID:1847-1669026600-1669032000@www.milsteadwithfrinstedwi.co.uk
SUMMARY:Coffee at Rodmersham coffee shop
DESCRIPTION:10.30am Monday 21st November
URL:http://www.milsteadwithfrinstedwi.co.uk/event/coffee-at-rodmersham-coffee-shop/
LOCATION:Rodmersham coffee shop\, Rodmersham Green\, Sittingbourne\, ME9 0PL\, United Kingdom
END:VEVENT
BEGIN:VEVENT
DTSTART;TZID=UTC:20221103T193000
DTEND;TZID=UTC:20221103T193000
DTSTAMP:20260420T010113
CREATED:20220420T141302Z
LAST-MODIFIED:20220420T141302Z
UID:1796-1667503800-1667503800@www.milsteadwithfrinstedwi.co.uk
SUMMARY:Delivering like a diva
DESCRIPTION:
URL:http://www.milsteadwithfrinstedwi.co.uk/event/delivering-like-a-diva/
LOCATION:Milstead Village Hall\, Rawling Street\, Sittingbourne\, Kent\, ME9 0RU\, United Kingdom
END:VEVENT
BEGIN:VEVENT
DTSTART;TZID=UTC:20221101T133000
DTEND;TZID=UTC:20221101T150000
DTSTAMP:20260420T010113
CREATED:20221007T100851Z
LAST-MODIFIED:20221007T100851Z
UID:1841-1667309400-1667314800@www.milsteadwithfrinstedwi.co.uk
SUMMARY:Coffee at Macknades - 1.30
DESCRIPTION:
URL:http://www.milsteadwithfrinstedwi.co.uk/event/coffee-at-macknades-1-30/
END:VEVENT
BEGIN:VEVENT
DTSTART;TZID=UTC:20221017T190000
DTEND;TZID=UTC:20221017T190000
DTSTAMP:20260420T010113
CREATED:20220909T094505Z
LAST-MODIFIED:20220909T094505Z
UID:1831-1666033200-1666033200@www.milsteadwithfrinstedwi.co.uk
SUMMARY:Stained glass angel workshop
DESCRIPTION:If you want to join us for a stained glass workshop on Monday 17th October at 7pm we still have a few places left. It is just £10. We will be making a stained glass angel.
URL:http://www.milsteadwithfrinstedwi.co.uk/event/stained-glass-angel-workshop/
LOCATION:Milstead Village Hall\, Rawling Street\, Sittingbourne\, Kent\, ME9 0RU\, United Kingdom
END:VEVENT
BEGIN:VEVENT
DTSTART;TZID=UTC:20221006T193000
DTEND;TZID=UTC:20221006T193000
DTSTAMP:20260420T010113
CREATED:20220420T141215Z
LAST-MODIFIED:20220909T094207Z
UID:1794-1665084600-1665084600@www.milsteadwithfrinstedwi.co.uk
SUMMARY:Colour & Fashion - Helen Kendal-Tobias
DESCRIPTION:
URL:http://www.milsteadwithfrinstedwi.co.uk/event/understanding-special-neeeds/
LOCATION:Milstead Village Hall\, Rawling Street\, Sittingbourne\, Kent\, ME9 0RU\, United Kingdom
END:VEVENT
BEGIN:VEVENT
DTSTART;TZID=UTC:20220923T190000
DTEND;TZID=UTC:20220923T190000
DTSTAMP:20260420T010113
CREATED:20220518T065823Z
LAST-MODIFIED:20220518T065823Z
UID:1806-1663959600-1663959600@www.milsteadwithfrinstedwi.co.uk
SUMMARY:Wine tasting
DESCRIPTION:Mike & Denise Gee will be presenting a wine tasting. 7pm start £10 per head. \n  \n 
URL:http://www.milsteadwithfrinstedwi.co.uk/event/wine-tasting-2/
END:VEVENT
BEGIN:VEVENT
DTSTART;TZID=UTC:20220919T203000
DTEND;TZID=UTC:20220919T203000
DTSTAMP:20260420T010113
CREATED:20220909T094005Z
LAST-MODIFIED:20220909T094005Z
UID:1828-1663619400-1663619400@www.milsteadwithfrinstedwi.co.uk
SUMMARY:Cinema - Ticket to Paradise
DESCRIPTION:Barbara has organized a Film Night for Monday 19th 8.30pm at the Light Cinema Sittingbourne. The film is Ticket to Paradise. Tickets are £8. Please let her know if you are going.
URL:http://www.milsteadwithfrinstedwi.co.uk/event/cinema-ticket-to-paradise/
END:VEVENT
BEGIN:VEVENT
DTSTART;TZID=UTC:20220912T140000
DTEND;TZID=UTC:20220912T170000
DTSTAMP:20260420T010113
CREATED:20220909T093827Z
LAST-MODIFIED:20220909T093827Z
UID:1826-1662991200-1663002000@www.milsteadwithfrinstedwi.co.uk
SUMMARY:Coffee - Rodmersham coffee shop
DESCRIPTION:We will meet for coffee on Monday 12th 2pm at the Coffee Shop in Rodmersham. Please let Angela know if you would like to join so she can book a table.
URL:http://www.milsteadwithfrinstedwi.co.uk/event/coffee-rodmersham-coffee-shop/
LOCATION:Rodmersham coffee shop\, Rodmersham Green\, Sittingbourne\, ME9 0PL\, United Kingdom
END:VEVENT
BEGIN:VEVENT
DTSTART;TZID=UTC:20220901T193000
DTEND;TZID=UTC:20220901T193000
DTSTAMP:20260420T010113
CREATED:20220420T140917Z
LAST-MODIFIED:20220420T140917Z
UID:1792-1662060600-1662060600@www.milsteadwithfrinstedwi.co.uk
SUMMARY:Queen Elizabeth II
DESCRIPTION:
URL:http://www.milsteadwithfrinstedwi.co.uk/event/queen-elizabeth-ii/
LOCATION:Milstead Village Hall\, Rawling Street\, Sittingbourne\, Kent\, ME9 0RU\, United Kingdom
END:VEVENT
BEGIN:VEVENT
DTSTART;TZID=UTC:20220804T193000
DTEND;TZID=UTC:20220804T193000
DTSTAMP:20260420T010113
CREATED:20220420T140830Z
LAST-MODIFIED:20220420T140830Z
UID:1790-1659641400-1659641400@www.milsteadwithfrinstedwi.co.uk
SUMMARY:How to enjoy your driving
DESCRIPTION:
URL:http://www.milsteadwithfrinstedwi.co.uk/event/how-to-enjoy-your-driving/
LOCATION:Milstead Village Hall\, Rawling Street\, Sittingbourne\, Kent\, ME9 0RU\, United Kingdom
END:VEVENT
BEGIN:VEVENT
DTSTART;TZID=UTC:20220707T193000
DTEND;TZID=UTC:20220707T193000
DTSTAMP:20260420T010113
CREATED:20220420T140721Z
LAST-MODIFIED:20220420T141614Z
UID:1788-1657222200-1657222200@www.milsteadwithfrinstedwi.co.uk
SUMMARY:Colour & Fashion
DESCRIPTION:
URL:http://www.milsteadwithfrinstedwi.co.uk/event/colour-fashion/
LOCATION:Milstead Village Hall\, Rawling Street\, Sittingbourne\, Kent\, ME9 0RU\, United Kingdom
END:VEVENT
BEGIN:VEVENT
DTSTART;TZID=UTC:20220706T110000
DTEND;TZID=UTC:20220706T170000
DTSTAMP:20260420T010113
CREATED:20220420T134830Z
LAST-MODIFIED:20220420T134830Z
UID:1782-1657105200-1657126800@www.milsteadwithfrinstedwi.co.uk
SUMMARY:Visit to Downderry Lavender Farm
DESCRIPTION:We will be visiting Downderry Lavender Nursery\, nr Hadlow on the 6th July 11.00. the cost is just £7.50\, lifts available.
URL:http://www.milsteadwithfrinstedwi.co.uk/event/visit-to-downderry-lavender-farm-2/
END:VEVENT
BEGIN:VEVENT
DTSTART;TZID=UTC:20220630T100000
DTEND;TZID=UTC:20220630T170000
DTSTAMP:20260420T010113
CREATED:20220304T075243Z
LAST-MODIFIED:20220304T075243Z
UID:1757-1656583200-1656608400@www.milsteadwithfrinstedwi.co.uk
SUMMARY:Pheasant Barn - Oare
DESCRIPTION:We are visiting a local garden in Oare\, a few of us visited last year in torrential rain but this year we have been promised sun! We will meet at 10am at Pheasant Barn\, Oare on June 30th. The visit costs £7. IF you need directions just follow one of us. Please can you let Angela know asap as the garden owner needs numbers. We may well have lunch afterwards if you fancy it.
URL:http://www.milsteadwithfrinstedwi.co.uk/event/pheasant-barn-oare/
END:VEVENT
END:VCALENDAR