BEGIN:VCALENDAR
VERSION:2.0
PRODID:-//Milstead With Frinsted WI - ECPv6.12.0//NONSGML v1.0//EN
CALSCALE:GREGORIAN
METHOD:PUBLISH
X-ORIGINAL-URL:http://www.milsteadwithfrinstedwi.co.uk
X-WR-CALDESC:Events for Milstead With Frinsted WI
REFRESH-INTERVAL;VALUE=DURATION:PT1H
X-Robots-Tag:noindex
X-PUBLISHED-TTL:PT1H
BEGIN:VTIMEZONE
TZID:UTC
BEGIN:STANDARD
TZOFFSETFROM:+0000
TZOFFSETTO:+0000
TZNAME:UTC
DTSTART:20200101T000000
END:STANDARD
END:VTIMEZONE
BEGIN:VEVENT
DTSTART;TZID=UTC:20220310T193000
DTEND;TZID=UTC:20220310T220000
DTSTAMP:20260420T081103
CREATED:20220304T080614Z
LAST-MODIFIED:20220304T080937Z
UID:1767-1646940600-1646949600@www.milsteadwithfrinstedwi.co.uk
SUMMARY:Cinema trip - The Duke 7.45pm
DESCRIPTION:Faversham cinema. Please let Angela know if you are attending. \n  \n 
URL:http://www.milsteadwithfrinstedwi.co.uk/event/cinema-trip-the-duke-7-45pm/
LOCATION:Faversham
END:VEVENT
BEGIN:VEVENT
DTSTART;TZID=UTC:20220303T193000
DTEND;TZID=UTC:20220303T193000
DTSTAMP:20260420T081103
CREATED:20220111T101615Z
LAST-MODIFIED:20220111T101615Z
UID:1735-1646335800-1646335800@www.milsteadwithfrinstedwi.co.uk
SUMMARY:Tony Cross
DESCRIPTION:It shouldn’t happen to a therapist
URL:http://www.milsteadwithfrinstedwi.co.uk/event/tony-cross/
LOCATION:Milstead Village Hall\, Rawling Street\, Sittingbourne\, Kent\, ME9 0RU\, United Kingdom
END:VEVENT
BEGIN:VEVENT
DTSTART;TZID=UTC:20220210T123000
DTEND;TZID=UTC:20220210T170000
DTSTAMP:20260420T081103
CREATED:20220208T102054Z
LAST-MODIFIED:20220208T102054Z
UID:1745-1644496200-1644512400@www.milsteadwithfrinstedwi.co.uk
SUMMARY:Walk from Red Lion  - 12.30
DESCRIPTION:
URL:http://www.milsteadwithfrinstedwi.co.uk/event/walk-from-red-lion-12-30/
END:VEVENT
BEGIN:VEVENT
DTSTART;TZID=UTC:20220203T193000
DTEND;TZID=UTC:20220203T213000
DTSTAMP:20260420T081103
CREATED:20211014T124258Z
LAST-MODIFIED:20211126T130157Z
UID:1713-1643916600-1643923800@www.milsteadwithfrinstedwi.co.uk
SUMMARY:Show the love month
DESCRIPTION:Fancy Tat demonstrating their wares. We will also be making green hearts for show the love
URL:http://www.milsteadwithfrinstedwi.co.uk/event/show-the-love-month/
LOCATION:Milstead Village Hall\, Rawling Street\, Sittingbourne\, Kent\, ME9 0RU\, United Kingdom
END:VEVENT
BEGIN:VEVENT
DTSTART;TZID=UTC:20220106T193000
DTEND;TZID=UTC:20220106T220000
DTSTAMP:20260420T081103
CREATED:20210907T082248Z
LAST-MODIFIED:20220104T120114Z
UID:1700-1641497400-1641506400@www.milsteadwithfrinstedwi.co.uk
SUMMARY:George Ward - the cheesemaker of Kent
DESCRIPTION:
URL:http://www.milsteadwithfrinstedwi.co.uk/event/george-ward-the-cheesemaker-of-kent/
LOCATION:Milstead Village Hall\, Rawling Street\, Sittingbourne\, Kent\, ME9 0RU\, United Kingdom
END:VEVENT
BEGIN:VEVENT
DTSTART;TZID=UTC:20211205T123000
DTEND;TZID=UTC:20211205T150000
DTSTAMP:20260420T081103
CREATED:20210907T081845Z
LAST-MODIFIED:20210907T081845Z
UID:1698-1638707400-1638716400@www.milsteadwithfrinstedwi.co.uk
SUMMARY:Christmas lunch at Plough Lewson street
DESCRIPTION:We have booked the Plough at Lewson Street for our Christmas lunch on Sunday 5th December 12.30 . We will need a £10 deposit. We will get menus as soon as possible. We will be doing the same game as last time\, a gift costing no more than £5 starting with the letter I. Get thinking girls!
URL:http://www.milsteadwithfrinstedwi.co.uk/event/christmas-lunch-at-plough-lewson-street/
LOCATION:Plough\, Lewson Street\, ME9 9JJ\, United Kingdom
END:VEVENT
BEGIN:VEVENT
DTSTART;TZID=UTC:20211202T193000
DTEND;TZID=UTC:20211202T213000
DTSTAMP:20260420T081103
CREATED:20211014T124056Z
LAST-MODIFIED:20211014T124056Z
UID:1711-1638473400-1638480600@www.milsteadwithfrinstedwi.co.uk
SUMMARY:Jo Arnell - making something for Christmas
DESCRIPTION:
URL:http://www.milsteadwithfrinstedwi.co.uk/event/jo-arnell-making-something-for-christmas/
LOCATION:Milstead Village Hall\, Rawling Street\, Sittingbourne\, Kent\, ME9 0RU\, United Kingdom
END:VEVENT
BEGIN:VEVENT
DTSTART;TZID=UTC:20211127T100000
DTEND;TZID=UTC:20211127T120000
DTSTAMP:20260420T081103
CREATED:20211014T123754Z
LAST-MODIFIED:20211014T123754Z
UID:1709-1638007200-1638014400@www.milsteadwithfrinstedwi.co.uk
SUMMARY:Milstead Christmas Bazaar
DESCRIPTION:Milstead Village Hall  10 – 12pm
URL:http://www.milsteadwithfrinstedwi.co.uk/event/milstead-christmas-bazaar/
LOCATION:Milstead Village Hall\, Rawling Street\, Sittingbourne\, Kent\, ME9 0RU\, United Kingdom
END:VEVENT
BEGIN:VEVENT
DTSTART;TZID=UTC:20211118T193000
DTEND;TZID=UTC:20211118T220000
DTSTAMP:20260420T081103
CREATED:20210907T081501Z
LAST-MODIFIED:20210907T081501Z
UID:1696-1637263800-1637272800@www.milsteadwithfrinstedwi.co.uk
SUMMARY:Our 99th Birthday Party with Mandy Winters
DESCRIPTION:We will be having fish and chips\, a list will be passed round on the October meeting.
URL:http://www.milsteadwithfrinstedwi.co.uk/event/our-99th-birthday-party-with-mandy-winters/
LOCATION:Milstead Village Hall\, Rawling Street\, Sittingbourne\, Kent\, ME9 0RU\, United Kingdom
END:VEVENT
BEGIN:VEVENT
DTSTART;TZID=UTC:20211104T193000
DTEND;TZID=UTC:20211104T220000
DTSTAMP:20260420T081103
CREATED:20210907T081155Z
LAST-MODIFIED:20210907T081155Z
UID:1694-1636054200-1636063200@www.milsteadwithfrinstedwi.co.uk
SUMMARY:AGM - voting for new committee
DESCRIPTION:
URL:http://www.milsteadwithfrinstedwi.co.uk/event/agm-voting-for-new-committee/
LOCATION:Milstead Village Hall\, Rawling Street\, Sittingbourne\, Kent\, ME9 0RU\, United Kingdom
END:VEVENT
BEGIN:VEVENT
DTSTART;TZID=UTC:20211019T110000
DTEND;TZID=UTC:20211019T120000
DTSTAMP:20260420T081103
CREATED:20211014T123549Z
LAST-MODIFIED:20211014T123549Z
UID:1707-1634641200-1634644800@www.milsteadwithfrinstedwi.co.uk
SUMMARY:Coffee - Red Lion pub- milstead
DESCRIPTION:11am – Please let Angela know if you would like to attend.
URL:http://www.milsteadwithfrinstedwi.co.uk/event/coffee-red-lion-pub-milstead/
END:VEVENT
BEGIN:VEVENT
DTSTART;TZID=UTC:20211007T193000
DTEND;TZID=UTC:20211007T220000
DTSTAMP:20260420T081103
CREATED:20210907T081006Z
LAST-MODIFIED:20210907T081006Z
UID:1692-1633635000-1633644000@www.milsteadwithfrinstedwi.co.uk
SUMMARY:Jack Dean - Scotland yard forensic detective
DESCRIPTION:Bring a cardigan or pashmina as the windows in the hall will be open.
URL:http://www.milsteadwithfrinstedwi.co.uk/event/jack-dean-scotland-yard-forensic-detective/
LOCATION:Milstead Village Hall\, Rawling Street\, Sittingbourne\, Kent\, ME9 0RU\, United Kingdom
END:VEVENT
BEGIN:VEVENT
DTSTART;TZID=UTC:20210902T193000
DTEND;TZID=UTC:20210902T213000
DTSTAMP:20260420T081103
CREATED:20210816T133356Z
LAST-MODIFIED:20210816T133356Z
UID:1685-1630611000-1630618200@www.milsteadwithfrinstedwi.co.uk
SUMMARY:September meeting
DESCRIPTION:We will be returning to Milstead Village Hall \nNo speaker\, just a social meeting \n7.30pm Tea & Biscuits
URL:http://www.milsteadwithfrinstedwi.co.uk/event/september-meeting/
END:VEVENT
BEGIN:VEVENT
DTSTART;TZID=UTC:20210814T130000
DTEND;TZID=UTC:20210814T163000
DTSTAMP:20260420T081103
CREATED:20210608T114909Z
LAST-MODIFIED:20210608T114909Z
UID:1680-1628946000-1628958600@www.milsteadwithfrinstedwi.co.uk
SUMMARY:Lunch - Red lion Milstead - 1pm
DESCRIPTION:text Angela on 07729828959 if you would like to come.
URL:http://www.milsteadwithfrinstedwi.co.uk/event/lunch-red-lion-milstead-1pm/
END:VEVENT
BEGIN:VEVENT
DTSTART;TZID=UTC:20210717T120000
DTEND;TZID=UTC:20210717T163000
DTSTAMP:20260420T081103
CREATED:20210429T143342Z
LAST-MODIFIED:20210429T143342Z
UID:1671-1626523200-1626539400@www.milsteadwithfrinstedwi.co.uk
SUMMARY:Jazz in the garden at Torry Hill
DESCRIPTION:The garden will open at 12 for picnics. \nConcert begins at 2pm and end at 4pm \nContact Angela re tickets or pay on the gate
URL:http://www.milsteadwithfrinstedwi.co.uk/event/jazz-in-the-garden-at-torry-hill/
END:VEVENT
BEGIN:VEVENT
DTSTART;TZID=UTC:20210701T193000
DTEND;TZID=UTC:20210701T213000
DTSTAMP:20260420T081103
CREATED:20210429T142457Z
LAST-MODIFIED:20210608T114443Z
UID:1667-1625167800-1625175000@www.milsteadwithfrinstedwi.co.uk
SUMMARY:Garden party - outside Frinsted village hall 7pm
DESCRIPTION:Please bring your own chair\, drinks and food. Also bring a pen and money for the raffle
URL:http://www.milsteadwithfrinstedwi.co.uk/event/garden-party-outside-frinsted-village-hall/
END:VEVENT
BEGIN:VEVENT
DTSTART;TZID=UTC:20210629T110000
DTEND;TZID=UTC:20210629T160000
DTSTAMP:20260420T081103
CREATED:20210608T114717Z
LAST-MODIFIED:20210608T114717Z
UID:1678-1624964400-1624982400@www.milsteadwithfrinstedwi.co.uk
SUMMARY:Pheasant Barn in Oare - visit
DESCRIPTION:11 – 4pm . Please let Angela know if you would like to attend
URL:http://www.milsteadwithfrinstedwi.co.uk/event/pheasant-barn-in-oare-visit/
END:VEVENT
BEGIN:VEVENT
DTSTART;TZID=UTC:20210627T130000
DTEND;TZID=UTC:20210627T170000
DTSTAMP:20260420T081103
CREATED:20210429T141948Z
LAST-MODIFIED:20210608T115228Z
UID:1661-1624798800-1624813200@www.milsteadwithfrinstedwi.co.uk
SUMMARY:Milstead open Gardens
DESCRIPTION:On 27th June 1.00- 5.00 Milstead Church are organizing an Open Gardens. There are 6 fabulous\, rarely seen gardens open with teas at The Rectory. MwF WI are running a cake stall at the event to support the Church. Let Angela know which cake you will be making. 
URL:http://www.milsteadwithfrinstedwi.co.uk/event/milstead-open-gardens/
END:VEVENT
BEGIN:VEVENT
DTSTART;TZID=UTC:20210603T193000
DTEND;TZID=UTC:20210603T213000
DTSTAMP:20260420T081103
CREATED:20210429T142125Z
LAST-MODIFIED:20210429T142125Z
UID:1663-1622748600-1622755800@www.milsteadwithfrinstedwi.co.uk
SUMMARY:Melanie Gibson-Barton - Zoom meeting
DESCRIPTION:Speaking about the Belgian Royal family. \n  \nA link will be sent prior to the zoom
URL:http://www.milsteadwithfrinstedwi.co.uk/event/melanie-gibson-barton-zoom-meeting/
END:VEVENT
BEGIN:VEVENT
DTSTART;TZID=UTC:20210522T080000
DTEND;TZID=UTC:20210522T170000
DTSTAMP:20260420T081103
CREATED:20210429T142707Z
LAST-MODIFIED:20210429T142707Z
UID:1669-1621670400-1621702800@www.milsteadwithfrinstedwi.co.uk
SUMMARY:Lunch - garden of Plough at Lewson Street - to to be advised
DESCRIPTION:. Can you please let Angela know asap if you are coming as she will need to confirm the booking quickly? \nText  Angela on  07729828959
URL:http://www.milsteadwithfrinstedwi.co.uk/event/lunch-garden-of-plough-at-lewson-street-to-to-be-advised/
END:VEVENT
BEGIN:VEVENT
DTSTART;TZID=UTC:20210512T193000
DTEND;TZID=UTC:20210512T213000
DTSTAMP:20260420T081103
CREATED:20210429T142301Z
LAST-MODIFIED:20210429T142301Z
UID:1665-1620847800-1620855000@www.milsteadwithfrinstedwi.co.uk
SUMMARY:Dave Penny - Zoom talk
DESCRIPTION:Dave Penny will be entertaining us with stories of his life as a pantomime dame. \nDave has been involved in Amateur Dramatics for about 11 years and has acted in over 20 performances. \nHe is also a playwright and has written an acclaimed play called ‘The Boys aren’t home’.
URL:http://www.milsteadwithfrinstedwi.co.uk/event/dave-penny-zoom-talk/
END:VEVENT
BEGIN:VEVENT
DTSTART;TZID=UTC:20210107T193000
DTEND;TZID=UTC:20210107T213000
DTSTAMP:20260420T081103
CREATED:20200207T143054Z
LAST-MODIFIED:20200207T143054Z
UID:1530-1610047800-1610055000@www.milsteadwithfrinstedwi.co.uk
SUMMARY:Iris folding - Sue Pennels
DESCRIPTION:
URL:http://www.milsteadwithfrinstedwi.co.uk/event/iris-folding-sue-pennels-2/
LOCATION:Milstead Village Hall\, Rawling Street\, Sittingbourne\, Kent\, ME9 0RU\, United Kingdom
END:VEVENT
BEGIN:VEVENT
DTSTART;VALUE=DATE:20201208
DTEND;VALUE=DATE:20201211
DTSTAMP:20260420T081103
CREATED:20200207T145008Z
LAST-MODIFIED:20200207T145008Z
UID:1552-1607385600-1607644799@www.milsteadwithfrinstedwi.co.uk
SUMMARY:Thursford Extravaganza
DESCRIPTION:Details to follow
URL:http://www.milsteadwithfrinstedwi.co.uk/event/thursford-extravaganza/
END:VEVENT
BEGIN:VEVENT
DTSTART;TZID=UTC:20201205T123000
DTEND;TZID=UTC:20201205T170000
DTSTAMP:20260420T081103
CREATED:20200207T144904Z
LAST-MODIFIED:20200207T144904Z
UID:1550-1607171400-1607187600@www.milsteadwithfrinstedwi.co.uk
SUMMARY:Christmas lunch
DESCRIPTION:Venue TBA
URL:http://www.milsteadwithfrinstedwi.co.uk/event/christmas-lunch-2/
END:VEVENT
BEGIN:VEVENT
DTSTART;TZID=UTC:20201203T193000
DTEND;TZID=UTC:20201203T213000
DTSTAMP:20260420T081103
CREATED:20200207T143009Z
LAST-MODIFIED:20200207T143009Z
UID:1528-1607023800-1607031000@www.milsteadwithfrinstedwi.co.uk
SUMMARY:Burlesque dancer
DESCRIPTION:Missy Maybe
URL:http://www.milsteadwithfrinstedwi.co.uk/event/burlesque-dancer/
LOCATION:Milstead Village Hall\, Rawling Street\, Sittingbourne\, Kent\, ME9 0RU\, United Kingdom
END:VEVENT
BEGIN:VEVENT
DTSTART;TZID=UTC:20201119T193000
DTEND;TZID=UTC:20201119T213000
DTSTAMP:20260420T081103
CREATED:20200207T142855Z
LAST-MODIFIED:20200207T142855Z
UID:1526-1605814200-1605821400@www.milsteadwithfrinstedwi.co.uk
SUMMARY:98th Birthday party
DESCRIPTION:The swinging sixties – Ray Spiller
URL:http://www.milsteadwithfrinstedwi.co.uk/event/98th-birthday-party/
LOCATION:Milstead Village Hall\, Rawling Street\, Sittingbourne\, Kent\, ME9 0RU\, United Kingdom
END:VEVENT
BEGIN:VEVENT
DTSTART;TZID=UTC:20201105T193000
DTEND;TZID=UTC:20201105T213000
DTSTAMP:20260420T081103
CREATED:20200207T142745Z
LAST-MODIFIED:20200207T142745Z
UID:1524-1604604600-1604611800@www.milsteadwithfrinstedwi.co.uk
SUMMARY:Annual meeting
DESCRIPTION:
URL:http://www.milsteadwithfrinstedwi.co.uk/event/annual-meeting-3/
LOCATION:Milstead Village Hall\, Rawling Street\, Sittingbourne\, Kent\, ME9 0RU\, United Kingdom
END:VEVENT
BEGIN:VEVENT
DTSTART;TZID=UTC:20201104T190000
DTEND;TZID=UTC:20201104T190000
DTSTAMP:20260420T081103
CREATED:20191121T143355Z
LAST-MODIFIED:20200320T161843Z
UID:1448-1604516400-1604516400@www.milsteadwithfrinstedwi.co.uk
SUMMARY:Fashion show
DESCRIPTION:Travelling trends fashion show \nBredgar village Hall 7pm \n£8 ticket includes refreshments \nTry and buy on the night \nContact Mandy for tickets 01795 830000
URL:http://www.milsteadwithfrinstedwi.co.uk/event/fashion-show/
LOCATION:Bredgar Village Hall\, Bexon Lane\, Bredgar\, me9 8hb\, United Kingdom
END:VEVENT
BEGIN:VEVENT
DTSTART;TZID=UTC:20201023T193000
DTEND;TZID=UTC:20201023T223000
DTSTAMP:20260420T081103
CREATED:20200207T144820Z
LAST-MODIFIED:20200207T144820Z
UID:1548-1603481400-1603492200@www.milsteadwithfrinstedwi.co.uk
SUMMARY:Bingo night
DESCRIPTION:With sausage & mash
URL:http://www.milsteadwithfrinstedwi.co.uk/event/bingo-night/
LOCATION:Milstead Village Hall\, Rawling Street\, Sittingbourne\, Kent\, ME9 0RU\, United Kingdom
END:VEVENT
BEGIN:VEVENT
DTSTART;TZID=UTC:20201014T103000
DTEND;TZID=UTC:20201014T153000
DTSTAMP:20260420T081103
CREATED:20191112T130538Z
LAST-MODIFIED:20200313T153904Z
UID:1441-1602671400-1602689400@www.milsteadwithfrinstedwi.co.uk
SUMMARY:Annual Council meeting - Folkestone
DESCRIPTION:Guest speaker – Helen Sharman CMG\, OBE First British Astronaut \n& Colin Woolgar  – counter terrorism security adviser for Kent
URL:http://www.milsteadwithfrinstedwi.co.uk/event/annual-council-meeting-folkestone/
LOCATION:Leas Cliff Hall\, Folkestone\, Kent\, CT20 2DZ\, United Kingdom
END:VEVENT
END:VCALENDAR