BEGIN:VCALENDAR
VERSION:2.0
PRODID:-//Milstead With Frinsted WI - ECPv6.12.0//NONSGML v1.0//EN
CALSCALE:GREGORIAN
METHOD:PUBLISH
X-WR-CALNAME:Milstead With Frinsted WI
X-ORIGINAL-URL:http://www.milsteadwithfrinstedwi.co.uk
X-WR-CALDESC:Events for Milstead With Frinsted WI
REFRESH-INTERVAL;VALUE=DURATION:PT1H
X-Robots-Tag:noindex
X-PUBLISHED-TTL:PT1H
BEGIN:VTIMEZONE
TZID:UTC
BEGIN:STANDARD
TZOFFSETFROM:+0000
TZOFFSETTO:+0000
TZNAME:UTC
DTSTART:20190101T000000
END:STANDARD
END:VTIMEZONE
BEGIN:VEVENT
DTSTART;TZID=UTC:20200617T190000
DTEND;TZID=UTC:20200617T210000
DTSTAMP:20260420T144304
CREATED:20200207T144142Z
LAST-MODIFIED:20200207T144142Z
UID:1542-1592420400-1592427600@www.milsteadwithfrinstedwi.co.uk
SUMMARY:Visit to The Chatham Synagogue
DESCRIPTION:Wednesday 17th June\, tour starts at 7pm. The cost is just £2.50. Car sharing available. See Angela
URL:http://www.milsteadwithfrinstedwi.co.uk/event/visit-to-the-chatham-synagogue/
LOCATION:Kent
END:VEVENT
BEGIN:VEVENT
DTSTART;TZID=UTC:20200604T193000
DTEND;TZID=UTC:20200604T213000
DTSTAMP:20260420T144304
CREATED:20200207T141626Z
LAST-MODIFIED:20200207T141626Z
UID:1514-1591299000-1591306200@www.milsteadwithfrinstedwi.co.uk
SUMMARY:Swale action  to end domestic abuse
DESCRIPTION:SATEDA
URL:http://www.milsteadwithfrinstedwi.co.uk/event/swale-action-to-end-domestic-abuse/
LOCATION:Milstead Village Hall\, Rawling Street\, Sittingbourne\, Kent\, ME9 0RU\, United Kingdom
END:VEVENT
BEGIN:VEVENT
DTSTART;TZID=UTC:20200604T110000
DTEND;TZID=UTC:20200604T170000
DTSTAMP:20260420T144304
CREATED:20191112T131853Z
LAST-MODIFIED:20200320T162627Z
UID:1445-1591268400-1591290000@www.milsteadwithfrinstedwi.co.uk
SUMMARY:Annual Meeting - Royal Albert Hall - CANCELLED
DESCRIPTION:Details to follow
URL:http://www.milsteadwithfrinstedwi.co.uk/event/annual-meeting-royal-albert-hall/
LOCATION:Kent
END:VEVENT
BEGIN:VEVENT
DTSTART;TZID=UTC:20200518T140000
DTEND;TZID=UTC:20200518T170000
DTSTAMP:20260420T144304
CREATED:20200207T143309Z
LAST-MODIFIED:20200207T143309Z
UID:1532-1589810400-1589821200@www.milsteadwithfrinstedwi.co.uk
SUMMARY:Belmont Garden tour
DESCRIPTION:Tour with the head gardener £7 with optional cream tea for £6.50. Please put your name on the list. This will be open to friends and family if we do not get the required 12 needed. We would probably meet at 2pm. See Di
URL:http://www.milsteadwithfrinstedwi.co.uk/event/belmont-garden-tour/
LOCATION:Belmont House\, Belmont Park\, Throwley\, \, Faversham\, Kent\, ME13 0HH\, United Kingdom
END:VEVENT
BEGIN:VEVENT
DTSTART;TZID=UTC:20200515T193000
DTEND;TZID=UTC:20200515T193000
DTSTAMP:20260420T144304
CREATED:20200207T141113Z
LAST-MODIFIED:20200320T162206Z
UID:1510-1589571000-1589571000@www.milsteadwithfrinstedwi.co.uk
SUMMARY:Flowers for friendships & resolutions meeting - CANCELLED
DESCRIPTION:Flowers and pots will be provided
URL:http://www.milsteadwithfrinstedwi.co.uk/event/flowers-for-friendships-resolutions-meeting/
LOCATION:Milstead Village Hall\, Rawling Street\, Sittingbourne\, Kent\, ME9 0RU\, United Kingdom
END:VEVENT
BEGIN:VEVENT
DTSTART;TZID=UTC:20200512T080000
DTEND;TZID=UTC:20200512T170000
DTSTAMP:20260420T144304
CREATED:20191209T160331Z
LAST-MODIFIED:20200320T161737Z
UID:1458-1589270400-1589302800@www.milsteadwithfrinstedwi.co.uk
SUMMARY:Wisteria Walks - CANCELLED
DESCRIPTION:Please let Marcelle know if you are interested. May be AM or PM
URL:http://www.milsteadwithfrinstedwi.co.uk/event/wisteria-walks/
LOCATION:Kent
END:VEVENT
BEGIN:VEVENT
DTSTART;TZID=UTC:20200428T080000
DTEND;TZID=UTC:20200428T170000
DTSTAMP:20260420T144304
CREATED:20200207T140905Z
LAST-MODIFIED:20200313T154011Z
UID:1508-1588060800-1588093200@www.milsteadwithfrinstedwi.co.uk
SUMMARY:Visit to Greenwich - CANCELLED
DESCRIPTION:£22 members £23 non members \n  \nWander around Greenwich\, take in the market \, street food\, visit museums\, Cutty Sark\, take a trip on the Thames \n  \nsee Marcelle to book
URL:http://www.milsteadwithfrinstedwi.co.uk/event/visit-to-greenwich/
LOCATION:Kent
END:VEVENT
BEGIN:VEVENT
DTSTART;TZID=UTC:20200420T100000
DTEND;TZID=UTC:20200420T143000
DTSTAMP:20260420T144304
CREATED:20200207T140309Z
LAST-MODIFIED:20200320T162244Z
UID:1506-1587376800-1587393000@www.milsteadwithfrinstedwi.co.uk
SUMMARY:Resolutions lunch - CANCELLED
DESCRIPTION:Chartham Village Hall – £8 per person including ploughmans
URL:http://www.milsteadwithfrinstedwi.co.uk/event/resolutions-lunch/
LOCATION:Kent
END:VEVENT
BEGIN:VEVENT
DTSTART;TZID=UTC:20200415T080000
DTEND;TZID=UTC:20200415T170000
DTSTAMP:20260420T144304
CREATED:20191112T131749Z
LAST-MODIFIED:20191112T131749Z
UID:1443-1586937600-1586970000@www.milsteadwithfrinstedwi.co.uk
SUMMARY:Spring Garden day
DESCRIPTION:The Canterbury Academy\, Knight Avenue\, Canterbury\, Kent\, CT6 8QA \n  \nTickets £12 – let Marcelle know if you want to go
URL:http://www.milsteadwithfrinstedwi.co.uk/event/spring-garden-day/
LOCATION:Kent
END:VEVENT
BEGIN:VEVENT
DTSTART;TZID=UTC:20200402T193000
DTEND;TZID=UTC:20200402T213000
DTSTAMP:20260420T144304
CREATED:20200207T141233Z
LAST-MODIFIED:20200320T162055Z
UID:1512-1585855800-1585863000@www.milsteadwithfrinstedwi.co.uk
SUMMARY:CSI & Forensics - CANCELLED
DESCRIPTION:Jack Dean
URL:http://www.milsteadwithfrinstedwi.co.uk/event/csi-forensics/
LOCATION:Milstead Village Hall\, Rawling Street\, Sittingbourne\, Kent\, ME9 0RU\, United Kingdom
END:VEVENT
BEGIN:VEVENT
DTSTART;TZID=UTC:20200327T190000
DTEND;TZID=UTC:20200327T220000
DTSTAMP:20260420T144304
CREATED:20200108T143511Z
LAST-MODIFIED:20200320T162010Z
UID:1493-1585335600-1585346400@www.milsteadwithfrinstedwi.co.uk
SUMMARY:Quiz night - Milstead Village Hall - CANCELLED
DESCRIPTION:
URL:http://www.milsteadwithfrinstedwi.co.uk/event/quiz-night-milstead-village-hall/
LOCATION:Milstead Village Hall\, Rawling Street\, Sittingbourne\, Kent\, ME9 0RU\, United Kingdom
END:VEVENT
BEGIN:VEVENT
DTSTART;TZID=UTC:20200307T100000
DTEND;TZID=UTC:20200307T120000
DTSTAMP:20260420T144304
CREATED:20200207T135733Z
LAST-MODIFIED:20200207T135733Z
UID:1504-1583575200-1583582400@www.milsteadwithfrinstedwi.co.uk
SUMMARY:Silent Auction - Tunstall village hall
DESCRIPTION:10am – 12pm – 50p entry \n  \ncoffee and cakes available
URL:http://www.milsteadwithfrinstedwi.co.uk/event/silent-auction-tunstall-village-hall/
LOCATION:Tunstall Village Hall\, Tunstall\, United Kingdom
END:VEVENT
BEGIN:VEVENT
DTSTART;TZID=UTC:20200305T193000
DTEND;TZID=UTC:20200305T213000
DTSTAMP:20260420T144304
CREATED:20200207T135539Z
LAST-MODIFIED:20200207T135539Z
UID:1502-1583436600-1583443800@www.milsteadwithfrinstedwi.co.uk
SUMMARY:Living with early onset dementia
DESCRIPTION:Diane Gallan
URL:http://www.milsteadwithfrinstedwi.co.uk/event/living-with-early-onset-dementia/
LOCATION:Milstead Village Hall\, Rawling Street\, Sittingbourne\, Kent\, ME9 0RU\, United Kingdom
END:VEVENT
BEGIN:VEVENT
DTSTART;TZID=UTC:20200220T143000
DTEND;TZID=UTC:20200220T170000
DTSTAMP:20260420T144304
CREATED:20191112T130050Z
LAST-MODIFIED:20191112T130050Z
UID:1439-1582209000-1582218000@www.milsteadwithfrinstedwi.co.uk
SUMMARY:Bapchild party
DESCRIPTION:2.30pm – Bapchild village Hall
URL:http://www.milsteadwithfrinstedwi.co.uk/event/bapchild-party/
LOCATION:Bapchild & Tonge Village Hall\, School Lane\, Bapchild\, KENT\, ME9 9NL\, United Kingdom
END:VEVENT
BEGIN:VEVENT
DTSTART;TZID=UTC:20200211T120000
DTEND;TZID=UTC:20200211T150000
DTSTAMP:20260420T144304
CREATED:20191209T155937Z
LAST-MODIFIED:20191209T155937Z
UID:1456-1581422400-1581433200@www.milsteadwithfrinstedwi.co.uk
SUMMARY:Lunch at the Skills centre
DESCRIPTION:£10.50 for a 3 course lunch. If you would like to go please let Dilys know.
URL:http://www.milsteadwithfrinstedwi.co.uk/event/lunch-at-the-skills-centre-2/
LOCATION:Kent
END:VEVENT
BEGIN:VEVENT
DTSTART;TZID=UTC:20200207T080000
DTEND;TZID=UTC:20200207T170000
DTSTAMP:20260420T144304
CREATED:20200207T143745Z
LAST-MODIFIED:20200207T143745Z
UID:1538-1581062400-1581094800@www.milsteadwithfrinstedwi.co.uk
SUMMARY:Coffee morning - Frinsted Village Hall
DESCRIPTION:10 am – 12pm
URL:http://www.milsteadwithfrinstedwi.co.uk/event/coffee-morning-frinsted-village-hall-2/
LOCATION:Kent
END:VEVENT
BEGIN:VEVENT
DTSTART;TZID=UTC:20200205T140000
DTEND;TZID=UTC:20200205T170000
DTSTAMP:20260420T144304
CREATED:20191209T155731Z
LAST-MODIFIED:20191209T155731Z
UID:1454-1580911200-1580922000@www.milsteadwithfrinstedwi.co.uk
SUMMARY:Lynstead with Tenham 100th Birthday Party
DESCRIPTION:If you would like to go\, please email Marcelle
URL:http://www.milsteadwithfrinstedwi.co.uk/event/lynstead-with-tenham-100th-birthday-party/
LOCATION:Teynham Village Hall\, Belle Friday Close\, Teynham\, KENT\, ME9 9TU\, United Kingdom
END:VEVENT
BEGIN:VEVENT
DTSTART;TZID=UTC:20200109T193000
DTEND;TZID=UTC:20200109T220000
DTSTAMP:20260420T144304
CREATED:20181206T082658Z
LAST-MODIFIED:20181206T082658Z
UID:1197-1578598200-1578607200@www.milsteadwithfrinstedwi.co.uk
SUMMARY:Picture Quiz
DESCRIPTION:Organised by Mandy
URL:http://www.milsteadwithfrinstedwi.co.uk/event/picture-quiz/
LOCATION:Milstead Village Hall\, Rawling Street\, Sittingbourne\, Kent\, ME9 0RU\, United Kingdom
END:VEVENT
BEGIN:VEVENT
DTSTART;TZID=UTC:20191213T080000
DTEND;TZID=UTC:20191213T170000
DTSTAMP:20260420T144304
CREATED:20190910T121008Z
LAST-MODIFIED:20190910T121008Z
UID:1410-1576224000-1576256400@www.milsteadwithfrinstedwi.co.uk
SUMMARY:London at Christmas - trip
DESCRIPTION:Morning at Borough Market for special Christmas food \nAfternoon at Covent garden for Christmas present shopping \nFollowed by drive through the Christmas lights of London \nPrice £22 let Angela or Marcelle know\, if you would like to attend
URL:http://www.milsteadwithfrinstedwi.co.uk/event/london-at-christmas-trip/
LOCATION:Kent
END:VEVENT
BEGIN:VEVENT
DTSTART;TZID=UTC:20191209T140000
DTEND;TZID=UTC:20191209T160000
DTSTAMP:20260420T144304
CREATED:20191015T132424Z
LAST-MODIFIED:20191112T130916Z
UID:1429-1575900000-1575907200@www.milsteadwithfrinstedwi.co.uk
SUMMARY:Carols at Canterbury Cathedral
DESCRIPTION:
URL:http://www.milsteadwithfrinstedwi.co.uk/event/carols-at-canterbury-cathedral/
LOCATION:Kent
END:VEVENT
BEGIN:VEVENT
DTSTART;TZID=UTC:20191207T130000
DTEND;TZID=UTC:20191207T170000
DTSTAMP:20260420T144304
CREATED:20190808T153217Z
LAST-MODIFIED:20190808T153217Z
UID:1394-1575723600-1575738000@www.milsteadwithfrinstedwi.co.uk
SUMMARY:Christmas lunch - George at Newnham
DESCRIPTION:We will be having our Christmas lunch on Saturday 7th December 1pm at the George Newnham. Angela will need names and a £10 deposit please.
URL:http://www.milsteadwithfrinstedwi.co.uk/event/christmas-lunch-george-at-newnham/
LOCATION:ME9 0LL\, George at Newnham\, Newnham\, ME9 0LL\, United Kingdom
END:VEVENT
BEGIN:VEVENT
DTSTART;TZID=UTC:20191205T193000
DTEND;TZID=UTC:20191205T220000
DTSTAMP:20260420T144304
CREATED:20181206T082604Z
LAST-MODIFIED:20181206T082604Z
UID:1195-1575574200-1575583200@www.milsteadwithfrinstedwi.co.uk
SUMMARY:Christmas Gin Tasting
DESCRIPTION:
URL:http://www.milsteadwithfrinstedwi.co.uk/event/christmas-gin-tasting/
LOCATION:Milstead Village Hall\, Rawling Street\, Sittingbourne\, Kent\, ME9 0RU\, United Kingdom
END:VEVENT
BEGIN:VEVENT
DTSTART;TZID=UTC:20191205T080000
DTEND;TZID=UTC:20191208T170000
DTSTAMP:20260420T144304
CREATED:20191015T130453Z
LAST-MODIFIED:20191015T130453Z
UID:1427-1575532800-1575824400@www.milsteadwithfrinstedwi.co.uk
SUMMARY:Tunstall Christmas tree festival
DESCRIPTION:Tunstall church. Come and see our decorated tree
URL:http://www.milsteadwithfrinstedwi.co.uk/event/tunstall-christmas-tree-festival/
LOCATION:Kent
END:VEVENT
BEGIN:VEVENT
DTSTART;TZID=UTC:20191204T130000
DTEND;TZID=UTC:20191204T170000
DTSTAMP:20260420T144304
CREATED:20190808T152811Z
LAST-MODIFIED:20190808T152811Z
UID:1392-1575464400-1575478800@www.milsteadwithfrinstedwi.co.uk
SUMMARY:Great Danes Christmas lunch with Beatles tribute
DESCRIPTION:We are visiting the Great Danes for a Christmas Beatles lunch; the price is £30 for a 3 course meal and entertainment. At present there are 5  interested so far . Marcelle\, Lynne\, Barbara\, Karen and Angela.  Could these ladies please send the money ASAP? Angela will be booking this now.
URL:http://www.milsteadwithfrinstedwi.co.uk/event/great-danes-christmas-lunch-with-beatles-tribute/
LOCATION:Kent
END:VEVENT
BEGIN:VEVENT
DTSTART;TZID=UTC:20191202T100000
DTEND;TZID=UTC:20191202T170000
DTSTAMP:20260420T144304
CREATED:20190910T120217Z
LAST-MODIFIED:20190910T120217Z
UID:1408-1575280800-1575306000@www.milsteadwithfrinstedwi.co.uk
SUMMARY:East Kent Winter wonderland lunch Margate
DESCRIPTION:Christmas Fayre and lunch at The Winter Gardens Margate \n3 course lunch £28 per head. Lots of stalls for Christmas shopping. \n  \nemail federation.secretary@eastkentfedwi.org.uk
URL:http://www.milsteadwithfrinstedwi.co.uk/event/east-kent-winter-wonderland-lunch-margate/
LOCATION:Kent
END:VEVENT
BEGIN:VEVENT
DTSTART;TZID=UTC:20191121T193000
DTEND;TZID=UTC:20191121T220000
DTSTAMP:20260420T144304
CREATED:20181206T082513Z
LAST-MODIFIED:20191112T125826Z
UID:1193-1574364600-1574373600@www.milsteadwithfrinstedwi.co.uk
SUMMARY:97th Birthday Party
DESCRIPTION:Kenneth Williams\, Tortured Genius – Peter Colmer \nHot food supplied by the committee
URL:http://www.milsteadwithfrinstedwi.co.uk/event/97th-birthday-party/
LOCATION:Milstead Village Hall\, Rawling Street\, Sittingbourne\, Kent\, ME9 0RU\, United Kingdom
END:VEVENT
BEGIN:VEVENT
DTSTART;TZID=UTC:20191115T193000
DTEND;TZID=UTC:20191115T220000
DTSTAMP:20260420T144304
CREATED:20191015T125954Z
LAST-MODIFIED:20191015T130004Z
UID:1424-1573846200-1573855200@www.milsteadwithfrinstedwi.co.uk
SUMMARY:Horticultural society quiz night
DESCRIPTION:Milstead village Hall 7.30pm
URL:http://www.milsteadwithfrinstedwi.co.uk/event/horticultural-society-quiz-night/
LOCATION:Milstead Village Hall\, Rawling Street\, Sittingbourne\, Kent\, ME9 0RU\, United Kingdom
END:VEVENT
BEGIN:VEVENT
DTSTART;TZID=UTC:20191111T193000
DTEND;TZID=UTC:20191111T210000
DTSTAMP:20260420T144304
CREATED:20191015T124717Z
LAST-MODIFIED:20191121T143634Z
UID:1422-1573500600-1573506000@www.milsteadwithfrinstedwi.co.uk
SUMMARY:New Committee meeting
DESCRIPTION:Location TBA 7.30pm \n  \n 
URL:http://www.milsteadwithfrinstedwi.co.uk/event/new-committee-meeting/
LOCATION:Kent
END:VEVENT
BEGIN:VEVENT
DTSTART;TZID=UTC:20191107T193000
DTEND;TZID=UTC:20191107T220000
DTSTAMP:20260420T144304
CREATED:20181206T082323Z
LAST-MODIFIED:20191015T124518Z
UID:1191-1573155000-1573164000@www.milsteadwithfrinstedwi.co.uk
SUMMARY:Annual Meeting - Fareshare Kent and Family food bank
DESCRIPTION:Please bring food donations along to the meeting
URL:http://www.milsteadwithfrinstedwi.co.uk/event/annual-meeting-fareshare-kent-and-family-food-bank/
LOCATION:Milstead Village Hall\, Rawling Street\, Sittingbourne\, Kent\, ME9 0RU\, United Kingdom
END:VEVENT
BEGIN:VEVENT
DTSTART;TZID=UTC:20191026T190000
DTEND;TZID=UTC:20191026T190000
DTSTAMP:20260420T144304
CREATED:20190808T152052Z
LAST-MODIFIED:20190808T152052Z
UID:1390-1572116400-1572116400@www.milsteadwithfrinstedwi.co.uk
SUMMARY:Horticultural Society dinner
DESCRIPTION:Milstead village Hall – details from Jenny
URL:http://www.milsteadwithfrinstedwi.co.uk/event/horticultural-society-dinner/
LOCATION:Milstead Village Hall\, Rawling Street\, Sittingbourne\, Kent\, ME9 0RU\, United Kingdom
END:VEVENT
END:VCALENDAR