BEGIN:VCALENDAR
VERSION:2.0
PRODID:-//Milstead With Frinsted WI - ECPv6.12.0//NONSGML v1.0//EN
CALSCALE:GREGORIAN
METHOD:PUBLISH
X-WR-CALNAME:Milstead With Frinsted WI
X-ORIGINAL-URL:http://www.milsteadwithfrinstedwi.co.uk
X-WR-CALDESC:Events for Milstead With Frinsted WI
REFRESH-INTERVAL;VALUE=DURATION:PT1H
X-Robots-Tag:noindex
X-PUBLISHED-TTL:PT1H
BEGIN:VTIMEZONE
TZID:UTC
BEGIN:STANDARD
TZOFFSETFROM:+0000
TZOFFSETTO:+0000
TZNAME:UTC
DTSTART:20190101T000000
END:STANDARD
END:VTIMEZONE
BEGIN:VEVENT
DTSTART;TZID=UTC:20191207T130000
DTEND;TZID=UTC:20191207T170000
DTSTAMP:20260420T181425
CREATED:20190808T153217Z
LAST-MODIFIED:20190808T153217Z
UID:1394-1575723600-1575738000@www.milsteadwithfrinstedwi.co.uk
SUMMARY:Christmas lunch - George at Newnham
DESCRIPTION:We will be having our Christmas lunch on Saturday 7th December 1pm at the George Newnham. Angela will need names and a £10 deposit please.
URL:http://www.milsteadwithfrinstedwi.co.uk/event/christmas-lunch-george-at-newnham/
LOCATION:ME9 0LL\, George at Newnham\, Newnham\, ME9 0LL\, United Kingdom
END:VEVENT
BEGIN:VEVENT
DTSTART;TZID=UTC:20191205T193000
DTEND;TZID=UTC:20191205T220000
DTSTAMP:20260420T181425
CREATED:20181206T082604Z
LAST-MODIFIED:20181206T082604Z
UID:1195-1575574200-1575583200@www.milsteadwithfrinstedwi.co.uk
SUMMARY:Christmas Gin Tasting
DESCRIPTION:
URL:http://www.milsteadwithfrinstedwi.co.uk/event/christmas-gin-tasting/
LOCATION:Milstead Village Hall\, Rawling Street\, Sittingbourne\, Kent\, ME9 0RU\, United Kingdom
END:VEVENT
BEGIN:VEVENT
DTSTART;TZID=UTC:20191205T080000
DTEND;TZID=UTC:20191208T170000
DTSTAMP:20260420T181425
CREATED:20191015T130453Z
LAST-MODIFIED:20191015T130453Z
UID:1427-1575532800-1575824400@www.milsteadwithfrinstedwi.co.uk
SUMMARY:Tunstall Christmas tree festival
DESCRIPTION:Tunstall church. Come and see our decorated tree
URL:http://www.milsteadwithfrinstedwi.co.uk/event/tunstall-christmas-tree-festival/
END:VEVENT
BEGIN:VEVENT
DTSTART;TZID=UTC:20191204T130000
DTEND;TZID=UTC:20191204T170000
DTSTAMP:20260420T181425
CREATED:20190808T152811Z
LAST-MODIFIED:20190808T152811Z
UID:1392-1575464400-1575478800@www.milsteadwithfrinstedwi.co.uk
SUMMARY:Great Danes Christmas lunch with Beatles tribute
DESCRIPTION:We are visiting the Great Danes for a Christmas Beatles lunch; the price is £30 for a 3 course meal and entertainment. At present there are 5  interested so far . Marcelle\, Lynne\, Barbara\, Karen and Angela.  Could these ladies please send the money ASAP? Angela will be booking this now.
URL:http://www.milsteadwithfrinstedwi.co.uk/event/great-danes-christmas-lunch-with-beatles-tribute/
END:VEVENT
BEGIN:VEVENT
DTSTART;TZID=UTC:20191202T100000
DTEND;TZID=UTC:20191202T170000
DTSTAMP:20260420T181425
CREATED:20190910T120217Z
LAST-MODIFIED:20190910T120217Z
UID:1408-1575280800-1575306000@www.milsteadwithfrinstedwi.co.uk
SUMMARY:East Kent Winter wonderland lunch Margate
DESCRIPTION:Christmas Fayre and lunch at The Winter Gardens Margate \n3 course lunch £28 per head. Lots of stalls for Christmas shopping. \n  \nemail federation.secretary@eastkentfedwi.org.uk
URL:http://www.milsteadwithfrinstedwi.co.uk/event/east-kent-winter-wonderland-lunch-margate/
END:VEVENT
BEGIN:VEVENT
DTSTART;TZID=UTC:20191121T193000
DTEND;TZID=UTC:20191121T220000
DTSTAMP:20260420T181425
CREATED:20181206T082513Z
LAST-MODIFIED:20191112T125826Z
UID:1193-1574364600-1574373600@www.milsteadwithfrinstedwi.co.uk
SUMMARY:97th Birthday Party
DESCRIPTION:Kenneth Williams\, Tortured Genius – Peter Colmer \nHot food supplied by the committee
URL:http://www.milsteadwithfrinstedwi.co.uk/event/97th-birthday-party/
LOCATION:Milstead Village Hall\, Rawling Street\, Sittingbourne\, Kent\, ME9 0RU\, United Kingdom
END:VEVENT
BEGIN:VEVENT
DTSTART;TZID=UTC:20191115T193000
DTEND;TZID=UTC:20191115T220000
DTSTAMP:20260420T181425
CREATED:20191015T125954Z
LAST-MODIFIED:20191015T130004Z
UID:1424-1573846200-1573855200@www.milsteadwithfrinstedwi.co.uk
SUMMARY:Horticultural society quiz night
DESCRIPTION:Milstead village Hall 7.30pm
URL:http://www.milsteadwithfrinstedwi.co.uk/event/horticultural-society-quiz-night/
LOCATION:Milstead Village Hall\, Rawling Street\, Sittingbourne\, Kent\, ME9 0RU\, United Kingdom
END:VEVENT
BEGIN:VEVENT
DTSTART;TZID=UTC:20191111T193000
DTEND;TZID=UTC:20191111T210000
DTSTAMP:20260420T181425
CREATED:20191015T124717Z
LAST-MODIFIED:20191121T143634Z
UID:1422-1573500600-1573506000@www.milsteadwithfrinstedwi.co.uk
SUMMARY:New Committee meeting
DESCRIPTION:Location TBA 7.30pm \n  \n 
URL:http://www.milsteadwithfrinstedwi.co.uk/event/new-committee-meeting/
END:VEVENT
BEGIN:VEVENT
DTSTART;TZID=UTC:20191107T193000
DTEND;TZID=UTC:20191107T220000
DTSTAMP:20260420T181425
CREATED:20181206T082323Z
LAST-MODIFIED:20191015T124518Z
UID:1191-1573155000-1573164000@www.milsteadwithfrinstedwi.co.uk
SUMMARY:Annual Meeting - Fareshare Kent and Family food bank
DESCRIPTION:Please bring food donations along to the meeting
URL:http://www.milsteadwithfrinstedwi.co.uk/event/annual-meeting-fareshare-kent-and-family-food-bank/
LOCATION:Milstead Village Hall\, Rawling Street\, Sittingbourne\, Kent\, ME9 0RU\, United Kingdom
END:VEVENT
BEGIN:VEVENT
DTSTART;TZID=UTC:20191026T190000
DTEND;TZID=UTC:20191026T190000
DTSTAMP:20260420T181425
CREATED:20190808T152052Z
LAST-MODIFIED:20190808T152052Z
UID:1390-1572116400-1572116400@www.milsteadwithfrinstedwi.co.uk
SUMMARY:Horticultural Society dinner
DESCRIPTION:Milstead village Hall – details from Jenny
URL:http://www.milsteadwithfrinstedwi.co.uk/event/horticultural-society-dinner/
LOCATION:Milstead Village Hall\, Rawling Street\, Sittingbourne\, Kent\, ME9 0RU\, United Kingdom
END:VEVENT
BEGIN:VEVENT
DTSTART;TZID=UTC:20191018T190000
DTEND;TZID=UTC:20191018T190000
DTSTAMP:20260420T181425
CREATED:20190808T151922Z
LAST-MODIFIED:20190808T151930Z
UID:1386-1571425200-1571425200@www.milsteadwithfrinstedwi.co.uk
SUMMARY:Tour of Shepherd Neame & Dinner
DESCRIPTION:We are visiting Shepherd Neame for a tour and a 2 course meal on Friday 18th October in the evening. The price is £30. Please put your name on the list or email Angela if you are interested. Could the ladies who are going please either send me a cheque or if you prefer you can do a bank transfer (contact Angela for details 07729828959). The list is still open for a few days if you would like to go.
URL:http://www.milsteadwithfrinstedwi.co.uk/event/tour-or-shepherd-neame-dinner/
END:VEVENT
BEGIN:VEVENT
DTSTART;TZID=UTC:20191010T193000
DTEND;TZID=UTC:20191010T220000
DTSTAMP:20260420T181425
CREATED:20181105T085309Z
LAST-MODIFIED:20181105T085309Z
UID:1166-1570735800-1570744800@www.milsteadwithfrinstedwi.co.uk
SUMMARY:Group meeting Tunstall - 7.45pm
DESCRIPTION:
URL:http://www.milsteadwithfrinstedwi.co.uk/event/group-meeting-tunstall-7-45pm/
LOCATION:Tunstall Village Hall\, Tunstall\, United Kingdom
END:VEVENT
BEGIN:VEVENT
DTSTART;TZID=UTC:20191010T080000
DTEND;TZID=UTC:20191010T170000
DTSTAMP:20260420T181425
CREATED:20190808T151729Z
LAST-MODIFIED:20190808T151729Z
UID:1384-1570694400-1570726800@www.milsteadwithfrinstedwi.co.uk
SUMMARY:Old time music hall - Bluetown
DESCRIPTION:Email Marcelle for details
URL:http://www.milsteadwithfrinstedwi.co.uk/event/old-time-music-hall-bluetown/
END:VEVENT
BEGIN:VEVENT
DTSTART;TZID=UTC:20191009T183000
DTEND;TZID=UTC:20191009T183000
DTSTAMP:20260420T181425
CREATED:20190910T080438Z
LAST-MODIFIED:20190910T080438Z
UID:1406-1570645800-1570645800@www.milsteadwithfrinstedwi.co.uk
SUMMARY:Shepherd Neame Brewery tour - Faversham
DESCRIPTION:We are visiting Shepherd Neame for a tour and a 2 course meal on\nWednesday 9 th October at 6.30pm.. The price is £32.50. If you\naren’t on the list but fancy coming can you call Angela please.
URL:http://www.milsteadwithfrinstedwi.co.uk/event/shepherd-neame-brewery-tour-faversham/
END:VEVENT
BEGIN:VEVENT
DTSTART;TZID=UTC:20191008T140000
DTEND;TZID=UTC:20191008T170000
DTSTAMP:20260420T181425
CREATED:20190910T075940Z
LAST-MODIFIED:20190910T075940Z
UID:1404-1570543200-1570554000@www.milsteadwithfrinstedwi.co.uk
SUMMARY:Borden Birthday party
DESCRIPTION:2.15pm
URL:http://www.milsteadwithfrinstedwi.co.uk/event/borden-birthday-party-2/
END:VEVENT
BEGIN:VEVENT
DTSTART;TZID=UTC:20191005T080000
DTEND;TZID=UTC:20191005T170000
DTSTAMP:20260420T181425
CREATED:20190808T151455Z
LAST-MODIFIED:20190808T151455Z
UID:1382-1570262400-1570294800@www.milsteadwithfrinstedwi.co.uk
SUMMARY:RHS Hyde Hall
DESCRIPTION:PLease email Marcelle for more information
URL:http://www.milsteadwithfrinstedwi.co.uk/event/rhs-hyde-hall/
END:VEVENT
BEGIN:VEVENT
DTSTART;TZID=UTC:20191004T110000
DTEND;TZID=UTC:20191004T120000
DTSTAMP:20260420T181425
CREATED:20190910T075746Z
LAST-MODIFIED:20190910T075746Z
UID:1402-1570186800-1570190400@www.milsteadwithfrinstedwi.co.uk
SUMMARY:Tai chi
DESCRIPTION:Frinsted Village Hall with Vena \n  \n11am – free entry
URL:http://www.milsteadwithfrinstedwi.co.uk/event/tai-chi/
LOCATION:Frinsted Village Hall\, United Kingdom
END:VEVENT
BEGIN:VEVENT
DTSTART;TZID=UTC:20191003T193000
DTEND;TZID=UTC:20191003T193000
DTSTAMP:20260420T181425
CREATED:20190910T075559Z
LAST-MODIFIED:20190910T075559Z
UID:1400-1570131000-1570131000@www.milsteadwithfrinstedwi.co.uk
SUMMARY:Carol Fox - line dancing
DESCRIPTION:Milstead Village Hall 7.30pm
URL:http://www.milsteadwithfrinstedwi.co.uk/event/carol-fox-line-dancing/
LOCATION:Milstead Village Hall\, Rawling Street\, Sittingbourne\, Kent\, ME9 0RU\, United Kingdom
END:VEVENT
BEGIN:VEVENT
DTSTART;TZID=UTC:20191001T133000
DTEND;TZID=UTC:20191001T153000
DTSTAMP:20260420T181425
CREATED:20190808T150516Z
LAST-MODIFIED:20190808T150516Z
UID:1380-1569936600-1569943800@www.milsteadwithfrinstedwi.co.uk
SUMMARY:Afternoon tea  at Baptist church
DESCRIPTION:Newington Group would be arranging an afternoon tea at Sittingbourne Baptist church on 1st October 1.30-3.30 £2.50 to celebrate 100 years of the EK federation. There are 6 tickets. Email Marcelle
URL:http://www.milsteadwithfrinstedwi.co.uk/event/afternoon-tea-at-baptist-church/
END:VEVENT
BEGIN:VEVENT
DTSTART;TZID=UTC:20190924T080000
DTEND;TZID=UTC:20190924T170000
DTSTAMP:20260420T181425
CREATED:20190808T145658Z
LAST-MODIFIED:20190808T145658Z
UID:1378-1569312000-1569344400@www.milsteadwithfrinstedwi.co.uk
SUMMARY:Borden WI trip to Penshurst Place
DESCRIPTION:Borden WI are organising an outing to Penshurst Place. If this interests you please contact Marcelle for details.
URL:http://www.milsteadwithfrinstedwi.co.uk/event/borden-wi-trip-to-penshurst-place/
END:VEVENT
BEGIN:VEVENT
DTSTART;TZID=UTC:20190920T190000
DTEND;TZID=UTC:20190920T190000
DTSTAMP:20260420T181425
CREATED:20190808T145448Z
LAST-MODIFIED:20190808T145448Z
UID:1376-1569006000-1569006000@www.milsteadwithfrinstedwi.co.uk
SUMMARY:Bingo with Sausage & Mash
DESCRIPTION:Our Fundraising Bingo with Brogdale sausage and mash will be on Friday 20th September 7pm for 7.30pm. The cost is just £8. Please put your name on the list  or email Angela and indicate how many people so we can cater for it. This is open to all and will be a fun evening!
URL:http://www.milsteadwithfrinstedwi.co.uk/event/bingo-with-sausage-mash/
LOCATION:Milstead Village Hall\, Rawling Street\, Sittingbourne\, Kent\, ME9 0RU\, United Kingdom
END:VEVENT
BEGIN:VEVENT
DTSTART;TZID=UTC:20190919T193000
DTEND;TZID=UTC:20190919T193000
DTSTAMP:20260420T181425
CREATED:20190808T145237Z
LAST-MODIFIED:20190808T145237Z
UID:1374-1568921400-1568921400@www.milsteadwithfrinstedwi.co.uk
SUMMARY:Rodmersham green Birthday Party
DESCRIPTION:7.30pm Rodmersham village hall
URL:http://www.milsteadwithfrinstedwi.co.uk/event/rodmersham-green-birthday-party-2/
END:VEVENT
BEGIN:VEVENT
DTSTART;TZID=UTC:20190906T190000
DTEND;TZID=UTC:20190906T190000
DTSTAMP:20260420T181425
CREATED:20190808T145014Z
LAST-MODIFIED:20190808T145014Z
UID:1372-1567796400-1567796400@www.milsteadwithfrinstedwi.co.uk
SUMMARY:Milstead Horticultural society meeting
DESCRIPTION:Chelsea garden designer\, Fern Alder £7 members\, £8 non members
URL:http://www.milsteadwithfrinstedwi.co.uk/event/milstead-horticultural-society-meeting/
LOCATION:Milstead Village Hall\, Rawling Street\, Sittingbourne\, Kent\, ME9 0RU\, United Kingdom
END:VEVENT
BEGIN:VEVENT
DTSTART;TZID=UTC:20190905T193000
DTEND;TZID=UTC:20190905T220000
DTSTAMP:20260420T181425
CREATED:20181206T082154Z
LAST-MODIFIED:20181206T082154Z
UID:1189-1567711800-1567720800@www.milsteadwithfrinstedwi.co.uk
SUMMARY:Cupcake decorating class - Sian from Cakie Wakie
DESCRIPTION:Please let us know if you will be attending\, as we will need to know numbers for the supply of cupcakes
URL:http://www.milsteadwithfrinstedwi.co.uk/event/cupcake-decorating-class-sian-from-cakie-wakie/
LOCATION:Milstead Village Hall\, Rawling Street\, Sittingbourne\, Kent\, ME9 0RU\, United Kingdom
END:VEVENT
BEGIN:VEVENT
DTSTART;TZID=UTC:20190903T130000
DTEND;TZID=UTC:20190903T170000
DTSTAMP:20260420T181425
CREATED:20190808T144739Z
LAST-MODIFIED:20190808T144739Z
UID:1370-1567515600-1567530000@www.milsteadwithfrinstedwi.co.uk
SUMMARY:Village social
DESCRIPTION:Lunch with jacket potato £3 – 1pm bring friends
URL:http://www.milsteadwithfrinstedwi.co.uk/event/village-social/
LOCATION:Milstead Village Hall\, Rawling Street\, Sittingbourne\, Kent\, ME9 0RU\, United Kingdom
END:VEVENT
BEGIN:VEVENT
DTSTART;TZID=UTC:20190829T190000
DTEND;TZID=UTC:20190829T190000
DTSTAMP:20260420T181425
CREATED:20190808T144531Z
LAST-MODIFIED:20190808T144531Z
UID:1368-1567105200-1567105200@www.milsteadwithfrinstedwi.co.uk
SUMMARY:Group quiz
DESCRIPTION:For details email Mercelle
URL:http://www.milsteadwithfrinstedwi.co.uk/event/group-quiz/
END:VEVENT
BEGIN:VEVENT
DTSTART;TZID=UTC:20190817T143000
DTEND;TZID=UTC:20190817T170000
DTSTAMP:20260420T181425
CREATED:20190808T144125Z
LAST-MODIFIED:20190808T144125Z
UID:1366-1566052200-1566061200@www.milsteadwithfrinstedwi.co.uk
SUMMARY:Milstead Horticultural Society show
DESCRIPTION:Pop along and see lots of lovely flowers and veg grown locally at Milstead village hall – 2.30pm
URL:http://www.milsteadwithfrinstedwi.co.uk/event/milstead-horticultural-society-show/
LOCATION:Milstead Village Hall\, Rawling Street\, Sittingbourne\, Kent\, ME9 0RU\, United Kingdom
END:VEVENT
BEGIN:VEVENT
DTSTART;TZID=UTC:20190801T193000
DTEND;TZID=UTC:20190801T220000
DTSTAMP:20260420T181425
CREATED:20181206T081350Z
LAST-MODIFIED:20190115T091800Z
UID:1187-1564687800-1564696800@www.milsteadwithfrinstedwi.co.uk
SUMMARY:Programme planning
DESCRIPTION:
URL:http://www.milsteadwithfrinstedwi.co.uk/event/programme-planning-the-role-of-the-acww-caroline-bunting/
LOCATION:Milstead Village Hall\, Rawling Street\, Sittingbourne\, Kent\, ME9 0RU\, United Kingdom
END:VEVENT
BEGIN:VEVENT
DTSTART;TZID=UTC:20190722T120000
DTEND;TZID=UTC:20190722T170000
DTSTAMP:20260420T181425
CREATED:20190308T141909Z
LAST-MODIFIED:20190308T141909Z
UID:1346-1563796800-1563814800@www.milsteadwithfrinstedwi.co.uk
SUMMARY:Garden party - St Edmunds school Canterbury
DESCRIPTION:There is a Garden Party to celebrate East Kent’s Centenary on Monday July 22nd at St Edmunds School\, Canterbury. Please let Marcelle know if you want to attend. There are two sittings and the cost is £15 .I believe that Vena will be demonstrating Tai-Chi at the party and there are lots of things going on.
URL:http://www.milsteadwithfrinstedwi.co.uk/event/garden-party-st-edmunds-school-canterbury/
END:VEVENT
BEGIN:VEVENT
DTSTART;TZID=UTC:20190711T120000
DTEND;TZID=UTC:20190711T170000
DTSTAMP:20260420T181425
CREATED:20181105T085209Z
LAST-MODIFIED:20190308T141735Z
UID:1164-1562846400-1562864400@www.milsteadwithfrinstedwi.co.uk
SUMMARY:Bredgar group lunch to celebrate East Kent Centenary
DESCRIPTION:The Bredgar Group of WI’s are celebrating East Kent’s Centenary on July 11th at Upchurch Golf Club. The cost is £26 for three courses. Please note the change of date if you have put your name down. We need a £5 deposit at the April meeting.
URL:http://www.milsteadwithfrinstedwi.co.uk/event/bredgar-group-lunch-to-celebrate-east-kent-centenary/
END:VEVENT
END:VCALENDAR