BEGIN:VCALENDAR
VERSION:2.0
PRODID:-//Milstead With Frinsted WI - ECPv6.12.0//NONSGML v1.0//EN
CALSCALE:GREGORIAN
METHOD:PUBLISH
X-WR-CALNAME:Milstead With Frinsted WI
X-ORIGINAL-URL:http://www.milsteadwithfrinstedwi.co.uk
X-WR-CALDESC:Events for Milstead With Frinsted WI
REFRESH-INTERVAL;VALUE=DURATION:PT1H
X-Robots-Tag:noindex
X-PUBLISHED-TTL:PT1H
BEGIN:VTIMEZONE
TZID:UTC
BEGIN:STANDARD
TZOFFSETFROM:+0000
TZOFFSETTO:+0000
TZNAME:UTC
DTSTART:20190101T000000
END:STANDARD
END:VTIMEZONE
BEGIN:VEVENT
DTSTART;TZID=UTC:20190920T190000
DTEND;TZID=UTC:20190920T190000
DTSTAMP:20260420T213706
CREATED:20190808T145448Z
LAST-MODIFIED:20190808T145448Z
UID:1376-1569006000-1569006000@www.milsteadwithfrinstedwi.co.uk
SUMMARY:Bingo with Sausage & Mash
DESCRIPTION:Our Fundraising Bingo with Brogdale sausage and mash will be on Friday 20th September 7pm for 7.30pm. The cost is just £8. Please put your name on the list  or email Angela and indicate how many people so we can cater for it. This is open to all and will be a fun evening!
URL:http://www.milsteadwithfrinstedwi.co.uk/event/bingo-with-sausage-mash/
LOCATION:Milstead Village Hall\, Rawling Street\, Sittingbourne\, Kent\, ME9 0RU\, United Kingdom
END:VEVENT
BEGIN:VEVENT
DTSTART;TZID=UTC:20190919T193000
DTEND;TZID=UTC:20190919T193000
DTSTAMP:20260420T213706
CREATED:20190808T145237Z
LAST-MODIFIED:20190808T145237Z
UID:1374-1568921400-1568921400@www.milsteadwithfrinstedwi.co.uk
SUMMARY:Rodmersham green Birthday Party
DESCRIPTION:7.30pm Rodmersham village hall
URL:http://www.milsteadwithfrinstedwi.co.uk/event/rodmersham-green-birthday-party-2/
LOCATION:Kent
END:VEVENT
BEGIN:VEVENT
DTSTART;TZID=UTC:20190906T190000
DTEND;TZID=UTC:20190906T190000
DTSTAMP:20260420T213706
CREATED:20190808T145014Z
LAST-MODIFIED:20190808T145014Z
UID:1372-1567796400-1567796400@www.milsteadwithfrinstedwi.co.uk
SUMMARY:Milstead Horticultural society meeting
DESCRIPTION:Chelsea garden designer\, Fern Alder £7 members\, £8 non members
URL:http://www.milsteadwithfrinstedwi.co.uk/event/milstead-horticultural-society-meeting/
LOCATION:Milstead Village Hall\, Rawling Street\, Sittingbourne\, Kent\, ME9 0RU\, United Kingdom
END:VEVENT
BEGIN:VEVENT
DTSTART;TZID=UTC:20190905T193000
DTEND;TZID=UTC:20190905T220000
DTSTAMP:20260420T213706
CREATED:20181206T082154Z
LAST-MODIFIED:20181206T082154Z
UID:1189-1567711800-1567720800@www.milsteadwithfrinstedwi.co.uk
SUMMARY:Cupcake decorating class - Sian from Cakie Wakie
DESCRIPTION:Please let us know if you will be attending\, as we will need to know numbers for the supply of cupcakes
URL:http://www.milsteadwithfrinstedwi.co.uk/event/cupcake-decorating-class-sian-from-cakie-wakie/
LOCATION:Milstead Village Hall\, Rawling Street\, Sittingbourne\, Kent\, ME9 0RU\, United Kingdom
END:VEVENT
BEGIN:VEVENT
DTSTART;TZID=UTC:20190903T130000
DTEND;TZID=UTC:20190903T170000
DTSTAMP:20260420T213706
CREATED:20190808T144739Z
LAST-MODIFIED:20190808T144739Z
UID:1370-1567515600-1567530000@www.milsteadwithfrinstedwi.co.uk
SUMMARY:Village social
DESCRIPTION:Lunch with jacket potato £3 – 1pm bring friends
URL:http://www.milsteadwithfrinstedwi.co.uk/event/village-social/
LOCATION:Milstead Village Hall\, Rawling Street\, Sittingbourne\, Kent\, ME9 0RU\, United Kingdom
END:VEVENT
BEGIN:VEVENT
DTSTART;TZID=UTC:20190829T190000
DTEND;TZID=UTC:20190829T190000
DTSTAMP:20260420T213706
CREATED:20190808T144531Z
LAST-MODIFIED:20190808T144531Z
UID:1368-1567105200-1567105200@www.milsteadwithfrinstedwi.co.uk
SUMMARY:Group quiz
DESCRIPTION:For details email Mercelle
URL:http://www.milsteadwithfrinstedwi.co.uk/event/group-quiz/
LOCATION:Kent
END:VEVENT
BEGIN:VEVENT
DTSTART;TZID=UTC:20190817T143000
DTEND;TZID=UTC:20190817T170000
DTSTAMP:20260420T213706
CREATED:20190808T144125Z
LAST-MODIFIED:20190808T144125Z
UID:1366-1566052200-1566061200@www.milsteadwithfrinstedwi.co.uk
SUMMARY:Milstead Horticultural Society show
DESCRIPTION:Pop along and see lots of lovely flowers and veg grown locally at Milstead village hall – 2.30pm
URL:http://www.milsteadwithfrinstedwi.co.uk/event/milstead-horticultural-society-show/
LOCATION:Milstead Village Hall\, Rawling Street\, Sittingbourne\, Kent\, ME9 0RU\, United Kingdom
END:VEVENT
BEGIN:VEVENT
DTSTART;TZID=UTC:20190801T193000
DTEND;TZID=UTC:20190801T220000
DTSTAMP:20260420T213706
CREATED:20181206T081350Z
LAST-MODIFIED:20190115T091800Z
UID:1187-1564687800-1564696800@www.milsteadwithfrinstedwi.co.uk
SUMMARY:Programme planning
DESCRIPTION:
URL:http://www.milsteadwithfrinstedwi.co.uk/event/programme-planning-the-role-of-the-acww-caroline-bunting/
LOCATION:Milstead Village Hall\, Rawling Street\, Sittingbourne\, Kent\, ME9 0RU\, United Kingdom
END:VEVENT
BEGIN:VEVENT
DTSTART;TZID=UTC:20190722T120000
DTEND;TZID=UTC:20190722T170000
DTSTAMP:20260420T213706
CREATED:20190308T141909Z
LAST-MODIFIED:20190308T141909Z
UID:1346-1563796800-1563814800@www.milsteadwithfrinstedwi.co.uk
SUMMARY:Garden party - St Edmunds school Canterbury
DESCRIPTION:There is a Garden Party to celebrate East Kent’s Centenary on Monday July 22nd at St Edmunds School\, Canterbury. Please let Marcelle know if you want to attend. There are two sittings and the cost is £15 .I believe that Vena will be demonstrating Tai-Chi at the party and there are lots of things going on.
URL:http://www.milsteadwithfrinstedwi.co.uk/event/garden-party-st-edmunds-school-canterbury/
LOCATION:Kent
END:VEVENT
BEGIN:VEVENT
DTSTART;TZID=UTC:20190711T120000
DTEND;TZID=UTC:20190711T170000
DTSTAMP:20260420T213706
CREATED:20181105T085209Z
LAST-MODIFIED:20190308T141735Z
UID:1164-1562846400-1562864400@www.milsteadwithfrinstedwi.co.uk
SUMMARY:Bredgar group lunch to celebrate East Kent Centenary
DESCRIPTION:The Bredgar Group of WI’s are celebrating East Kent’s Centenary on July 11th at Upchurch Golf Club. The cost is £26 for three courses. Please note the change of date if you have put your name down. We need a £5 deposit at the April meeting.
URL:http://www.milsteadwithfrinstedwi.co.uk/event/bredgar-group-lunch-to-celebrate-east-kent-centenary/
LOCATION:Kent
END:VEVENT
BEGIN:VEVENT
DTSTART;TZID=UTC:20190706T100000
DTEND;TZID=UTC:20190706T120000
DTSTAMP:20260420T213706
CREATED:20181009T143823Z
LAST-MODIFIED:20181009T143823Z
UID:1145-1562407200-1562414400@www.milsteadwithfrinstedwi.co.uk
SUMMARY:Frinsted Coffee morning
DESCRIPTION:Frinsted village hall
URL:http://www.milsteadwithfrinstedwi.co.uk/event/frinsted-coffee-morning/
LOCATION:Frinsted village Hall\, ME9 0SN
END:VEVENT
BEGIN:VEVENT
DTSTART;TZID=UTC:20190704T193000
DTEND;TZID=UTC:20190704T220000
DTSTAMP:20260420T213706
CREATED:20181206T081248Z
LAST-MODIFIED:20181206T081248Z
UID:1185-1562268600-1562277600@www.milsteadwithfrinstedwi.co.uk
SUMMARY:Garden Party - Rose Cottage Milstead (opposite the hall)
DESCRIPTION:
URL:http://www.milsteadwithfrinstedwi.co.uk/event/garden-party-rose-cottage-milstead-opposite-the-hall/
LOCATION:Kent
END:VEVENT
BEGIN:VEVENT
DTSTART;TZID=UTC:20190702T143000
DTEND;TZID=UTC:20190702T170000
DTSTAMP:20260420T213706
CREATED:20190530T095801Z
LAST-MODIFIED:20190530T095801Z
UID:1356-1562077800-1562086800@www.milsteadwithfrinstedwi.co.uk
SUMMARY:Provender house visit
DESCRIPTION:Visit to Provender House 2.30pm £13. Tea and cake extra £6.50
URL:http://www.milsteadwithfrinstedwi.co.uk/event/provender-house-visit/
LOCATION:Provender House\, Norton Lane\, Faversham\, Kent\, ME13 0ST\, United Kingdom
END:VEVENT
BEGIN:VEVENT
DTSTART;TZID=UTC:20190624T190000
DTEND;TZID=UTC:20190624T210000
DTSTAMP:20260420T213706
CREATED:20190308T141400Z
LAST-MODIFIED:20190308T141400Z
UID:1341-1561402800-1561410000@www.milsteadwithfrinstedwi.co.uk
SUMMARY:Art Course with Helen Neaves
DESCRIPTION:Final Art Course
URL:http://www.milsteadwithfrinstedwi.co.uk/event/art-course-with-helen-neaves-3/
LOCATION:Milstead Village Hall\, Rawling Street\, Sittingbourne\, Kent\, ME9 0RU\, United Kingdom
END:VEVENT
BEGIN:VEVENT
DTSTART;TZID=UTC:20190617T190000
DTEND;TZID=UTC:20190617T210000
DTSTAMP:20260420T213706
CREATED:20190308T141325Z
LAST-MODIFIED:20190308T141325Z
UID:1339-1560798000-1560805200@www.milsteadwithfrinstedwi.co.uk
SUMMARY:Art Course with Helen Neaves
DESCRIPTION:Art course continues
URL:http://www.milsteadwithfrinstedwi.co.uk/event/art-course-with-helen-neaves-2/
LOCATION:Milstead Village Hall\, Rawling Street\, Sittingbourne\, Kent\, ME9 0RU\, United Kingdom
END:VEVENT
BEGIN:VEVENT
DTSTART;TZID=UTC:20190611T140000
DTEND;TZID=UTC:20190611T170000
DTSTAMP:20260420T213706
CREATED:20190308T141531Z
LAST-MODIFIED:20190308T141531Z
UID:1343-1560261600-1560272400@www.milsteadwithfrinstedwi.co.uk
SUMMARY:River trip Canterbury
DESCRIPTION:On 11th June 2pm we are planning to take a river trip in Canterbury\, please let us know if you are interested.
URL:http://www.milsteadwithfrinstedwi.co.uk/event/river-trip-canterbury/
LOCATION:Kent
END:VEVENT
BEGIN:VEVENT
DTSTART;TZID=UTC:20190610T190000
DTEND;TZID=UTC:20190610T210000
DTSTAMP:20260420T213706
CREATED:20190308T141234Z
LAST-MODIFIED:20190308T141234Z
UID:1337-1560193200-1560200400@www.milsteadwithfrinstedwi.co.uk
SUMMARY:Art Course with Helen Neaves
DESCRIPTION:The Art Course is provisionally booked for 6 people on Monday 10th\, 17th and 24th June 7-9pm. Helen Neaves assures us that by the end of the third week you will all be able to draw! Can you let Angela know ASAP if you are interested as numbers need to be kept to 6?
URL:http://www.milsteadwithfrinstedwi.co.uk/event/art-course-with-helen-neaves/
LOCATION:Milstead Village Hall\, Rawling Street\, Sittingbourne\, Kent\, ME9 0RU\, United Kingdom
END:VEVENT
BEGIN:VEVENT
DTSTART;TZID=UTC:20190606T193000
DTEND;TZID=UTC:20190606T210000
DTSTAMP:20260420T213706
CREATED:20181206T080609Z
LAST-MODIFIED:20181206T080609Z
UID:1180-1559849400-1559854800@www.milsteadwithfrinstedwi.co.uk
SUMMARY:Huckleberry micro adventures - Belinda Neal
DESCRIPTION:
URL:http://www.milsteadwithfrinstedwi.co.uk/event/huckleberry-micro-adventures-belinda-neal/
LOCATION:Milstead Village Hall\, Rawling Street\, Sittingbourne\, Kent\, ME9 0RU\, United Kingdom
END:VEVENT
BEGIN:VEVENT
DTSTART;TZID=UTC:20190605T100000
DTEND;TZID=UTC:20190605T170000
DTSTAMP:20260420T213706
CREATED:20181105T084702Z
LAST-MODIFIED:20181105T084702Z
UID:1162-1559728800-1559754000@www.milsteadwithfrinstedwi.co.uk
SUMMARY:Annual meeting  - Bournemouth
DESCRIPTION:
URL:http://www.milsteadwithfrinstedwi.co.uk/event/annual-meeting-bournemouth/
LOCATION:Kent
END:VEVENT
BEGIN:VEVENT
DTSTART;TZID=UTC:20190509T193000
DTEND;TZID=UTC:20190509T220000
DTSTAMP:20260420T213706
CREATED:20181206T080438Z
LAST-MODIFIED:20181206T080438Z
UID:1178-1557430200-1557439200@www.milsteadwithfrinstedwi.co.uk
SUMMARY:Resolution meeting
DESCRIPTION:Speaker relevant to the resolution
URL:http://www.milsteadwithfrinstedwi.co.uk/event/resolution-meeting/
LOCATION:Milstead Village Hall\, Rawling Street\, Sittingbourne\, Kent\, ME9 0RU\, United Kingdom
END:VEVENT
BEGIN:VEVENT
DTSTART;TZID=UTC:20190508T080000
DTEND;TZID=UTC:20190508T170000
DTSTAMP:20260420T213706
CREATED:20190115T091647Z
LAST-MODIFIED:20190115T091647Z
UID:1311-1557302400-1557334800@www.milsteadwithfrinstedwi.co.uk
SUMMARY:Visit to Eltham Palace
DESCRIPTION:East Kent Federation is arranging a trip to Eltham Palace on Wednesday 8th May. The price will be £18 for members of English Heritage and £32 for others. If you want to join us please let Marcelle know. These trips are always well organised and fun. The coach pick up will be from Sittingbourne station.
URL:http://www.milsteadwithfrinstedwi.co.uk/event/visit-to-eltham-palace/
LOCATION:Kent
END:VEVENT
BEGIN:VEVENT
DTSTART;TZID=UTC:20190416T140000
DTEND;TZID=UTC:20190416T170000
DTSTAMP:20260420T213706
CREATED:20190308T140647Z
LAST-MODIFIED:20190308T140647Z
UID:1333-1555423200-1555434000@www.milsteadwithfrinstedwi.co.uk
SUMMARY:Painters Forstal & Selling Birthday Party
DESCRIPTION:This takes place at Eastling VH. Please let Marcelle know if you would like to go.
URL:http://www.milsteadwithfrinstedwi.co.uk/event/painters-forstal-selling-birthday-party/
LOCATION:Kent
END:VEVENT
BEGIN:VEVENT
DTSTART;TZID=UTC:20190415T100000
DTEND;TZID=UTC:20190415T170000
DTSTAMP:20260420T213706
CREATED:20190308T140942Z
LAST-MODIFIED:20190308T140942Z
UID:1335-1555322400-1555347600@www.milsteadwithfrinstedwi.co.uk
SUMMARY:East Kent Federation lunch to discuss resolutions
DESCRIPTION:East Kent Federation have organised a lunch where the proposed resolution is discussed at length. This is to help members decide which way they will vote. We will be informed of the chosen resolution for 2019 very soon\, lifts can be arranged. The cost is £7.50 which includes the lunch.
URL:http://www.milsteadwithfrinstedwi.co.uk/event/east-kent-federation-lunch-to-discuss-resolutions/
LOCATION:Chartham Village Hall\, Station Road\, Chartham\, Kent\, CT4 7JA\, United Kingdom
END:VEVENT
BEGIN:VEVENT
DTSTART;TZID=UTC:20190410T080000
DTEND;TZID=UTC:20190410T170000
DTSTAMP:20260420T213706
CREATED:20190308T134923Z
LAST-MODIFIED:20190308T134923Z
UID:1331-1554883200-1554915600@www.milsteadwithfrinstedwi.co.uk
SUMMARY:Spring garden day - see East Kent News for information
DESCRIPTION:
URL:http://www.milsteadwithfrinstedwi.co.uk/event/spring-garden-day-see-east-kent-news-for-information/
LOCATION:Kent
END:VEVENT
BEGIN:VEVENT
DTSTART;TZID=UTC:20190404T193000
DTEND;TZID=UTC:20190404T220000
DTSTAMP:20260420T213706
CREATED:20181206T080332Z
LAST-MODIFIED:20181206T080332Z
UID:1176-1554406200-1554415200@www.milsteadwithfrinstedwi.co.uk
SUMMARY:A schoolgirls war - Mary Smith
DESCRIPTION:
URL:http://www.milsteadwithfrinstedwi.co.uk/event/a-schoolgirls-war-mary-smith/
LOCATION:Milstead Village Hall\, Rawling Street\, Sittingbourne\, Kent\, ME9 0RU\, United Kingdom
END:VEVENT
BEGIN:VEVENT
DTSTART;TZID=UTC:20190404T193000
DTEND;TZID=UTC:20190404T210000
DTSTAMP:20260420T213706
CREATED:20180612T062903Z
LAST-MODIFIED:20181206T081129Z
UID:1092-1554406200-1554411600@www.milsteadwithfrinstedwi.co.uk
SUMMARY:Group meeting
DESCRIPTION:Milstead 7.30pm \nWe will be having the Maypole singers and Mary Smith – A School girls war
URL:http://www.milsteadwithfrinstedwi.co.uk/event/group-meeting-2/
LOCATION:Milstead Village Hall\, Rawling Street\, Sittingbourne\, Kent\, ME9 0RU\, United Kingdom
END:VEVENT
BEGIN:VEVENT
DTSTART;TZID=UTC:20190329T193000
DTEND;TZID=UTC:20190329T223000
DTSTAMP:20260420T213706
CREATED:20181212T095446Z
LAST-MODIFIED:20181212T095611Z
UID:1213-1553887800-1553898600@www.milsteadwithfrinstedwi.co.uk
SUMMARY:Quiz night - 7.30pm
DESCRIPTION:Our annual Quiz Night will take place on Friday 29th March 2019 at 7.30pm. This is a great night at just £7.50 a head which includes a great supper. Friends and family are all welcome\, but if it is just you there will be a team you can join.
URL:http://www.milsteadwithfrinstedwi.co.uk/event/quiz-night-7-30pm/
LOCATION:Milstead Village Hall\, Rawling Street\, Sittingbourne\, Kent\, ME9 0RU\, United Kingdom
END:VEVENT
BEGIN:VEVENT
DTSTART;TZID=UTC:20190321T190000
DTEND;TZID=UTC:20190321T190000
DTSTAMP:20260420T213706
CREATED:20181212T094653Z
LAST-MODIFIED:20181212T094653Z
UID:1211-1553194800-1553194800@www.milsteadwithfrinstedwi.co.uk
SUMMARY:Brendan Cole at the Marlowe
DESCRIPTION:If you are interested in seeing Brendan Cole at the Marlowe on Thursday 21st March £37 please let Angela so she can book tickets.
URL:http://www.milsteadwithfrinstedwi.co.uk/event/brendan-cole-at-the-marlowe/
LOCATION:Marlowe Theatre\, The Friars\, Canterbury\, Kent\, CT1 2AS\, United Kingdom
END:VEVENT
BEGIN:VEVENT
DTSTART;TZID=UTC:20190320T140000
DTEND;TZID=UTC:20190320T170000
DTSTAMP:20260420T213706
CREATED:20190308T134319Z
LAST-MODIFIED:20190308T134319Z
UID:1326-1553090400-1553101200@www.milsteadwithfrinstedwi.co.uk
SUMMARY:Criterion Bluetown  - Rogers and Hamertein
DESCRIPTION:We are visiting the Criterion at Bluetown on Wednesday 20th March 2pm to see Rodgers and Hammerstein. The cost is 25 pounds which includes an afternoon tea. Please let me know ASAP
URL:http://www.milsteadwithfrinstedwi.co.uk/event/criterion-bluetown-rogers-and-hamertein/
LOCATION:Kent
END:VEVENT
BEGIN:VEVENT
DTSTART;TZID=UTC:20190319T130000
DTEND;TZID=UTC:20190319T150000
DTSTAMP:20260420T213706
CREATED:20181212T094158Z
LAST-MODIFIED:20190115T085906Z
UID:1204-1553000400-1553007600@www.milsteadwithfrinstedwi.co.uk
SUMMARY:Soup & sandwich at Milstead Village Hall
DESCRIPTION:1pm £3 open to all.
URL:http://www.milsteadwithfrinstedwi.co.uk/event/soup-sandwich-at-milstead-village-hall/
LOCATION:Milstead Village Hall\, Rawling Street\, Sittingbourne\, Kent\, ME9 0RU\, United Kingdom
END:VEVENT
END:VCALENDAR