BEGIN:VCALENDAR
VERSION:2.0
PRODID:-//Milstead With Frinsted WI - ECPv6.12.0//NONSGML v1.0//EN
CALSCALE:GREGORIAN
METHOD:PUBLISH
X-WR-CALNAME:Milstead With Frinsted WI
X-ORIGINAL-URL:http://www.milsteadwithfrinstedwi.co.uk
X-WR-CALDESC:Events for Milstead With Frinsted WI
REFRESH-INTERVAL;VALUE=DURATION:PT1H
X-Robots-Tag:noindex
X-PUBLISHED-TTL:PT1H
BEGIN:VTIMEZONE
TZID:UTC
BEGIN:STANDARD
TZOFFSETFROM:+0000
TZOFFSETTO:+0000
TZNAME:UTC
DTSTART:20180101T000000
END:STANDARD
END:VTIMEZONE
BEGIN:VEVENT
DTSTART;TZID=UTC:20181212T110000
DTEND;TZID=UTC:20181212T170000
DTSTAMP:20260423T104802
CREATED:20181105T084347Z
LAST-MODIFIED:20181121T165625Z
UID:1160-1544612400-1544634000@www.milsteadwithfrinstedwi.co.uk
SUMMARY:Christmas Wreath workshop at Hornbrook Manor Farm Woodchurch - 11am
DESCRIPTION:Wreath making with Jo Arnell
URL:http://www.milsteadwithfrinstedwi.co.uk/event/christmas-wreath-workshop-at-hornbrook-manor-farm-woodchurch-11am/
LOCATION:Kent
END:VEVENT
BEGIN:VEVENT
DTSTART;TZID=UTC:20181208T130000
DTEND;TZID=UTC:20181208T170000
DTSTAMP:20260423T104802
CREATED:20180808T130941Z
LAST-MODIFIED:20181105T080803Z
UID:1115-1544274000-1544288400@www.milsteadwithfrinstedwi.co.uk
SUMMARY:Christmas Meal - The Plough Lewson Street - 1pm
DESCRIPTION:
URL:http://www.milsteadwithfrinstedwi.co.uk/event/christmas-meal-the-plough-lewson-street/
LOCATION:Plough\, Lewson Street\, ME9 9JJ\, United Kingdom
END:VEVENT
BEGIN:VEVENT
DTSTART;TZID=UTC:20181206T193000
DTEND;TZID=UTC:20181206T220000
DTSTAMP:20260423T104802
CREATED:20180111T164917Z
LAST-MODIFIED:20180206T101747Z
UID:982-1544124600-1544133600@www.milsteadwithfrinstedwi.co.uk
SUMMARY:Paolo Arrigo - Italy from seed to plate
DESCRIPTION:Paolo is from Franchi Seeds. Hostesses: Sue Porter\, Mandy Wilkinson\, Tuula Davis
URL:http://www.milsteadwithfrinstedwi.co.uk/event/paolo-arrigo-italy-form-seed-to-plate/
LOCATION:Milstead Village Hall\, Rawling Street\, Sittingbourne\, Kent\, ME9 0RU\, United Kingdom
END:VEVENT
BEGIN:VEVENT
DTSTART;TZID=UTC:20181124T100000
DTEND;TZID=UTC:20181124T120000
DTSTAMP:20260423T104802
CREATED:20181105T080642Z
LAST-MODIFIED:20181105T080642Z
UID:1156-1543053600-1543060800@www.milsteadwithfrinstedwi.co.uk
SUMMARY:Church Christmas Bazaar 10-12
DESCRIPTION:
URL:http://www.milsteadwithfrinstedwi.co.uk/event/church-christmas-bazaar-10-12/
LOCATION:Milstead Village Hall\, Rawling Street\, Sittingbourne\, Kent\, ME9 0RU\, United Kingdom
END:VEVENT
BEGIN:VEVENT
DTSTART;TZID=UTC:20181116T190000
DTEND;TZID=UTC:20181116T190000
DTSTAMP:20260423T104802
CREATED:20181105T080538Z
LAST-MODIFIED:20181105T080538Z
UID:1154-1542394800-1542394800@www.milsteadwithfrinstedwi.co.uk
SUMMARY:Horticultural Society Quiz 7pm
DESCRIPTION:
URL:http://www.milsteadwithfrinstedwi.co.uk/event/horticultural-society-quiz-7pm/
LOCATION:Milstead Village Hall\, Rawling Street\, Sittingbourne\, Kent\, ME9 0RU\, United Kingdom
END:VEVENT
BEGIN:VEVENT
DTSTART;TZID=UTC:20181115T193000
DTEND;TZID=UTC:20181115T223000
DTSTAMP:20260423T104802
CREATED:20180111T164653Z
LAST-MODIFIED:20180111T164653Z
UID:979-1542310200-1542321000@www.milsteadwithfrinstedwi.co.uk
SUMMARY:96th Birthday party
DESCRIPTION:Mike Davis – Magician
URL:http://www.milsteadwithfrinstedwi.co.uk/event/96th-birthday-party/
LOCATION:Milstead Village Hall\, Rawling Street\, Sittingbourne\, Kent\, ME9 0RU\, United Kingdom
END:VEVENT
BEGIN:VEVENT
DTSTART;TZID=UTC:20181114T130000
DTEND;TZID=UTC:20181114T150000
DTSTAMP:20260423T104802
CREATED:20181009T143400Z
LAST-MODIFIED:20181009T143400Z
UID:1141-1542200400-1542207600@www.milsteadwithfrinstedwi.co.uk
SUMMARY:Usborne book party at Angelas house
DESCRIPTION:1-3pm- contact Angela for details
URL:http://www.milsteadwithfrinstedwi.co.uk/event/usborne-book-party-at-angelas-house/
LOCATION:Kent
END:VEVENT
BEGIN:VEVENT
DTSTART;TZID=UTC:20181111T150000
DTEND;TZID=UTC:20181111T170000
DTSTAMP:20260423T104802
CREATED:20181105T080438Z
LAST-MODIFIED:20181105T080438Z
UID:1152-1541948400-1541955600@www.milsteadwithfrinstedwi.co.uk
SUMMARY:Remembrance Service Milstead Church 3pm
DESCRIPTION:
URL:http://www.milsteadwithfrinstedwi.co.uk/event/remembrance-service-milstead-church-3pm/
LOCATION:Kent
END:VEVENT
BEGIN:VEVENT
DTSTART;TZID=UTC:20181110T160000
DTEND;TZID=UTC:20181110T170000
DTSTAMP:20260423T104802
CREATED:20181105T080332Z
LAST-MODIFIED:20181105T080332Z
UID:1150-1541865600-1541869200@www.milsteadwithfrinstedwi.co.uk
SUMMARY:Armistice event at Borden Church  - 4pm
DESCRIPTION:with Maypole Minstrel Singers
URL:http://www.milsteadwithfrinstedwi.co.uk/event/armistice-event-at-borden-church-4pm/
LOCATION:Kent
END:VEVENT
BEGIN:VEVENT
DTSTART;TZID=UTC:20181101T193000
DTEND;TZID=UTC:20181101T220000
DTSTAMP:20260423T104802
CREATED:20180111T164524Z
LAST-MODIFIED:20180115T135101Z
UID:976-1541100600-1541109600@www.milsteadwithfrinstedwi.co.uk
SUMMARY:Annual meeting
DESCRIPTION:£5 charity hat challenge. Hostesses: Sue Pennells\, Lynne Hollis\, Theresa Clark
URL:http://www.milsteadwithfrinstedwi.co.uk/event/annual-meeting-2/
LOCATION:Milstead Village Hall\, Rawling Street\, Sittingbourne\, Kent\, ME9 0RU\, United Kingdom
END:VEVENT
BEGIN:VEVENT
DTSTART;TZID=UTC:20181016T090000
DTEND;TZID=UTC:20181016T170000
DTSTAMP:20260423T104802
CREATED:20180809T115717Z
LAST-MODIFIED:20181009T143229Z
UID:1126-1539680400-1539709200@www.milsteadwithfrinstedwi.co.uk
SUMMARY:Trip to the Olympic park
DESCRIPTION:We will be visiting the Queen Elizabeth Olympic Park. We will travel from Sittingbourne to Stratford by train. Meet at Sittingbourne station at 9.15am \nWe are having a walking tour which lasts around an hour and will cost £8/£6\, then a boat tour £9/£8. \nFor those wanting to go up the Arcelor Mittal Orbit tower the cost is £11.50/8.50. You can also come down via the slide! \nWe will have lunch at Westfield’s shopping centre afterwards. This will be a really interesting day. \nPlease let Marcelle know if you are interested
URL:http://www.milsteadwithfrinstedwi.co.uk/event/trip-to-the-olympic-park/
LOCATION:Kent
END:VEVENT
BEGIN:VEVENT
DTSTART;TZID=UTC:20181010T193000
DTEND;TZID=UTC:20181010T220000
DTSTAMP:20260423T104802
CREATED:20180111T164327Z
LAST-MODIFIED:20180111T164327Z
UID:974-1539199800-1539208800@www.milsteadwithfrinstedwi.co.uk
SUMMARY:Group meeting - Bredgar
DESCRIPTION:
URL:http://www.milsteadwithfrinstedwi.co.uk/event/group-meeting-bredgar/
LOCATION:Bredgar Village Hall\, Bexon Lane\, Bredgar\, me9 8hb\, United Kingdom
END:VEVENT
BEGIN:VEVENT
DTSTART;TZID=UTC:20181004T193000
DTEND;TZID=UTC:20181004T220000
DTSTAMP:20260423T104802
CREATED:20180111T164229Z
LAST-MODIFIED:20180115T134949Z
UID:972-1538681400-1538690400@www.milsteadwithfrinstedwi.co.uk
SUMMARY:Karen Sage - candle making demonstration
DESCRIPTION:Karen is from Gatehouse candles. Hostesses: Katy Heather\, Linda Yates\, Lindsay Kite
URL:http://www.milsteadwithfrinstedwi.co.uk/event/karen-sage-candle-making-demonstration/
LOCATION:Milstead Village Hall\, Rawling Street\, Sittingbourne\, Kent\, ME9 0RU\, United Kingdom
END:VEVENT
BEGIN:VEVENT
DTSTART;TZID=UTC:20180925T083000
DTEND;TZID=UTC:20180925T170000
DTSTAMP:20260423T104802
CREATED:20180612T062617Z
LAST-MODIFIED:20180612T062617Z
UID:1090-1537864200-1537894800@www.milsteadwithfrinstedwi.co.uk
SUMMARY:Borden river trip from Windsor
DESCRIPTION:  \nLeaving the Maypole at 8.30am – Cost £27.50 including coach and boat \nFor details contact Marcelle or Angela
URL:http://www.milsteadwithfrinstedwi.co.uk/event/borden-river-trip-from-windsor/
LOCATION:Kent
END:VEVENT
BEGIN:VEVENT
DTSTART;TZID=UTC:20180921T193000
DTEND;TZID=UTC:20180921T220000
DTSTAMP:20260423T104802
CREATED:20180409T150224Z
LAST-MODIFIED:20180409T150224Z
UID:1065-1537558200-1537567200@www.milsteadwithfrinstedwi.co.uk
SUMMARY:Wine tasting evening
DESCRIPTION:Come along and taste some wines. Should be a fun evening. \n  \nInformation from Denise
URL:http://www.milsteadwithfrinstedwi.co.uk/event/wine-tasting-evening/
LOCATION:Milstead Village Hall\, Rawling Street\, Sittingbourne\, Kent\, ME9 0RU\, United Kingdom
END:VEVENT
BEGIN:VEVENT
DTSTART;TZID=UTC:20180920T193000
DTEND;TZID=UTC:20180920T210000
DTSTAMP:20260423T104802
CREATED:20180612T062203Z
LAST-MODIFIED:20180612T062203Z
UID:1088-1537471800-1537477200@www.milsteadwithfrinstedwi.co.uk
SUMMARY:Rodmersham Green Birthday Party
DESCRIPTION:
URL:http://www.milsteadwithfrinstedwi.co.uk/event/rodmersham-green-birthday-party/
LOCATION:Kent
END:VEVENT
BEGIN:VEVENT
DTSTART;TZID=UTC:20180920T140000
DTEND;TZID=UTC:20180920T150000
DTSTAMP:20260423T104802
CREATED:20180809T115445Z
LAST-MODIFIED:20180809T115445Z
UID:1124-1537452000-1537455600@www.milsteadwithfrinstedwi.co.uk
SUMMARY:Sports week - Line dancing
DESCRIPTION:Line dancing at Milstead village Hall  – 2pm
URL:http://www.milsteadwithfrinstedwi.co.uk/event/sports-week-line-dancing/
LOCATION:Milstead Village Hall\, Rawling Street\, Sittingbourne\, Kent\, ME9 0RU\, United Kingdom
END:VEVENT
BEGIN:VEVENT
DTSTART;TZID=UTC:20180918T080000
DTEND;TZID=UTC:20180918T170000
DTSTAMP:20260423T104802
CREATED:20180809T115347Z
LAST-MODIFIED:20180809T115347Z
UID:1122-1537257600-1537290000@www.milsteadwithfrinstedwi.co.uk
SUMMARY:Sports week - Walk
DESCRIPTION:Information from Donna
URL:http://www.milsteadwithfrinstedwi.co.uk/event/sports-week-walk/
LOCATION:Kent
END:VEVENT
BEGIN:VEVENT
DTSTART;TZID=UTC:20180910T080000
DTEND;TZID=UTC:20180910T170000
DTSTAMP:20260423T104802
CREATED:20180809T115240Z
LAST-MODIFIED:20180809T115240Z
UID:1120-1536566400-1536598800@www.milsteadwithfrinstedwi.co.uk
SUMMARY:Trip to the globe theatre  - East kent federation
DESCRIPTION:Contact Marcelle for more details
URL:http://www.milsteadwithfrinstedwi.co.uk/event/trip-to-the-globe-theatre-east-kent-federation/
LOCATION:Kent
END:VEVENT
BEGIN:VEVENT
DTSTART;TZID=UTC:20180906T193000
DTEND;TZID=UTC:20180906T220000
DTSTAMP:20260423T104802
CREATED:20180111T164118Z
LAST-MODIFIED:20180115T134838Z
UID:970-1536262200-1536271200@www.milsteadwithfrinstedwi.co.uk
SUMMARY:Peter Camrass - Wills & Power of Attorney
DESCRIPTION:Hostesses Kate Taffs\, Karen Tottle\, Pauline Cole
URL:http://www.milsteadwithfrinstedwi.co.uk/event/peter-camrass-wills-power-of-attorney/
LOCATION:Milstead Village Hall\, Rawling Street\, Sittingbourne\, Kent\, ME9 0RU\, United Kingdom
END:VEVENT
BEGIN:VEVENT
DTSTART;TZID=UTC:20180830T130000
DTEND;TZID=UTC:20180830T160000
DTSTAMP:20260423T104802
CREATED:20180808T132033Z
LAST-MODIFIED:20180808T132033Z
UID:1117-1535634000-1535644800@www.milsteadwithfrinstedwi.co.uk
SUMMARY:Lunch club at Oad Street
DESCRIPTION:
URL:http://www.milsteadwithfrinstedwi.co.uk/event/lunch-club-at-oad-street/
LOCATION:Kent
END:VEVENT
BEGIN:VEVENT
DTSTART;TZID=UTC:20180818T143000
DTEND;TZID=UTC:20180818T170000
DTSTAMP:20260423T104802
CREATED:20180612T061917Z
LAST-MODIFIED:20180612T061917Z
UID:1086-1534602600-1534611600@www.milsteadwithfrinstedwi.co.uk
SUMMARY:Milstead Horticultural Society Annual Show
DESCRIPTION:Milstead Village Hall – 2.30pm
URL:http://www.milsteadwithfrinstedwi.co.uk/event/milstead-horticultural-society-annual-show/
LOCATION:Milstead Village Hall\, Rawling Street\, Sittingbourne\, Kent\, ME9 0RU\, United Kingdom
END:VEVENT
BEGIN:VEVENT
DTSTART;TZID=UTC:20180808T190000
DTEND;TZID=UTC:20180808T190000
DTSTAMP:20260423T104802
CREATED:20180612T061744Z
LAST-MODIFIED:20180612T061744Z
UID:1084-1533754800-1533754800@www.milsteadwithfrinstedwi.co.uk
SUMMARY:Bredgar Birthday Party
DESCRIPTION:Bredgar Village Hall
URL:http://www.milsteadwithfrinstedwi.co.uk/event/bredgar-birthday-party/
LOCATION:Bredgar Village Hall\, Bexon Lane\, Bredgar\, me9 8hb\, United Kingdom
END:VEVENT
BEGIN:VEVENT
DTSTART;TZID=UTC:20180802T193000
DTEND;TZID=UTC:20180802T220000
DTSTAMP:20260423T104802
CREATED:20180111T164001Z
LAST-MODIFIED:20180115T134758Z
UID:968-1533238200-1533247200@www.milsteadwithfrinstedwi.co.uk
SUMMARY:Programme planning & Emma Russell - Airport Security
DESCRIPTION:Hostesses: Joyce Whittaker\, Julie CHard\, Linda Fish
URL:http://www.milsteadwithfrinstedwi.co.uk/event/programme-planning-emma-russell-airport-security/
LOCATION:Milstead Village Hall\, Rawling Street\, Sittingbourne\, Kent\, ME9 0RU\, United Kingdom
END:VEVENT
BEGIN:VEVENT
DTSTART;TZID=UTC:20180711T130000
DTEND;TZID=UTC:20180711T170000
DTSTAMP:20260423T104802
CREATED:20180612T061631Z
LAST-MODIFIED:20180612T061631Z
UID:1082-1531314000-1531328400@www.milsteadwithfrinstedwi.co.uk
SUMMARY:Craft Club
DESCRIPTION:Manor Cottage – Milstead – 1pm
URL:http://www.milsteadwithfrinstedwi.co.uk/event/craft-club-4/
LOCATION:Kent
END:VEVENT
BEGIN:VEVENT
DTSTART;TZID=UTC:20180707T103000
DTEND;TZID=UTC:20180707T120000
DTSTAMP:20260423T104802
CREATED:20180409T144829Z
LAST-MODIFIED:20180409T144829Z
UID:1050-1530959400-1530964800@www.milsteadwithfrinstedwi.co.uk
SUMMARY:Coffee morning - Frinsted Village Hall
DESCRIPTION:We need donations of bric a brac\, cakes and raffle prizes \nIn aid of New Leaf Support \n 
URL:http://www.milsteadwithfrinstedwi.co.uk/event/coffee-morning-frinsted-village-hall/
LOCATION:Frinsted village Hall\, ME9 0SN
END:VEVENT
BEGIN:VEVENT
DTSTART;TZID=UTC:20180705T193000
DTEND;TZID=UTC:20180705T220000
DTSTAMP:20260423T104802
CREATED:20180111T163844Z
LAST-MODIFIED:20180612T061445Z
UID:966-1530819000-1530828000@www.milsteadwithfrinstedwi.co.uk
SUMMARY:Garden Party at Bexon Court
DESCRIPTION:with the Maypole Minstrel singers \n7pm Picnic boxes will be provided
URL:http://www.milsteadwithfrinstedwi.co.uk/event/garden-party-at-bexon-court/
LOCATION:Bexon Court\, Hawks Hill Lane\, Bredgar\, ME9 8HE\, United Kingdom
END:VEVENT
BEGIN:VEVENT
DTSTART;TZID=UTC:20180629T130000
DTEND;TZID=UTC:20180629T170000
DTSTAMP:20260423T104802
CREATED:20180612T061339Z
LAST-MODIFIED:20180612T061339Z
UID:1079-1530277200-1530291600@www.milsteadwithfrinstedwi.co.uk
SUMMARY:Walk - Riverside Country Park
DESCRIPTION:
URL:http://www.milsteadwithfrinstedwi.co.uk/event/walk-riverside-country-park/
LOCATION:Kent
END:VEVENT
BEGIN:VEVENT
DTSTART;TZID=UTC:20180623T120000
DTEND;TZID=UTC:20180623T170000
DTSTAMP:20260423T104802
CREATED:20180612T061207Z
LAST-MODIFIED:20180612T061219Z
UID:1075-1529755200-1529773200@www.milsteadwithfrinstedwi.co.uk
SUMMARY:Visit to Tram Hatch Gardens
DESCRIPTION:Includes a ploughmans
URL:http://www.milsteadwithfrinstedwi.co.uk/event/visit-to-tram-hatch-gardens/
LOCATION:Tram Hatch Gardens\, TN27 0BN
END:VEVENT
BEGIN:VEVENT
DTSTART;TZID=UTC:20180620T113000
DTEND;TZID=UTC:20180620T143000
DTSTAMP:20260423T104802
CREATED:20180409T150046Z
LAST-MODIFIED:20180409T150046Z
UID:1063-1529494200-1529505000@www.milsteadwithfrinstedwi.co.uk
SUMMARY:Marlowe Theatre backstage tour
DESCRIPTION:Ask Angela or Marcelle for details
URL:http://www.milsteadwithfrinstedwi.co.uk/event/marlowe-theatre-backstage-tour/
LOCATION:Marlowe Theatre\, The Friars\, Canterbury\, Kent\, CT1 2AS\, United Kingdom
END:VEVENT
END:VCALENDAR