BEGIN:VCALENDAR
VERSION:2.0
PRODID:-//Milstead With Frinsted WI - ECPv6.12.0//NONSGML v1.0//EN
CALSCALE:GREGORIAN
METHOD:PUBLISH
X-WR-CALNAME:Milstead With Frinsted WI
X-ORIGINAL-URL:http://www.milsteadwithfrinstedwi.co.uk
X-WR-CALDESC:Events for Milstead With Frinsted WI
REFRESH-INTERVAL;VALUE=DURATION:PT1H
X-Robots-Tag:noindex
X-PUBLISHED-TTL:PT1H
BEGIN:VTIMEZONE
TZID:UTC
BEGIN:STANDARD
TZOFFSETFROM:+0000
TZOFFSETTO:+0000
TZNAME:UTC
DTSTART:20150101T000000
END:STANDARD
END:VTIMEZONE
BEGIN:VTIMEZONE
TZID:UTC
BEGIN:STANDARD
TZOFFSETFROM:+0000
TZOFFSETTO:+0000
TZNAME:UTC
DTSTART:20160101T000000
END:STANDARD
END:VTIMEZONE
BEGIN:VEVENT
DTSTART;TZID=UTC:20161006T193000
DTEND;TZID=UTC:20161006T220000
DTSTAMP:20260422T020048
CREATED:20160122T074320Z
LAST-MODIFIED:20160122T074320Z
UID:340-1475782200-1475791200@www.milsteadwithfrinstedwi.co.uk
SUMMARY:Bruges ( more than just chocolate) - Melanie Gibson
DESCRIPTION:Hostesses: Jen Harper\, Joyce Whittaker\, Julie Chard
URL:http://www.milsteadwithfrinstedwi.co.uk/event/bruges-more-than-just-chocolate-melanie-gibson/
LOCATION:Milstead Village Hall\, Rawling Street\, Sittingbourne\, Kent\, ME9 0RU\, United Kingdom
END:VEVENT
BEGIN:VEVENT
DTSTART;TZID=UTC:20161006T140000
DTEND;TZID=UTC:20161006T170000
DTSTAMP:20260422T020048
CREATED:20160122T080417Z
LAST-MODIFIED:20160122T080417Z
UID:341-1475762400-1475773200@www.milsteadwithfrinstedwi.co.uk
SUMMARY:Group Meeting
DESCRIPTION:
URL:http://www.milsteadwithfrinstedwi.co.uk/event/group-meeting/
LOCATION:Tunstall Village Hall\, Tunstall\, United Kingdom
END:VEVENT
BEGIN:VEVENT
DTSTART;TZID=UTC:20160907T103000
DTEND;TZID=UTC:20160907T150000
DTSTAMP:20260422T020048
CREATED:20160122T081727Z
LAST-MODIFIED:20160707T075033Z
UID:347-1473244200-1473260400@www.milsteadwithfrinstedwi.co.uk
SUMMARY:Powell Cotton Museum\, Quex House and Garden visit
DESCRIPTION:Visit of Museum\, House and Gardens with lunch. Cost £14
URL:http://www.milsteadwithfrinstedwi.co.uk/event/powell-cotton-museum-quex-house-and-garden-visit/
LOCATION:Quex Park\, Park Lane\, Birchington\, Kent\, CT7 0BH
END:VEVENT
BEGIN:VEVENT
DTSTART;TZID=UTC:20160902T190000
DTEND;TZID=UTC:20160902T220000
DTSTAMP:20260422T020048
CREATED:20160122T085746Z
LAST-MODIFIED:20160707T074920Z
UID:363-1472842800-1472853600@www.milsteadwithfrinstedwi.co.uk
SUMMARY:Beetle Drive at Milstead Village Hall
DESCRIPTION:Always guaranteed to be great fun for all ages. \nAdults £6 children £4 \n 
URL:http://www.milsteadwithfrinstedwi.co.uk/event/provisional-date-beetle-drive-at-milstead-village-hall/
LOCATION:Milstead Village Hall\, Rawling Street\, Sittingbourne\, Kent\, ME9 0RU\, United Kingdom
END:VEVENT
BEGIN:VEVENT
DTSTART;TZID=UTC:20160901T193000
DTEND;TZID=UTC:20160901T220000
DTSTAMP:20260422T020048
CREATED:20160122T074007Z
LAST-MODIFIED:20160122T074007Z
UID:339-1472758200-1472767200@www.milsteadwithfrinstedwi.co.uk
SUMMARY:Iris folding - Sue Pennels
DESCRIPTION:Hostesses: Jean Delves\, Jean Parkin\, Jean Slate
URL:http://www.milsteadwithfrinstedwi.co.uk/event/iris-folding-sue-pennels/
LOCATION:Milstead Village Hall\, Rawling Street\, Sittingbourne\, Kent\, ME9 0RU\, United Kingdom
END:VEVENT
BEGIN:VEVENT
DTSTART;TZID=UTC:20160804T193000
DTEND;TZID=UTC:20160804T220000
DTSTAMP:20260422T020048
CREATED:20160122T073826Z
LAST-MODIFIED:20160122T073826Z
UID:338-1470339000-1470348000@www.milsteadwithfrinstedwi.co.uk
SUMMARY:Bee Keeping - George Cole
DESCRIPTION:Hostesses: Janet Fee\, Janice Hook\, Jennifer Hook
URL:http://www.milsteadwithfrinstedwi.co.uk/event/bee-keeping-george-cole/
LOCATION:Milstead Village Hall\, Rawling Street\, Sittingbourne\, Kent\, ME9 0RU\, United Kingdom
END:VEVENT
BEGIN:VEVENT
DTSTART;TZID=UTC:20160707T193000
DTEND;TZID=UTC:20160707T220000
DTSTAMP:20260422T020048
CREATED:20160122T073615Z
LAST-MODIFIED:20160707T071936Z
UID:337-1467919800-1467928800@www.milsteadwithfrinstedwi.co.uk
SUMMARY:Garden Party - Venue at Denise Gee's House in Wormshill
DESCRIPTION:
URL:http://www.milsteadwithfrinstedwi.co.uk/event/garden-party-venue-to-be-confirmed/
LOCATION:Kent
END:VEVENT
BEGIN:VEVENT
DTSTART;TZID=UTC:20160707T080000
DTEND;TZID=UTC:20160707T170000
DTSTAMP:20260422T020048
CREATED:20160707T075544Z
LAST-MODIFIED:20160707T075544Z
UID:431-1467878400-1467910800@www.milsteadwithfrinstedwi.co.uk
SUMMARY:Trip to Windsor Castle
DESCRIPTION:Coach trip to Windsor Castle. \nLeaving Sittingbourne station at 8.30am. Returning from Windsor at 5pm \nSee a special collection of the Queen’s clothes. Cost £38
URL:http://www.milsteadwithfrinstedwi.co.uk/event/trip-to-windsor-castle/
LOCATION:Kent
END:VEVENT
BEGIN:VEVENT
DTSTART;TZID=UTC:20160622T120000
DTEND;TZID=UTC:20160622T150000
DTSTAMP:20260422T020048
CREATED:20160602T073724Z
LAST-MODIFIED:20160602T073820Z
UID:404-1466596800-1466607600@www.milsteadwithfrinstedwi.co.uk
SUMMARY:Beer cart Lane Open week visit
DESCRIPTION:Visit to Beer Cart Lane – Federation Offices
URL:http://www.milsteadwithfrinstedwi.co.uk/event/beercart-lane-open-week-visit/
LOCATION:Federation Office\, 9 Beer Cart Lane\, Canterbury\, Kent\, CT1 2NY\, United Kingdom
END:VEVENT
BEGIN:VEVENT
DTSTART;TZID=UTC:20160617T172500
DTEND;TZID=UTC:20160617T200000
DTSTAMP:20260422T020048
CREATED:20160122T084815Z
LAST-MODIFIED:20160602T073330Z
UID:358-1466184300-1466193600@www.milsteadwithfrinstedwi.co.uk
SUMMARY:Tootsie Trot - Whitstable
DESCRIPTION:Come along for a treasure hunt in Whitstable. Meet at 5.00pm in car park in Nelson Road. \nGroups of 4. Lynne will add her mobile \n  \nMore information to follow
URL:http://www.milsteadwithfrinstedwi.co.uk/event/whitstable-walk/
LOCATION:Whitstable
END:VEVENT
BEGIN:VEVENT
DTSTART;TZID=UTC:20160602T193000
DTEND;TZID=UTC:20160602T220000
DTSTAMP:20260422T020048
CREATED:20160122T073515Z
LAST-MODIFIED:20160517T071355Z
UID:336-1464895800-1464904800@www.milsteadwithfrinstedwi.co.uk
SUMMARY:Breadmaking Demonstration - John Guyver
DESCRIPTION:This meeting you can bring your daughter\, Grand-daughter\, Mother\, Niece. \n  \nHostesses: Janet Fee\, Elaine Broad\, Iris Dighton
URL:http://www.milsteadwithfrinstedwi.co.uk/event/breadmaking-demonstration-john-guyver/
LOCATION:Milstead Village Hall\, Rawling Street\, Sittingbourne\, Kent\, ME9 0RU\, United Kingdom
END:VEVENT
BEGIN:VEVENT
DTSTART;TZID=UTC:20160512T192500
DTEND;TZID=UTC:20160512T220000
DTSTAMP:20260422T020048
CREATED:20160122T073303Z
LAST-MODIFIED:20160122T073303Z
UID:335-1463081100-1463090400@www.milsteadwithfrinstedwi.co.uk
SUMMARY:Resolutions meeting - The importance of Language - Maxine Gachoka
DESCRIPTION:Hostesses: Di Radbourne\, Dilys Norris\, Donna Richards
URL:http://www.milsteadwithfrinstedwi.co.uk/event/resolutions-meeting-the-importance-of-language-maxine-gachoka/
LOCATION:Milstead Village Hall\, Rawling Street\, Sittingbourne\, Kent\, ME9 0RU\, United Kingdom
END:VEVENT
BEGIN:VEVENT
DTSTART;TZID=UTC:20160426T103000
DTEND;TZID=UTC:20160426T140000
DTSTAMP:20260422T020048
CREATED:20160122T072940Z
LAST-MODIFIED:20160122T144013Z
UID:333-1461666600-1461679200@www.milsteadwithfrinstedwi.co.uk
SUMMARY:Visit to Belmont House & Gardens
DESCRIPTION:Arrive 10.30am for coffee\, tour of house and gardens with light lunch cost approx £20 inclusive of lunch. \nFriends welcome> P1ease choose your lunch from the attached menu
URL:http://www.milsteadwithfrinstedwi.co.uk/event/visit-to-belmont-house-gardens/
LOCATION:Belmont House\, Belmont Park\, Throwley\, \, Faversham\, Kent\, ME13 0HH\, United Kingdom
END:VEVENT
BEGIN:VEVENT
DTSTART;TZID=UTC:20160420T190000
DTEND;TZID=UTC:20160420T190000
DTSTAMP:20260422T020048
CREATED:20160121T165831Z
LAST-MODIFIED:20160121T165831Z
UID:332-1461178800-1461178800@www.milsteadwithfrinstedwi.co.uk
SUMMARY:Group Meeting - Mediterranean Melodies
DESCRIPTION:
URL:http://www.milsteadwithfrinstedwi.co.uk/event/group-meeting-mediterranean-melodies/
LOCATION:Milstead Village Hall\, Rawling Street\, Sittingbourne\, Kent\, ME9 0RU\, United Kingdom
END:VEVENT
BEGIN:VEVENT
DTSTART;TZID=UTC:20160415T190000
DTEND;TZID=UTC:20160415T220000
DTSTAMP:20260422T020048
CREATED:20160122T085625Z
LAST-MODIFIED:20160303T140605Z
UID:362-1460746800-1460757600@www.milsteadwithfrinstedwi.co.uk
SUMMARY:Quiz night
DESCRIPTION:Quiz night at Milstead Village Hall \nCome along and bring your friends. Always a great event organised by Sue & Steve Pennels \n7 for 7.30pm £7 per person including supper \n  \nTickets from Lyn on 01795 473797 \n 
URL:http://www.milsteadwithfrinstedwi.co.uk/event/provisional-quiz-night/
LOCATION:Milstead Village Hall\, Rawling Street\, Sittingbourne\, Kent\, ME9 0RU\, United Kingdom
END:VEVENT
BEGIN:VEVENT
DTSTART;TZID=UTC:20160407T190000
DTEND;TZID=UTC:20160407T220000
DTSTAMP:20260422T020048
CREATED:20160121T165716Z
LAST-MODIFIED:20160121T165716Z
UID:331-1460055600-1460066400@www.milsteadwithfrinstedwi.co.uk
SUMMARY:The History of Macknades - Stefano Cuomo
DESCRIPTION:Hostesses: Dawn Waters\, Denise Gee\, Diana Cramp
URL:http://www.milsteadwithfrinstedwi.co.uk/event/the-history-of-macknades-stefano-cuomo/
LOCATION:Milstead Village Hall\, Rawling Street\, Sittingbourne\, Kent\, ME9 0RU\, United Kingdom
END:VEVENT
BEGIN:VEVENT
DTSTART;TZID=UTC:20160323T100000
DTEND;TZID=UTC:20160323T170000
DTSTAMP:20260422T020048
CREATED:20160122T084313Z
LAST-MODIFIED:20160122T084313Z
UID:355-1458727200-1458752400@www.milsteadwithfrinstedwi.co.uk
SUMMARY:Kent Annual Council Meeting - Folkestone
DESCRIPTION:Guest speaker: Jan Leeming
URL:http://www.milsteadwithfrinstedwi.co.uk/event/kent-annual-council-meeting-folkestone/
LOCATION:Leas Cliff Hall\, Folkestone\, Kent\, CT20 2DZ\, United Kingdom
END:VEVENT
BEGIN:VEVENT
DTSTART;TZID=UTC:20160319T100000
DTEND;TZID=UTC:20160319T120000
DTSTAMP:20260422T020048
CREATED:20160303T134350Z
LAST-MODIFIED:20160303T134800Z
UID:381-1458381600-1458388800@www.milsteadwithfrinstedwi.co.uk
SUMMARY:Rotary Coffee Morning & Silent Auction
DESCRIPTION:Tunstall Village Hall £3.50 including Tea/Coffee & cake. \n  \nIn aid of Kent MS Therapy Centre\, Canterbury \n 
URL:http://www.milsteadwithfrinstedwi.co.uk/event/rotary-coffee-morning-silent-auction/
LOCATION:Tunstall Village Hall\, Tunstall\, United Kingdom
END:VEVENT
BEGIN:VEVENT
DTSTART;TZID=UTC:20160305T103000
DTEND;TZID=UTC:20160305T120000
DTSTAMP:20260422T020048
CREATED:20160122T084600Z
LAST-MODIFIED:20160303T140058Z
UID:357-1457173800-1457179200@www.milsteadwithfrinstedwi.co.uk
SUMMARY:Coffee morning at Frinsted Village Hall
DESCRIPTION:Frinsted village hall is the venue for the first coffee morning on March 5th at 10.00. We are in charge of the raffle this year. There will be a wonderful cake stall\, book stall\, bric a brac and tea and coffee. It is a lovely social event organised so that villagers who had been cut off all winter could meet up and socialise whilst raising money for various charities. This year’s charity is Whizz Kidz. Please come along and join in or if you can’t please could you donate cakes and raffle prizes. www.whizz-kidz.org.uk
URL:http://www.milsteadwithfrinstedwi.co.uk/event/coffee-morning-at-frinsted-village-hall/
LOCATION:Frinsted village Hall\, ME9 0SN
END:VEVENT
BEGIN:VEVENT
DTSTART;TZID=UTC:20160303T190000
DTEND;TZID=UTC:20160303T220000
DTSTAMP:20260422T020048
CREATED:20160121T165550Z
LAST-MODIFIED:20160121T165550Z
UID:330-1457031600-1457042400@www.milsteadwithfrinstedwi.co.uk
SUMMARY:Facial demonstration (Forever Beauty)
DESCRIPTION:Hostesses: Andrea Don\, Ann Martin\, Barbara Maguire
URL:http://www.milsteadwithfrinstedwi.co.uk/event/facial-demonstration-forever-beauty/
LOCATION:Milstead Village Hall\, Rawling Street\, Sittingbourne\, Kent\, ME9 0RU\, United Kingdom
END:VEVENT
BEGIN:VEVENT
DTSTART;TZID=UTC:20160218T143000
DTEND;TZID=UTC:20160218T170000
DTSTAMP:20260422T020048
CREATED:20160122T085412Z
LAST-MODIFIED:20160122T085412Z
UID:361-1455805800-1455814800@www.milsteadwithfrinstedwi.co.uk
SUMMARY:Bapchild and Tonge Birthday party - 2.30pm
DESCRIPTION:Speaker Claire Ashby about Camp Bastion.
URL:http://www.milsteadwithfrinstedwi.co.uk/event/bapchild-and-tonge-birthday-party-2-30pm/
LOCATION:Kent
END:VEVENT
BEGIN:VEVENT
DTSTART;TZID=UTC:20160204T190000
DTEND;TZID=UTC:20160204T210000
DTSTAMP:20260422T020048
CREATED:20160121T165329Z
LAST-MODIFIED:20160121T165420Z
UID:328-1454612400-1454619600@www.milsteadwithfrinstedwi.co.uk
SUMMARY:Ian George The history of WW1
DESCRIPTION:Hostesses: Alison Black\, Ali Saunders\, Mandy Wilkinson
URL:http://www.milsteadwithfrinstedwi.co.uk/event/ian-george-the-history-of-ww/
LOCATION:Milstead Village Hall\, Rawling Street\, Sittingbourne\, Kent\, ME9 0RU\, United Kingdom
END:VEVENT
BEGIN:VEVENT
DTSTART;TZID=UTC:20160203T140000
DTEND;TZID=UTC:20160203T160000
DTSTAMP:20260422T020048
CREATED:20160122T085210Z
LAST-MODIFIED:20160122T085210Z
UID:360-1454508000-1454515200@www.milsteadwithfrinstedwi.co.uk
SUMMARY:Lynsted with Teynham Birthday Party
DESCRIPTION:Birthday party at 2pm.
URL:http://www.milsteadwithfrinstedwi.co.uk/event/lynsted-with-teynham-birthday-party/
LOCATION:Kent
END:VEVENT
BEGIN:VEVENT
DTSTART;TZID=UTC:20160128T140000
DTEND;TZID=UTC:20160128T160000
DTSTAMP:20260422T020048
CREATED:20160122T083335Z
LAST-MODIFIED:20160122T083335Z
UID:353-1453989600-1453996800@www.milsteadwithfrinstedwi.co.uk
SUMMARY:Creek Creative - Faversham - Coffee afternoon
DESCRIPTION:Come along to Creek Creative  in Faversham at 2pm for a coffee afternoon. \nAll food is cooked on the premises by Lorraine of Alsace Baking\, with gluten and dairy free options available. \n  \n1 Abbey Street Faversham\, ME13 7BE
URL:http://www.milsteadwithfrinstedwi.co.uk/event/creek-creative-faversham-coffee-afternoon/
LOCATION:Creek Creative\, 1 Abbey Street\, Faversham\, Kent\, ME13 7BE\, United Kingdom
END:VEVENT
BEGIN:VEVENT
DTSTART;TZID=UTC:20160107T193000
DTEND;TZID=UTC:20160107T220000
DTSTAMP:20260422T020048
CREATED:20150225T134045Z
LAST-MODIFIED:20150225T140659Z
UID:196-1452195000-1452204000@www.milsteadwithfrinstedwi.co.uk
SUMMARY:Bingo Night with fish and chips
DESCRIPTION:To welcome in the New Year we will be playing Bingo and having a fish and chip supper. \n  \nHostesses: L Kite\, A Coleman
URL:http://www.milsteadwithfrinstedwi.co.uk/event/bingo-night-with-fish-and-chips/
LOCATION:Milstead Village Hall\, Rawling Street\, Sittingbourne\, Kent\, ME9 0RU\, United Kingdom
END:VEVENT
BEGIN:VEVENT
DTSTART;TZID=UTC:20151203T190000
DTEND;TZID=UTC:20151203T220000
DTSTAMP:20260422T020048
CREATED:20150225T133827Z
LAST-MODIFIED:20150225T140600Z
UID:195-1449169200-1449180000@www.milsteadwithfrinstedwi.co.uk
SUMMARY:Christmas Table Decorations
DESCRIPTION:With Jo Arnell \n  \nHostesses: K Heather\, L Yates\, J Cressey
URL:http://www.milsteadwithfrinstedwi.co.uk/event/christmas-table-decorations/
LOCATION:Milstead Village Hall\, Rawling Street\, Sittingbourne\, Kent\, ME9 0RU\, United Kingdom
END:VEVENT
BEGIN:VEVENT
DTSTART;TZID=UTC:20151119T190000
DTEND;TZID=UTC:20151119T220000
DTSTAMP:20260422T020048
CREATED:20150225T133518Z
LAST-MODIFIED:20150225T133518Z
UID:193-1447959600-1447970400@www.milsteadwithfrinstedwi.co.uk
SUMMARY:93rd Birthday Party
DESCRIPTION:Watch this space for news of our Birthday event this year
URL:http://www.milsteadwithfrinstedwi.co.uk/event/93rd-birthday-party/
LOCATION:Milstead Village Hall\, Rawling Street\, Sittingbourne\, Kent\, ME9 0RU\, United Kingdom
END:VEVENT
BEGIN:VEVENT
DTSTART;TZID=UTC:20151105T193000
DTEND;TZID=UTC:20151105T220000
DTSTAMP:20260422T020048
CREATED:20150225T133723Z
LAST-MODIFIED:20150225T140505Z
UID:194-1446751800-1446760800@www.milsteadwithfrinstedwi.co.uk
SUMMARY:Annual Meeting
DESCRIPTION:The Annual meeting is the opportunity for members to vote for their new President and Committee. \n  \nHostesses: J Whittaker\, K Taffs\, J Hook
URL:http://www.milsteadwithfrinstedwi.co.uk/event/annual-meeting/
LOCATION:Milstead Village Hall\, Rawling Street\, Sittingbourne\, Kent\, ME9 0RU\, United Kingdom
END:VEVENT
BEGIN:VEVENT
DTSTART;TZID=UTC:20151001T190000
DTEND;TZID=UTC:20151001T220000
DTSTAMP:20260422T020048
CREATED:20150225T133256Z
LAST-MODIFIED:20150225T140407Z
UID:192-1443726000-1443736800@www.milsteadwithfrinstedwi.co.uk
SUMMARY:Dementia Friends
DESCRIPTION:With Alison Carter \n  \nHostesses: J Harper\, J Chard
URL:http://www.milsteadwithfrinstedwi.co.uk/event/dementia-friends/
LOCATION:Milstead Village Hall\, Rawling Street\, Sittingbourne\, Kent\, ME9 0RU\, United Kingdom
END:VEVENT
BEGIN:VEVENT
DTSTART;TZID=UTC:20150911T070000
DTEND;TZID=UTC:20150911T230000
DTSTAMP:20260422T020048
CREATED:20150225T134604Z
LAST-MODIFIED:20150225T134842Z
UID:197-1441954800-1442012400@www.milsteadwithfrinstedwi.co.uk
SUMMARY:Beetle drive
DESCRIPTION:Come along and have some fun at our annual Beetle drive. \nGood fun for all ages. \nMilstead Village Hall 7pm \n  \n£6 adults  £4 children
URL:http://www.milsteadwithfrinstedwi.co.uk/event/beetle-drive/
LOCATION:Milstead Village Hall\, Rawling Street\, Sittingbourne\, Kent\, ME9 0RU\, United Kingdom
END:VEVENT
END:VCALENDAR