BEGIN:VCALENDAR
VERSION:2.0
PRODID:-//Milstead With Frinsted WI - ECPv6.12.0//NONSGML v1.0//EN
CALSCALE:GREGORIAN
METHOD:PUBLISH
X-ORIGINAL-URL:http://www.milsteadwithfrinstedwi.co.uk
X-WR-CALDESC:Events for Milstead With Frinsted WI
REFRESH-INTERVAL;VALUE=DURATION:PT1H
X-Robots-Tag:noindex
X-PUBLISHED-TTL:PT1H
BEGIN:VTIMEZONE
TZID:UTC
BEGIN:STANDARD
TZOFFSETFROM:+0000
TZOFFSETTO:+0000
TZNAME:UTC
DTSTART:20150101T000000
END:STANDARD
END:VTIMEZONE
BEGIN:VEVENT
DTSTART;TZID=UTC:20150903T193000
DTEND;TZID=UTC:20150903T220000
DTSTAMP:20260422T065818
CREATED:20150225T133007Z
LAST-MODIFIED:20150225T140332Z
UID:191-1441308600-1441317600@www.milsteadwithfrinstedwi.co.uk
SUMMARY:The Painted Pearl
DESCRIPTION:Make a lampshade with Michelle Fullbrook. \n  \nHostesses: J Fee\, J Delves\, L Hollis
URL:http://www.milsteadwithfrinstedwi.co.uk/event/the-painted-pearl/
LOCATION:Milstead Village Hall\, Rawling Street\, Sittingbourne\, Kent\, ME9 0RU\, United Kingdom
END:VEVENT
BEGIN:VEVENT
DTSTART;TZID=UTC:20150806T193000
DTEND;TZID=UTC:20150806T220000
DTSTAMP:20260422T065818
CREATED:20150225T131808Z
LAST-MODIFIED:20150225T140243Z
UID:188-1438889400-1438898400@www.milsteadwithfrinstedwi.co.uk
SUMMARY:Programme planning
DESCRIPTION:Programme planning to discuss next years programme of events. \n  \nHostesses: E Sydenham\, I Dighton\, V Luckhurst
URL:http://www.milsteadwithfrinstedwi.co.uk/event/programme-planning/
LOCATION:Milstead Village Hall\, Rawling Street\, Sittingbourne\, Kent\, ME9 0RU\, United Kingdom
END:VEVENT
BEGIN:VEVENT
DTSTART;TZID=UTC:20150719T113000
DTEND;TZID=UTC:20150719T140000
DTSTAMP:20260422T065818
CREATED:20150224T104304Z
LAST-MODIFIED:20150224T104304Z
UID:170-1437305400-1437314400@www.milsteadwithfrinstedwi.co.uk
SUMMARY:Call the Midwife location tour
DESCRIPTION:A tour of the “Call the Midwife” set at the Historic Dockyard in Chatham \nLed by your very own ‘midwife’ the Call the Midwife Tour of Locations visits areas of Chatham Dockyard which have been used as locations for many of the scenes for the popular BBC Drama ‘Call the Midwife’. \nThe Historic Dockyard Chatham in Kent was transformed into the impoverished 1950’s Poplar Dock where scenes involving its stars including Miranda Hart and Jenny Agutter are filmed. \nA variety of locations around The Dockyard have now appeared in the BBC One production and fans of the show have a chance to explore those areas familiar to more than 10 million viewers. \nSunday 19th July at 11.30am                                          Cost £12
URL:http://www.milsteadwithfrinstedwi.co.uk/event/call-the-midwife-location-tour-2/
LOCATION:Historic Dockyard Chatham\, Dock Road\, Chatham\, KENT\, ME44TQ\, United Kingdom
END:VEVENT
BEGIN:VEVENT
DTSTART;TZID=UTC:20150702T193000
DTEND;TZID=UTC:20150702T220000
DTSTAMP:20260422T065818
CREATED:20150129T074459Z
LAST-MODIFIED:20150225T132737Z
UID:120-1435865400-1435874400@www.milsteadwithfrinstedwi.co.uk
SUMMARY:Garden Party at Mandy Wilkinsons
DESCRIPTION:Garden Party at Bexon Court. Also a look at the chandeliers in the workshop
URL:http://www.milsteadwithfrinstedwi.co.uk/event/garden-party-at-wilkinsons/
LOCATION:Bexon Court\, Hawks Hill Lane\, Bredgar\, ME9 8HE\, United Kingdom
END:VEVENT
BEGIN:VEVENT
DTSTART;TZID=UTC:20150616T140000
DTEND;TZID=UTC:20150616T170000
DTSTAMP:20260422T065818
CREATED:20150311T160857Z
LAST-MODIFIED:20150311T160857Z
UID:220-1434463200-1434474000@www.milsteadwithfrinstedwi.co.uk
SUMMARY:Visit to see the Magna Carta
DESCRIPTION:
URL:http://www.milsteadwithfrinstedwi.co.uk/event/visit-to-see-the-magna-carta/
LOCATION:Faversham
END:VEVENT
BEGIN:VEVENT
DTSTART;VALUE=DATE:20150604
DTEND;VALUE=DATE:20150605
DTSTAMP:20260422T065818
CREATED:20150129T074411Z
LAST-MODIFIED:20150407T083700Z
UID:119-1433376000-1433462399@www.milsteadwithfrinstedwi.co.uk
SUMMARY:Sugarcraft - Sittingbourne Sugarcraft Guild with Stella Dyson
DESCRIPTION:A talk from Stella Dyson on sugarcraft. \n  \n  \nHostesses: D Norris\, E Broad\, V Payne
URL:http://www.milsteadwithfrinstedwi.co.uk/event/sugarcraft-sittingbourne-sugarcraft-guild-with-stella-dyson/
LOCATION:Milstead Village Hall\, Rawling Street\, Sittingbourne\, Kent\, ME9 0RU\, United Kingdom
END:VEVENT
BEGIN:VEVENT
DTSTART;TZID=UTC:20150527T140000
DTEND;TZID=UTC:20150527T170000
DTSTAMP:20260422T065818
CREATED:20150224T092723Z
LAST-MODIFIED:20150224T093031Z
UID:160-1432735200-1432746000@www.milsteadwithfrinstedwi.co.uk
SUMMARY:Doddington Place Gardens
DESCRIPTION:A tour of Doddington Place House and Gardens plus a talk from Philip Johnson from Johnson’s on Growing Sweet Peas. \nThe cost is £5 plus £5.99 for a cream tea.
URL:http://www.milsteadwithfrinstedwi.co.uk/event/doddington-place-gardens/
LOCATION:Doddington Place\, me9 0BB\, United Kingdom
END:VEVENT
BEGIN:VEVENT
DTSTART;TZID=UTC:20150520T190000
DTEND;TZID=UTC:20150520T220000
DTSTAMP:20260422T065818
CREATED:20150224T090719Z
LAST-MODIFIED:20150224T090719Z
UID:158-1432148400-1432159200@www.milsteadwithfrinstedwi.co.uk
SUMMARY:Travelling Trends Fashion Show
DESCRIPTION:Travelling Trends Fashion show. \nCome along to a fashion show event where you can see models on the catwalk wearing items that you can buy on the night. \nThere are clothes from M&S (including Per Una & Autograph ranges)\, John Lewis\, Debenhams\, Next\, BHS\, River Island\, Dorothy Perkins\, Monsoon\, Wallis\, Oasis etc \nThis charity event is in aid of Breakthrough Breakthrough Breast cancer and Canterbury MS Therapy Centre \nTickets are £7 including refreshments \nTicket only event. Doors open 7pm \n  \n  \n 
URL:http://www.milsteadwithfrinstedwi.co.uk/event/travelling-trends-fashion-show/
LOCATION:Bredgar Village Hall\, Bexon Lane\, Bredgar\, me9 8hb\, United Kingdom
END:VEVENT
BEGIN:VEVENT
DTSTART;VALUE=DATE:20150514
DTEND;VALUE=DATE:20150515
DTSTAMP:20260422T065818
CREATED:20150129T074313Z
LAST-MODIFIED:20150407T083626Z
UID:118-1431561600-1431647999@www.milsteadwithfrinstedwi.co.uk
SUMMARY:Resolutions\, then the music charts: 1952-2013 with Ray Spiller
DESCRIPTION:Discussion of the WI Resolution and a talk by Ray Spiller on the music charts \n  \nHostesses: D Radbourne\, D Rudd\, V H-Flint
URL:http://www.milsteadwithfrinstedwi.co.uk/event/resolutions-then-the-music-charts-1952-2013-with-ray-spiller/
LOCATION:Milstead Village Hall\, Rawling Street\, Sittingbourne\, Kent\, ME9 0RU\, United Kingdom
END:VEVENT
BEGIN:VEVENT
DTSTART;TZID=UTC:20150416T193000
DTEND;TZID=UTC:20150416T220000
DTSTAMP:20260422T065818
CREATED:20150311T162832Z
LAST-MODIFIED:20150311T162832Z
UID:224-1429212600-1429221600@www.milsteadwithfrinstedwi.co.uk
SUMMARY:Group Meeting Rodmersham Village Hall
DESCRIPTION:This is open to all and is just £1.50. The entertainment will be Morris Dancers.
URL:http://www.milsteadwithfrinstedwi.co.uk/event/group-meeting-rodmersham-village-hall/
LOCATION:Rodmersham coffee shop\, Rodmersham Green\, Sittingbourne\, ME9 0PL\, United Kingdom
END:VEVENT
BEGIN:VEVENT
DTSTART;TZID=UTC:20150413T100000
DTEND;TZID=UTC:20150413T160000
DTSTAMP:20260422T065818
CREATED:20150311T162158Z
LAST-MODIFIED:20150311T172449Z
UID:222-1428919200-1428940800@www.milsteadwithfrinstedwi.co.uk
SUMMARY:Audition day for speakers - Bobbing Village Hall
DESCRIPTION:A chance to see people audition for the opportunity to become speakers at WI meeting – should be very interesting and a new way to find someone different to do a talk at your WI. Pay on entry £2 per session. £3 all day \nDoors open 10am – first speaker 10.30am. Afternoon session starts at 1.10pm. \nJust turn up on the day – bring your own lunch \nRaffle – tea and coffee available.
URL:http://www.milsteadwithfrinstedwi.co.uk/event/audition-day-for-speakers-bobbing-village-hall/
LOCATION:Bobbing Village Hall\, Sheppey Way\, Sittingbourne\, ME9 8PL\, United Kingdom
END:VEVENT
BEGIN:VEVENT
DTSTART;VALUE=DATE:20150409
DTEND;VALUE=DATE:20150410
DTSTAMP:20260422T065818
CREATED:20150129T074224Z
LAST-MODIFIED:20150407T083454Z
UID:117-1428537600-1428623999@www.milsteadwithfrinstedwi.co.uk
SUMMARY:My life in showbiz with Mandy Winters
DESCRIPTION:Many will be talking about her life in Showbusiness. \n  \nHostesses: A Wilkinson\, D Cramp\, S Porter
URL:http://www.milsteadwithfrinstedwi.co.uk/event/my-life-in-showbiz-with-mandy-winters/
LOCATION:Milstead Village Hall\, Rawling Street\, Sittingbourne\, Kent\, ME9 0RU\, United Kingdom
END:VEVENT
BEGIN:VEVENT
DTSTART;TZID=UTC:20150108T200000
DTEND;TZID=UTC:20150108T220000
DTSTAMP:20260422T065818
CREATED:20150127T110259Z
LAST-MODIFIED:20150127T110259Z
UID:88-1420747200-1420754400@www.milsteadwithfrinstedwi.co.uk
SUMMARY:Rob Masters - Owlers\, Smugglers & Redcappers
DESCRIPTION:Rob Masters is a retired headmaster with a keen interest in the community and local history
URL:http://www.milsteadwithfrinstedwi.co.uk/event/rob-masters-owlers-smugglers-redcappers/
LOCATION:Wilkinsons\, Ruins Barns Road\, Sittingbourne\, Kent\, ME9 8HE\, United Kingdom
END:VEVENT
END:VCALENDAR