BEGIN:VCALENDAR
VERSION:2.0
PRODID:-//Milstead With Frinsted WI - ECPv6.12.0//NONSGML v1.0//EN
CALSCALE:GREGORIAN
METHOD:PUBLISH
X-ORIGINAL-URL:http://www.milsteadwithfrinstedwi.co.uk
X-WR-CALDESC:Events for Milstead With Frinsted WI
REFRESH-INTERVAL;VALUE=DURATION:PT1H
X-Robots-Tag:noindex
X-PUBLISHED-TTL:PT1H
BEGIN:VTIMEZONE
TZID:UTC
BEGIN:STANDARD
TZOFFSETFROM:+0000
TZOFFSETTO:+0000
TZNAME:UTC
DTSTART:20240101T000000
END:STANDARD
END:VTIMEZONE
BEGIN:VEVENT
DTSTART;TZID=UTC:20241105T190000
DTEND;TZID=UTC:20241105T190000
DTSTAMP:20260422T153718
CREATED:20241008T071625Z
LAST-MODIFIED:20241008T071625Z
UID:2185-1730833200-1730833200@www.milsteadwithfrinstedwi.co.uk
SUMMARY:Film night - The Light cinema
DESCRIPTION:The WI Film Club will be going to see the 25th anniversary\nshowing of The Phantom of the Opera – from The Royal\nAlbert Hall.\nMore info is available on the notice board\nPlease let Claire know if you would like to attend\nBellamedlar53@gmail.com\n07502 370550
URL:http://www.milsteadwithfrinstedwi.co.uk/event/film-night-the-light-cinema/
END:VEVENT
BEGIN:VEVENT
DTSTART;TZID=UTC:20241107T193000
DTEND;TZID=UTC:20241107T220000
DTSTAMP:20260422T153718
CREATED:20240501T100411Z
LAST-MODIFIED:20240501T100411Z
UID:2119-1731007800-1731016800@www.milsteadwithfrinstedwi.co.uk
SUMMARY:Hedgehogs - Audrey White
DESCRIPTION:
URL:http://www.milsteadwithfrinstedwi.co.uk/event/hedgehogs-audrey-white/
LOCATION:Milstead Village Hall\, Rawling Street\, Sittingbourne\, Kent\, ME9 0RU\, United Kingdom
END:VEVENT
BEGIN:VEVENT
DTSTART;TZID=UTC:20241109T080000
DTEND;TZID=UTC:20241109T170000
DTSTAMP:20260422T153718
CREATED:20240528T081843Z
LAST-MODIFIED:20241008T071707Z
UID:2161-1731139200-1731171600@www.milsteadwithfrinstedwi.co.uk
SUMMARY:Pottery Painting
DESCRIPTION:  \nPottery painting in Faversham at 11:00am. £5 plus the cost of whatever you choose to paint. Names to Angela please
URL:http://www.milsteadwithfrinstedwi.co.uk/event/pottery-painting/
LOCATION:Faversham
END:VEVENT
BEGIN:VEVENT
DTSTART;TZID=UTC:20241110T080000
DTEND;TZID=UTC:20241110T170000
DTSTAMP:20260422T153718
CREATED:20241008T071754Z
LAST-MODIFIED:20241008T071754Z
UID:2188-1731225600-1731258000@www.milsteadwithfrinstedwi.co.uk
SUMMARY:Rememberance sunday
DESCRIPTION:Linda Yates will be laying the wreath on Remembrance Sunday on behalf of the WI – at the war memorial in Milstead. \nTime tbc \nPlease support them if you are able to.
URL:http://www.milsteadwithfrinstedwi.co.uk/event/rememberance-sunday/
END:VEVENT
BEGIN:VEVENT
DTSTART;TZID=UTC:20241115T100000
DTEND;TZID=UTC:20241115T160000
DTSTAMP:20260422T153718
CREATED:20241008T071959Z
LAST-MODIFIED:20241008T071959Z
UID:2190-1731664800-1731686400@www.milsteadwithfrinstedwi.co.uk
SUMMARY:East Kent craft day - Chartham village hall
DESCRIPTION:A Craft Day at Chartham Village Hall from 10 am to 4 pm \nThe day costs £28 and there will be two sessions available \nDetails from East Kent Fed
URL:http://www.milsteadwithfrinstedwi.co.uk/event/east-kent-craft-day-chartham-village-hall/
END:VEVENT
BEGIN:VEVENT
DTSTART;TZID=UTC:20241116T100000
DTEND;TZID=UTC:20241116T170000
DTSTAMP:20260422T153718
CREATED:20241008T072051Z
LAST-MODIFIED:20241008T072051Z
UID:2192-1731751200-1731776400@www.milsteadwithfrinstedwi.co.uk
SUMMARY:Milstead village fair
DESCRIPTION:Milstead Christmas Fair from 10am – noon. Please support if possible.
URL:http://www.milsteadwithfrinstedwi.co.uk/event/milstead-village-fair/
LOCATION:Milstead Village Hall\, Rawling Street\, Sittingbourne\, Kent\, ME9 0RU\, United Kingdom
END:VEVENT
BEGIN:VEVENT
DTSTART;TZID=UTC:20241118T110000
DTEND;TZID=UTC:20241118T170000
DTSTAMP:20260422T153718
CREATED:20241111T080715Z
LAST-MODIFIED:20241111T080715Z
UID:2216-1731927600-1731949200@www.milsteadwithfrinstedwi.co.uk
SUMMARY:Coffee morning
DESCRIPTION:Coffee Morning at Rodmersham Coffee Shop -11:00 pm.\nPlease advise Claire if you would like to attend – text 07502\n370550 or email bellawoods53@gmail.com
URL:http://www.milsteadwithfrinstedwi.co.uk/event/coffee-morning-9/
LOCATION:Rodmersham coffee shop\, Rodmersham Green\, Sittingbourne\, ME9 0PL\, United Kingdom
END:VEVENT
BEGIN:VEVENT
DTSTART;TZID=UTC:20241120T190000
DTEND;TZID=UTC:20241120T190000
DTSTAMP:20260422T153718
CREATED:20241008T072151Z
LAST-MODIFIED:20241008T072151Z
UID:2194-1732129200-1732129200@www.milsteadwithfrinstedwi.co.uk
SUMMARY:Film night - The light cinema
DESCRIPTION:The WI Film Club will be going to see the Kiss Me Kate – which has just finished its run at The Barbican. \nMore info is available on the notice board \nPlease let Claire know if you would like to attend \nBellamedlar53@gmail.com \n07502 370550
URL:http://www.milsteadwithfrinstedwi.co.uk/event/film-night-the-light-cinema-2/
END:VEVENT
BEGIN:VEVENT
DTSTART;TZID=UTC:20241121T100000
DTEND;TZID=UTC:20241121T170000
DTSTAMP:20260422T153718
CREATED:20241111T080853Z
LAST-MODIFIED:20241111T080853Z
UID:2218-1732183200-1732208400@www.milsteadwithfrinstedwi.co.uk
SUMMARY:meeting Heather House
DESCRIPTION:Meeting at Heather House at 10am to support the Community\nSharewear event and take along socks and pants
URL:http://www.milsteadwithfrinstedwi.co.uk/event/meeting-heather-house/
END:VEVENT
BEGIN:VEVENT
DTSTART;TZID=UTC:20241121T190000
DTEND;TZID=UTC:20241121T223000
DTSTAMP:20260422T153718
CREATED:20240501T100457Z
LAST-MODIFIED:20240501T100904Z
UID:2121-1732215600-1732228200@www.milsteadwithfrinstedwi.co.uk
SUMMARY:102nd Birthday Party - Cameo Opera
DESCRIPTION:
URL:http://www.milsteadwithfrinstedwi.co.uk/event/102nd-birthday-party/
END:VEVENT
BEGIN:VEVENT
DTSTART;TZID=UTC:20241129T080000
DTEND;TZID=UTC:20241130T170000
DTSTAMP:20260422T153718
CREATED:20241111T081108Z
LAST-MODIFIED:20241111T081108Z
UID:2220-1732867200-1732986000@www.milsteadwithfrinstedwi.co.uk
SUMMARY:Christmas tree festival - St Michaels church
DESCRIPTION:Christmas Tree Festival at St Michael’s Sittingbourne –\nplease pop in to support the event and to admire the WI\nChristmas tree on show. Thank you to Sophia for organising\nthis.
URL:http://www.milsteadwithfrinstedwi.co.uk/event/christmas-tree-festival-st-michaels-church/
END:VEVENT
BEGIN:VEVENT
DTSTART;TZID=UTC:20241129T100000
DTEND;TZID=UTC:20241129T150000
DTSTAMP:20260422T153718
CREATED:20240528T081946Z
LAST-MODIFIED:20240528T081946Z
UID:2163-1732874400-1732892400@www.milsteadwithfrinstedwi.co.uk
SUMMARY:Mowtown at the Mecure Hotel
DESCRIPTION:Celebration of Motown at The Mercure Hotel (Great Danes) Hollingbourne 10:15 – 3:00pm
URL:http://www.milsteadwithfrinstedwi.co.uk/event/mowtown-at-the-mecure-hotel/
END:VEVENT
BEGIN:VEVENT
DTSTART;TZID=UTC:20241130T103000
DTEND;TZID=UTC:20241130T170000
DTSTAMP:20260422T153718
CREATED:20241111T081308Z
LAST-MODIFIED:20241111T081308Z
UID:2224-1732962600-1732986000@www.milsteadwithfrinstedwi.co.uk
SUMMARY:Silent March
DESCRIPTION:WI are attending a Silent March through Canterbury to protest\nagainst VAWG (Violence Against Women) at 10.45am .
URL:http://www.milsteadwithfrinstedwi.co.uk/event/silent-march/
END:VEVENT
BEGIN:VEVENT
DTSTART;TZID=UTC:20241130T140000
DTEND;TZID=UTC:20241130T160000
DTSTAMP:20260422T153718
CREATED:20241111T081221Z
LAST-MODIFIED:20241111T081221Z
UID:2222-1732975200-1732982400@www.milsteadwithfrinstedwi.co.uk
SUMMARY:Christmas wreath making
DESCRIPTION:Milstead Horticultural Society are hosting a Christmas Wreath\nMaking session from 2-4 pm. Places are available at £30 – all\nmaterials are supplied – although you may choose to bring\nextras.
URL:http://www.milsteadwithfrinstedwi.co.uk/event/christmas-wreath-making/
LOCATION:Milstead Village Hall\, Rawling Street\, Sittingbourne\, Kent\, ME9 0RU\, United Kingdom
END:VEVENT
END:VCALENDAR