BEGIN:VCALENDAR
VERSION:2.0
PRODID:-//Milstead With Frinsted WI - ECPv6.12.0//NONSGML v1.0//EN
CALSCALE:GREGORIAN
METHOD:PUBLISH
X-WR-CALNAME:Milstead With Frinsted WI
X-ORIGINAL-URL:http://www.milsteadwithfrinstedwi.co.uk
X-WR-CALDESC:Events for Milstead With Frinsted WI
REFRESH-INTERVAL;VALUE=DURATION:PT1H
X-Robots-Tag:noindex
X-PUBLISHED-TTL:PT1H
BEGIN:VTIMEZONE
TZID:UTC
BEGIN:STANDARD
TZOFFSETFROM:+0000
TZOFFSETTO:+0000
TZNAME:UTC
DTSTART:20250101T000000
END:STANDARD
END:VTIMEZONE
BEGIN:VEVENT
DTSTART;TZID=UTC:20250401T110000
DTEND;TZID=UTC:20250401T153000
DTSTAMP:20260419T224516
CREATED:20250227T101912Z
LAST-MODIFIED:20250227T101912Z
UID:2274-1743505200-1743521400@www.milsteadwithfrinstedwi.co.uk
SUMMARY:Trip to Aviation Museum - Sheppy
DESCRIPTION:Trip to the Aviation Museum on the Isle of Sheppey. Please\nadd your name to the list or let Angela know that you would like
URL:http://www.milsteadwithfrinstedwi.co.uk/event/trip-to-aviation-museum-sheppy/
END:VEVENT
BEGIN:VEVENT
DTSTART;TZID=UTC:20250403T193000
DTEND;TZID=UTC:20250403T220000
DTSTAMP:20260419T224516
CREATED:20240501T101953Z
LAST-MODIFIED:20240501T101953Z
UID:2133-1743708600-1743717600@www.milsteadwithfrinstedwi.co.uk
SUMMARY:Mercy ships - Jon Patch
DESCRIPTION:
URL:http://www.milsteadwithfrinstedwi.co.uk/event/mercy-ships-jon-patch/
LOCATION:Milstead Village Hall\, Rawling Street\, Sittingbourne\, Kent\, ME9 0RU\, United Kingdom
END:VEVENT
BEGIN:VEVENT
DTSTART;TZID=UTC:20250414T080000
DTEND;TZID=UTC:20250414T170000
DTSTAMP:20260419T224516
CREATED:20241008T072532Z
LAST-MODIFIED:20241111T081632Z
UID:2200-1744617600-1744650000@www.milsteadwithfrinstedwi.co.uk
SUMMARY:East Kent Fed AGM
DESCRIPTION:Two inspirational speakers have been booked:-\nGraham Jones – now retired but who was Senior Director of\nMusic at The Household Cavalry and\nAnnie Gray – a historian\, author\, broadcaster and consultant on\nthe history of food from 1600 – the present day.\nWe have 1 place left if you would like to come – pl let Angela\nknow if you would like to attend.
URL:http://www.milsteadwithfrinstedwi.co.uk/event/east-kent-fed-agm/
END:VEVENT
BEGIN:VEVENT
DTSTART;TZID=UTC:20250424T100000
DTEND;TZID=UTC:20250424T123000
DTSTAMP:20260419T224516
CREATED:20250227T102102Z
LAST-MODIFIED:20250227T102102Z
UID:2276-1745488800-1745497800@www.milsteadwithfrinstedwi.co.uk
SUMMARY:Resolution meeting
DESCRIPTION:Resolution Meeting – a reminder of the 4 resolutions being\ndiscussed – info on each in the emailed EK news\n● Managing Incontinence\n● The Repair Revolution – to repair clothes rather than buy\nnew ones. To note in support of this resolution BBC’s\nThe Sewing Bee’ Patrick Grant is giving a talk on this at\nThe Alexander Centre Faversham on Sunday 15 Dec at\n7:00pm.\n● Bystanders Can Be Lifesavers\n● Recycling blister packs
URL:http://www.milsteadwithfrinstedwi.co.uk/event/resolution-meeting-4/
END:VEVENT
BEGIN:VEVENT
DTSTART;TZID=UTC:20250429T100000
DTEND;TZID=UTC:20250429T170000
DTSTAMP:20260419T224516
CREATED:20250227T102204Z
LAST-MODIFIED:20250227T102204Z
UID:2278-1745920800-1745946000@www.milsteadwithfrinstedwi.co.uk
SUMMARY:Circular walk
DESCRIPTION:Circular Walk – if interested\, pl meet at the village square in\nChilham near the castle gates for a 5 mile circular walk.
URL:http://www.milsteadwithfrinstedwi.co.uk/event/circular-walk/
END:VEVENT
END:VCALENDAR