BEGIN:VCALENDAR
VERSION:2.0
PRODID:-//Milstead With Frinsted WI - ECPv6.12.0//NONSGML v1.0//EN
CALSCALE:GREGORIAN
METHOD:PUBLISH
X-WR-CALNAME:Milstead With Frinsted WI
X-ORIGINAL-URL:http://www.milsteadwithfrinstedwi.co.uk
X-WR-CALDESC:Events for Milstead With Frinsted WI
REFRESH-INTERVAL;VALUE=DURATION:PT1H
X-Robots-Tag:noindex
X-PUBLISHED-TTL:PT1H
BEGIN:VTIMEZONE
TZID:UTC
BEGIN:STANDARD
TZOFFSETFROM:+0000
TZOFFSETTO:+0000
TZNAME:UTC
DTSTART:20250101T000000
END:STANDARD
END:VTIMEZONE
BEGIN:VEVENT
DTSTART;TZID=UTC:20250905T113000
DTEND;TZID=UTC:20250905T143000
DTSTAMP:20260419T134147
CREATED:20250514T125053Z
LAST-MODIFIED:20250626T102525Z
UID:2334-1757071800-1757082600@www.milsteadwithfrinstedwi.co.uk
SUMMARY:Tour of the Marlowe Theatre
DESCRIPTION:A tour of The Marlowe Theatre. Cost of tour to include tea and cake is \n£18 for non Marlowe members and £13.50 for members
URL:http://www.milsteadwithfrinstedwi.co.uk/event/proposed-tour-of-the-marlowe-theatre/
LOCATION:Marlowe Theatre\, The Friars\, Canterbury\, Kent\, CT1 2AS\, United Kingdom
END:VEVENT
BEGIN:VEVENT
DTSTART;TZID=UTC:20250920T080000
DTEND;TZID=UTC:20250920T170000
DTSTAMP:20260419T134147
CREATED:20250408T141514Z
LAST-MODIFIED:20250408T141514Z
UID:2315-1758355200-1758387600@www.milsteadwithfrinstedwi.co.uk
SUMMARY:Lunch club
DESCRIPTION:Details to follow
URL:http://www.milsteadwithfrinstedwi.co.uk/event/lunch-club-4/
END:VEVENT
BEGIN:VEVENT
DTSTART;TZID=UTC:20250920T120000
DTEND;TZID=UTC:20250920T140000
DTSTAMP:20260419T134147
CREATED:20241209T142815Z
LAST-MODIFIED:20250912T093309Z
UID:2261-1758369600-1758376800@www.milsteadwithfrinstedwi.co.uk
SUMMARY:Lunch club
DESCRIPTION:Red Lion – Milstead – 1pm \n  \nLet Sophoa know if you are going \n 
URL:http://www.milsteadwithfrinstedwi.co.uk/event/lunch-club-3/
END:VEVENT
BEGIN:VEVENT
DTSTART;TZID=UTC:20250922T133000
DTEND;TZID=UTC:20250922T163000
DTSTAMP:20260419T134147
CREATED:20250626T102721Z
LAST-MODIFIED:20250626T102721Z
UID:2345-1758547800-1758558600@www.milsteadwithfrinstedwi.co.uk
SUMMARY:Top team quiz
DESCRIPTION:A team is needed for The Top Team Quiz at Ashford Road Community Centre\, CT1 3XR). Please give names to Angela
URL:http://www.milsteadwithfrinstedwi.co.uk/event/top-team-quiz-4/
END:VEVENT
BEGIN:VEVENT
DTSTART;TZID=UTC:20250926T143000
DTEND;TZID=UTC:20250926T160000
DTSTAMP:20260419T134147
CREATED:20250912T093528Z
LAST-MODIFIED:20250912T093528Z
UID:2369-1758897000-1758902400@www.milsteadwithfrinstedwi.co.uk
SUMMARY:Coffee morning - Sentado lounge
DESCRIPTION:2.30pm – let Sophia know if you are going
URL:http://www.milsteadwithfrinstedwi.co.uk/event/coffee-morning-sentado-lounge/
END:VEVENT
END:VCALENDAR